BEGIN:VCALENDAR
VERSION:2.0
PRODID:-//https://fadeu-old.urantiacos.cl///NONSGML kigkonsult.se iCalcreator 2.10.15//
METHOD:PUBLISH
BEGIN:VEVENT
UID:20260419T150057UTC-9565vH8mUz@https://fadeu-old.urantiacos.cl/
DTSTAMP:20260419T150057Z
DESCRIPTION:El libro del profesor Hugo Mondrag&oacute\;n 'Providencia Moder
 na 1930-1970. Edificios de vivienda de peque&ntilde\;o y mediano formato' 
 se presentar&aacute\; el jueves 16 de enero a las 13:00 horas en el Centro
  de Artesan&iacute\;a Nacional Montecarmelo de Providencia. En la ocasi&oa
 cute\;n\, la obra ser&aacute\; presentada por&nbsp\;Jos&eacute\; Rosas y A
 ndrea Rojas.\nInscripciones aqu&iacute\;.&nbsp\;\n https://fadeu-old.urant
 iacos.cl/agenda/evento/2073-lanzamiento-libro-providencia-moderna-1930-197
 0-edificios-de-vivienda-de-pequeno-y-mediano-formato
DTSTART:20200116T160000Z
DTEND:20200116T170000Z
LOCATION:Centro de Artesanía Nacional Montecarmelo de Providencia (Av. Bell
 avista 0594)
SUMMARY:Lanzamiento libro: 'Providencia moderna 1930-1970. Edificios de viv
 ienda de pequeño y mediano formato'.
URL:https://fadeu-old.urantiacos.cl/agenda/evento/2073-lanzamiento-libro-pr
 ovidencia-moderna-1930-1970-edificios-de-vivienda-de-pequeno-y-mediano-for
 mato
END:VEVENT
BEGIN:VEVENT
UID:20260419T150057UTC-9570LW9J2p@https://fadeu-old.urantiacos.cl/
DTSTAMP:20260419T150057Z
DESCRIPTION:Tenemos el agrado de invitarlo/a al CONVERSATORIO | Participaci
 &oacute\;n ciudadana\, territorios y proceso constituyente a realizarse el
  d&iacute\;a jueves 16 de enero de 9:30 a 14:00 hrs. en el Sal&oacute\;n S
 ergio Larra&iacute\;n\, Campus Lo Contador UC. El Comendador 1916\, Provid
 encia.\nInscr&iacute\;bete aqu&iacute\;\nPROGRAMA\n9:30 &ndash\; MESA 1Par
 ticipaci&oacute\;n en los territorios ayer y hoy: &iquest\;qu&eacute\; cam
 bi&oacute\; el 18/10?\nParticipanCabildos autoconvocados de Maip&uacute\;C
 iudad EmergenteEsquina de la dignidadJJVV Villa FreiModera: Caroline Stamm
 \, IEUT-PUC\n12:00 &ndash\; MESA 2Proceso constituyente y participaci&oacu
 te\;n ciudadana: &iquest\;c&oacute\;mo incorporar a los territorios en el 
 proceso constitucional?\nParticipanAsociaci&oacute\;n chilena de barrios y
  zonas patrimonialesComunidad de Historia MapucheGe&oacute\;grafas Chile\n
 Modera: Francisco Soto\, Universidad de Chile\n&nbsp\;\n https://fadeu-old
 .urantiacos.cl/agenda/evento/2085-conversatorio-participacion-ciudadana-te
 rritorios-y-proceso-constituyente
DTSTART:20200116T123000Z
DTEND:20200116T170000Z
LOCATION:Salón Sergio Larraín\, Campus Lo Contador ()
SUMMARY:CONVERSATORIO | Participación ciudadana\, territorios y proceso con
 stituyente
URL:https://fadeu-old.urantiacos.cl/agenda/evento/2085-conversatorio-partic
 ipacion-ciudadana-territorios-y-proceso-constituyente
END:VEVENT
BEGIN:VEVENT
UID:20260419T150057UTC-9575va3vJz@https://fadeu-old.urantiacos.cl/
DTSTAMP:20260419T150057Z
DESCRIPTION:En este workshop se discutir&aacute\;n los primeros hallazgos d
 el proyecto identidades algor&iacute\;tmicas desarrollado entre acad&eacut
 e\;micos del Centre of Interdisciplinary Methods (CIM) de la Universidad d
 e Warwick y la Pontificia Universidad Cat&oacute\;lica de Chile. En el mar
 co de una intervenci&oacute\;n en dise&ntilde\;o experimental\, orientado 
 a la creaci&oacute\;n de una app (denominada Big Sister) y posterior entre
 vistas con usuarios voluntarios en Chile y Reino Unido\, esta investigaci&
 oacute\;n en curso analiza c&oacute\;mo las personas reaccionan y tematiza
 n la extracci&oacute\;n de datos digitales y las inferencias que los algor
 itmos realizan sobre sus vidas.\n&nbsp\;\nEn el workshop\, y con la presen
 cia de investigadores de diferentes campos disciplinares vinculados cultur
 a digital nacional e internacional\, se reflexionar&aacute\; en torno a la
 s conceptualizaciones\, metodolog&iacute\;as y dise&ntilde\;os involucrado
 s en los procesos de perfilamiento y recomendaci&oacute\;n algor&iacute\;t
 mica. En este debate abierto\, situado en el entrecruce entre computaci&oa
 cute\;n\, dise&ntilde\;o\, sociolog&iacute\;a\, filosof&iacute\;a\, arte y
  activismo\, esperamos avanzar hacia nuevas comprensiones sobre c&oacute\;
 mo se construye y escenifica las personas en un mundo crecientemente digit
 alizado.\n\n\nFecha: Jueves 14 de enero de 2020\nHora: 15.30 &ndash\; 18h
 \nLugar: Salon Sergio Larra&iacute\;n\, Campus Lo Contador\, El Comendador
  1916\, Providencia.\n\n\n https://fadeu-old.urantiacos.cl/agenda/evento/2
 077-workshop-identidades-algoritmicas-disenos-experiencias-y-afectos-ante-
 el-extractivismo-de-datos-digitales
DTSTART:20200114T183000Z
DTEND:20200114T210000Z
LOCATION:Salón Sergio Larraín\, Campus Lo Contador ()
SUMMARY:Workshop Identidades Algorítmicas Diseños\, experiencias y afectos 
 ante el extractivismo de datos digitales
URL:https://fadeu-old.urantiacos.cl/agenda/evento/2077-workshop-identidades
 -algoritmicas-disenos-experiencias-y-afectos-ante-el-extractivismo-de-dato
 s-digitales
END:VEVENT
END:VCALENDAR
