BEGIN:VCALENDAR
VERSION:2.0
PRODID:-//https://fadeu-old.urantiacos.cl///NONSGML kigkonsult.se iCalcreator 2.10.15//
METHOD:PUBLISH
BEGIN:VEVENT
UID:20260421T050532UTC-3731GKJm1L@https://fadeu-old.urantiacos.cl/
DTSTAMP:20260421T050532Z
DESCRIPTION:Este 18 de enero te invitamos la primera versi&oacute\;n de 'At
 elierUC'\, un evento destinado a promover el trabajo de dise&ntilde\;adore
 s egresados de la Escuela de Dise&ntilde\;o UC enfocados en el dise&ntilde
 \;o de indumentaria y accesorios.\nEsta instancia invita a todo tipo de p&
 uacute\;blico a ser parte de un desfile con prendas de dise&ntilde\;o de a
 utor realizadas por Manuela Villanueva\, Luz Mar&iacute\;a Hurtado y Mario
  Vega quienes muestran sus colecciones realizadas como proyecto de t&iacut
 e\;tulo\, y Manola Toro mostrando su trabajo en joyer&iacute\;a (www.maria
 manola.com).\nEl evento finalizar&aacute\; con un showroom donde se podr&a
 acute\;n adquirir todas las piezas\, disfrutando de buena m&uacute\;sica y
  la presencia de nuestros auspiciadores.\nLugar: Sala Capilla\, Campus Lo 
 Contador\, Universidad Cat&oacute\;lica de Chile. El Comendador 1916\, Pro
 videncia.Hora de inicio: 20.00 hrs.Entrada liberada.\n&nbsp\;\n\n&nbsp\;\n
  https://fadeu-old.urantiacos.cl/agenda/evento/1440-atelieruc
DTSTART:20180118T230000Z
DTEND:20180119T000000Z
LOCATION:Sala La Capilla\, campus Lo Contador (El Comendador 1916\, Provide
 ncia\, Región Metropolitana\, Chile)
SUMMARY:AtelierUC
URL:https://fadeu-old.urantiacos.cl/agenda/evento/1440-atelieruc
END:VEVENT
BEGIN:VEVENT
UID:20260421T050532UTC-3735FDhEst@https://fadeu-old.urantiacos.cl/
DTSTAMP:20260421T050532Z
DESCRIPTION:El 18 de enero se realizar&aacute\; en la casona de la Facultad
  de Arquitectura\, Dise&ntilde\;o y Estudios Urbanos UC la exhibici&oacute
 \;n ''Arquitectura en Lugares Especiales'' Patrocinada por la Embajada de 
 La Rep&uacute\;blica Federal de Alemania y la Liga Chileno - Alemana\, que
  mostrar&aacute\; una selecci&oacute\;n de obras y proyectos a cargo de Fr
 anco Stella\, Max Dudler\, Volker Staab\, Arno Lederer\, Michael Schumache
 r\, Stefan Marte\, Manhardt von Gerkan &amp\; Volkwing Marg\, Gesine Weinm
 iller\, Regine Leibinger\, Daniel Libeskind\, Stefan Behnisch\, Nathalie d
 e Vries\, Peter &amp\; Gottfried B&ouml\;hm y Christoph Ingenhoven.\nEl ev
 ento ser&aacute\; gratuito previa inscripci&oacute\;n a lvillarr@uc.cl. Cu
 pos limitados\nFecha_Jueves 18 de enero de 2018\, 18.30 hrs.\nLugar_Patio 
 de Los Naranjos. El Comendador 1916. Providencia.\nOrganiza_Escuela de Arq
 uitectura UC Pontificia Universidad Cat&oacute\;lica de ChileHeidelberg Ce
 nter para Am&eacute\;rica LatinaHeidelberg SchlossgespraechBaden-W&uuml\;r
 ttemberg Vermoegen und Bau Amt Mannheim und Heidelberg\nPatrocinan_Embajad
 a de La Rep&uacute\;blica Federal de Alemania en Santiago de ChileLiga Chi
 leno - Alemana\nAuspician_Hotel Cumbres LastarriaDrei Consulting\n&nbsp\;
 \n https://fadeu-old.urantiacos.cl/agenda/evento/1436-exposicion-arquitect
 ura-en-lugares-especiales
DTSTART:20180118T213000Z
DTEND:20180118T223000Z
LOCATION:Patio Los Naranjos\, Lo Contador (El Comendador 1916\, Providencia
 \, Región Metropolitana\, Chile)
SUMMARY:Exposición ''Arquitectura en lugares especiales''
URL:https://fadeu-old.urantiacos.cl/agenda/evento/1436-exposicion-arquitect
 ura-en-lugares-especiales
END:VEVENT
BEGIN:VEVENT
UID:20260421T050532UTC-3741ZO9czA@https://fadeu-old.urantiacos.cl/
DTSTAMP:20260421T050532Z
DESCRIPTION:CEDEUS y el Fondecyt Acceso-Barrio\, organizan este encuentro q
 ue reunir&aacute\; por primera vez a investigadores y profesionales en tem
 as de caminabilidad.\nExpone: Jim Walker\, director de la organizaci&oacut
 e\;n mundial &ldquo\;Walk21&rdquo\;.Invitados: &ndash\; V&iacute\;ctor Cru
 z y Nicolas Grand&oacute\;n\, Unidad de Ciudades Inteligentes MTT&ndash\; 
 Rodrigo Mora\, acad&eacute\;mico UDP e investigador CEDEUS&ndash\; Stefan 
 Steiniger\, profesional CEDEUS\nCupos limitados.Inscripciones aqu&iacute\;
 . https://fadeu-old.urantiacos.cl/agenda/evento/1435-seminario-hacia-ciuda
 des-chilenas-caminables-investigacion-y-practica
DTSTART:20180118T124500Z
DTEND:20180118T134500Z
LOCATION:Auditorio Fernando Castillo Velasco. Edificio ARQ (El Comendador 1
 936\, Providencia\, Región Metropolitana\, Chile)
SUMMARY:Seminario 'Hacia ciudades chilenas caminables - investigación y prá
 ctica”
URL:https://fadeu-old.urantiacos.cl/agenda/evento/1435-seminario-hacia-ciud
 ades-chilenas-caminables-investigacion-y-practica
END:VEVENT
BEGIN:VEVENT
UID:20260421T050532UTC-3744TVIlAr@https://fadeu-old.urantiacos.cl/
DTSTAMP:20260421T050532Z
DESCRIPTION:El &Aacute\;rea de Investigaci&oacute\;n y la Direcci&oacute\;n
  de la Escuela de Dise&ntilde\;o UC invita a sus docentes y estudiantes de
  pregrado y mag&iacute\;ster a participar del Segundo Encuentro de Investi
 gaci&oacute\;n y Proyectos DNO UC\, instancia que busca fortalecer el perf
 il investigador de la EscuelaEl encuentro permitir&aacute\; difundir dentr
 o de nuestra propia comunidad\, el desarrollo de la investigaci&oacute\;n 
 en los &uacute\;ltimos dos a&ntilde\;os\, validando el rol que la Escuela 
 de Dise&ntilde\;o UC otorga a la investigaci&oacute\;n\, tanto a nivel aca
 d&eacute\;mico como profesional. Esperamos tambi&eacute\;n aportar\, sigui
 endo la tendencia trazada por la UC\, a la vinculaci&oacute\;n de los alum
 nos de pregrado con la investigaci&oacute\;n y el trabajo profesional que 
 realizan sus profesores.\n\n\n\n\n&nbsp\; https://fadeu-old.urantiacos.cl/
 agenda/evento/1431-segundo-encuentro-de-investigacion-y-proyectos-dno-uc
DTSTART:20180118T123000Z
DTEND:20180119T123000Z
LOCATION:Salón Sergio Larraín\, Campus Lo Contador ()
SUMMARY:Segundo Encuentro de Investigación y Proyectos DNO UC
URL:https://fadeu-old.urantiacos.cl/agenda/evento/1431-segundo-encuentro-de
 -investigacion-y-proyectos-dno-uc
END:VEVENT
END:VCALENDAR
