BEGIN:VCALENDAR
VERSION:2.0
PRODID:-//https://fadeu-old.urantiacos.cl///NONSGML kigkonsult.se iCalcreator 2.10.15//
METHOD:PUBLISH
BEGIN:VEVENT
UID:20260419T150058UTC-0771AvtRWi@https://fadeu-old.urantiacos.cl/
DTSTAMP:20260419T150058Z
DESCRIPTION:Los invitamos cordialmente a la ceremonia de lanzamiento del li
 bro 'Dibujo y Observaci&oacute\;n. Una Pr&aacute\;ctica&nbsp\; persistente
  en Alberto Cruz'\, editado por Germ&aacute\;n Hidalgo. Comentar&aacute\;n
  Juan Jos&eacute\; Ugarte e Ignacio Villegas.\nEsta actividad se realizar&
 aacute\; el jueves 23 de enero\, a las 19:00 horas\,&nbsp\; en Lo Matta Cu
 ltural - sala principal primer piso (Av. Presidente Kennedy 9350\, Las Con
 des).\n&nbsp\;\n\n&nbsp\;\n https://fadeu-old.urantiacos.cl/agenda/evento/
 2087-lanzamiento-dibujo-y-observacion-una-practica-persistente-en-alberto-
 cruz
DTSTART:20200123T220000Z
DTEND:20200123T230000Z
LOCATION:Lo Matta Cultural (Av. Presidente Kennedy 9350)
SUMMARY:Lanzamiento 'Dibujo y observación. Una práctica persistente en Albe
 rto Cruz'
URL:https://fadeu-old.urantiacos.cl/agenda/evento/2087-lanzamiento-dibujo-y
 -observacion-una-practica-persistente-en-alberto-cruz
END:VEVENT
BEGIN:VEVENT
UID:20260419T150058UTC-0776VIZ6JG@https://fadeu-old.urantiacos.cl/
DTSTAMP:20260419T150058Z
DESCRIPTION:Chile enfrenta una nueva d&eacute\;cada de cambios trascendenta
 les. Desde el Dise&ntilde\;o\, una serie de iniciativas plantean una mirad
 a sist&eacute\;mica que apunta a modelos centrados en las personas. Este e
 ncuentro reflexiona\, a trav&eacute\;s de casos y buenas pr&aacute\;cticas
  de innovaci&oacute\;n\, sobre una sociedad con perspectiva de futuro.\nIN
 NOVACI&Oacute\;N+DISE&Ntilde\;O&nbsp\;es un ciclo de actividades que tiene
 n como tem&aacute\;tica central el cruce de la innovaci&oacute\;n con el d
 ise&ntilde\;o. Estas actividades exhibir&aacute\;n el dise&ntilde\;o como 
 una herramienta para detectar e innovar en problemas de sostenibilidad\, e
 n distintas aristas.\nEste&nbsp\;encuentro busca relevar buenas pr&aacute\
 ;cticas de innovaci&oacute\;n en torno a la innovaci&oacute\;n\, generando
  espacios de encuentro para el ecosistema nacional.\n\nPROGRAMA\n\n\n22 DE
  ENERO DE 2020\n\n\n\n\n8:30 AM &mdash\; 9:00 AMAcreditaci&oacute\;n\n\n\n
 \n\n\n\n9:00 AM &mdash\; 10:00 AMPresentaci&oacute\;n Laboratorio de Innov
 aci&oacute\;n P&uacute\;blica\n\n\nIniciativa interdisciplinaria que busca
  mejorar la calidad de los servicios que las organizaciones p&uacute\;blic
 as ofrecen a la ciudadan&iacute\;a.\n\n\n\n\n\n\n10:00 AM &mdash\; 11:00 A
 MPresentaci&oacute\;n Ciudad Emergente\n\n\nLaboratorio de t&aacute\;ctica
 s y herramientas para dise&ntilde\;ar y ejecutar acciones para generar cam
 bios de alto impacto en las ciudades.\n\n\n\n\n\n\n11:00 AM &mdash\; 11:30
  AMCoffee break\n\n\n\n\n\n\n11:30 AM &mdash\; 1:00 PMPanel &ldquo\;Sosten
 ibilidad y emprendimiento&rdquo\;\n\n\nParticipan:&ndash\; Munani&ndash\; 
 Wheel the world&ndash\; SoluBag\n\n\n\n\n\n\n2:00 PM &mdash\; 5:00 PMTalle
 r TriCiclos\n\n\n\n\n23 DE ENERO DE 2020\n\n\n\n\n8:30 AM &mdash\; 9:00 AM
 Registro\n\n\n\n\n\n\n9:00 AM &mdash\; 10:00 AMPresentaci&oacute\;n Labora
 torio de Gobierno\n\n\nIniciativa interministerial del Gobierno de Chile\,
  que desarrolla\, facilita y promueve procesos de innovaci&oacute\;n centr
 ados en los usuarios de las instituciones p&uacute\;blicas.\n\n\n\n\n\n\n1
 0:00 AM &mdash\; 11:00 AMPresentaci&oacute\;n Laboratoria\n\n\nStartup ded
 icada a impulsar una econom&iacute\;a digital diversa\, inclusiva y compet
 itiva para Latinoam&eacute\;rica\, especializada en la formaci&oacute\;n d
 e mujeres.\n\n\n\n\n\n\n11:00 AM &mdash\; 11:30 AMCoffee break\n\n11:30 AM
  &mdash\; 1:00 PMPanel &ldquo\;Futuro y Dise&ntilde\;o&rdquo\;\n\n\n\n\n\n
 Participan:&ndash\; Escuela de Dise&ntilde\;o UC&ndash\; Yuken\, Impact Re
 search Lab&ndash\; Consejo Nacional de Innovaci&oacute\;n para el Desarrol
 lo (CNID)\n\n\n\n\n\n\n2:00 PM &mdash\; 5:00 PMTaller Balloon Latam\n&nbsp
 \;\n\n\n\n https://fadeu-old.urantiacos.cl/agenda/evento/2079-ciclo-innova
 cion-diseno
DTSTART:20200122T030000Z
LOCATION:Auditorio FADEU\, Campus Lo Contador PUC (El Comendador 1916\, Pro
 videncia\, Providencia\, Región Metropolitana\, Chile)
SUMMARY:Ciclo Innovación + Diseño 
URL:https://fadeu-old.urantiacos.cl/agenda/evento/2079-ciclo-innovacion-dis
 eno
END:VEVENT
BEGIN:VEVENT
UID:20260419T150058UTC-0785Uipmwk@https://fadeu-old.urantiacos.cl/
DTSTAMP:20260419T150058Z
DESCRIPTION:La &ldquo\;46 Muestra Internacional Artesan&iacute\;a UC\, a tu
  mesa &rdquo\;\, organizada por el Programade Artesan&iacute\;a de la&nbsp
 \; Escuela de Dise&ntilde\;o de la Pontificia Universidad Cat&oacute\;lica
 \, se realizar&aacute\;desde el 20 hasta el 26 de enero en el Parque Arauc
 ano\, de Las Condes.\nEn esta oportunidad en que cumplimos 46 a&ntilde\;os
  de encuentro se re&uacute\;nen -en esta ocasi&oacute\;n- a m&aacute\;s de
  80 artesanas y artesanos nacionales que exhibir&aacute\;n lo m&aacute\;s 
 valioso de su trabajo\, representando a sus territorios\, comunidades y mo
 dos de vida.En esta ocasi&oacute\;n se aborda como tema central las cocina
 s chilenas\, es decir formas depreparaci&oacute\;n y de transformaci&oacut
 e\;n de los alimentos vinculadas a tradiciones que pueden ser ind&iacute\;
 genas\, enriquecidas por el aporte espa&ntilde\;ol que arrib&oacute\; con 
 la conquista o con influencias posteriores como la alemana o la francesa\;
  que para su realizaci&oacute\;n utilizan materias primas ligadas a esas t
 radiciones y territorios y en las que se puede reconocer el uso de utensil
 ios artesanales.\nEn forma complementaria se realizan interesantes activid
 ades culturales comopresentaciones musicales\, talleres con artesanos\, co
 ntrapuntos de oficios\, visitas guiadas y un entretenido espacio de juegos
  tradicionales.\nEl evento cuenta con el importante apoyo de la Municipali
 dad de Las Condes a trav&eacute\;s de la Corporaci&oacute\;n Cultural\, el
  Ministerio de las Culturas\, las Artes y el Patrimonio e Indap\, generoso
  compromiso que permite la realizaci&oacute\;n de este valioso encuentro c
 on la artesan&iacute\;a tradicional.\nD&oacute\;nde: Parque Araucano\, Las
  Condes.Cu&aacute\;ndo: 20 al 26 de enero de 2020. (20 inauguraci&oacute\;
 n. 21 abierta a p&uacute\;blico).Valor de la entrada: $4000 general\, $300
 0 estudiantes\, tercera edad\, vecinos de Las Condes y funcionarios de la 
 UC.Horario: 11:00 hrs 20:00 hrs.\n&nbsp\;\n https://fadeu-old.urantiacos.c
 l/agenda/evento/2081-46-muestra-artesania-uc-a-tu-mesa
DTSTART:20200120T030000Z
LOCATION:Parque Araucano\, Av. Pdte. Kennedy Lateral 4777\, Las Condes (Av.
  Pdte. Kennedy Lateral 4777\, Las Condes\, Región Metropolitana\, Chile)
SUMMARY:46 Muestra Artesanía UC a tu mesa
URL:https://fadeu-old.urantiacos.cl/agenda/evento/2081-46-muestra-artesania
 -uc-a-tu-mesa
END:VEVENT
END:VCALENDAR
