BEGIN:VCALENDAR
VERSION:2.0
PRODID:-//https://fadeu-old.urantiacos.cl///NONSGML kigkonsult.se iCalcreator 2.10.15//
METHOD:PUBLISH
BEGIN:VEVENT
UID:20260423T201519UTC-9251RUeVRL@https://fadeu-old.urantiacos.cl/
DTSTAMP:20260423T201519Z
DESCRIPTION:Conferencias Inaugurales Arquitectura UC\nAl inicio de cada sem
 estre\, profesores de la Escuela de Arquitectura UC realizan una serie cla
 ses magistrales que inauguran el semestre académico de cada uno de los cic
 los de talleres de nuestra carrera. Para el 1° semestre de 2017 la confere
 ncia de Talleres de Investigación será realizada por:\nWren StrabucchiArqu
 itecto PUC\, 1985. Ph. Doctor en Filosofía e Historia de la Arquitectura\,
  Cambridge University\, Inglaterra\, 2001. Docente de Taller de Formación 
 e Investigación en la etapa de eregrado e investigador de la Escuela de Ar
 quitectura UC. Ha publicado ensayos y artículos en las revistas ARS\, CA y
  ARQ\, entre otras. Fue editor del libro 1984-1994 Cien Años de Arquitectu
 ra en la Pontificia Universidad Católica de Chile\, Editorial ARQ\, 1994.
 \nInvitanEscuela Arquitectura UC\n&nbsp\;\n\n\n https://fadeu-old.urantiac
 os.cl/agenda/evento/757-conferencia-wren-strabucchi
DTSTART:20170303T170000Z
DTEND:20170303T183000Z
LOCATION:Auditorio Arquitectura UC\, Campus Lo Contador (el comendador 1916
 \, providencia)
SUMMARY:Conferencia Wren Strabucchi
URL:https://fadeu-old.urantiacos.cl/agenda/evento/757-conferencia-wren-stra
 bucchi
END:VEVENT
BEGIN:VEVENT
UID:20260423T201519UTC-925601hOv7@https://fadeu-old.urantiacos.cl/
DTSTAMP:20260423T201519Z
DESCRIPTION:Conferencias Inaugurales Arquitectura UC\nAl inicio de cada sem
 estre\, profesores e invitados de la Escuela de Arquitectura UC realizan u
 na serie clases magistrales que inauguran el semestre académico de cada un
 o de los ciclos de nuestra carrera. Para el 1° semestre de 2017 la confere
 ncia del Magister en Proyecto Urbano será realizada por:\nNick TylerProfes
 or de Ingeniería Civil en University College LondonPhD Transport Planning\
 , University College London (1992)\nInvitanEscuela Arquitectura UCMagister
  en Proyecto Urbano https://fadeu-old.urantiacos.cl/agenda/evento/763-conf
 erencia-nick-tyler
DTSTART:20170303T130000Z
DTEND:20170303T143000Z
LOCATION:Auditorio Arquitectura UC\, Campus Lo Contador (el comendador 1916
 \, providencia)
SUMMARY:Conferencia Nick Tyler
URL:https://fadeu-old.urantiacos.cl/agenda/evento/763-conferencia-nick-tyle
 r
END:VEVENT
BEGIN:VEVENT
UID:20260423T201519UTC-9260UHfoF9@https://fadeu-old.urantiacos.cl/
DTSTAMP:20260423T201519Z
DESCRIPTION:AA Easter RisingArchitectural Association Visiting School en Is
 la de Pascua – Julio 2017\nEn 2017 la Escuela Visitante de la Architectura
 l Association en Chile tiene como objetivo estudiar desde una perspectiva 
 arquitectónica\, urbana y territorial\, una serie de infraestructuras que 
 desde la década de 1960 se han instalado en Rapa Nui (Isla de Pascua)\, da
 da su ubicación estratégica en el Océano Pacífico sur. Dichas infraestruct
 uras comprenden equipos de seguimiento satelital\, herramientas sismológic
 as\, GPS e instrumentos radio-nucleares de detección\, las cuales delinear
 on proyectos tecnológicos globales al interior de la isla. En particular\,
  el workshop centrará su atención en la base NASA (hoy abandonada)\, y en 
 el Aeropuerto Mataveri: la pista de aterrizaje más remota del mundo. Esta 
 fue construida por los Estados Unidos en la década del sesenta y fue poste
 riormente ampliada por la NASA a principio de los años ochenta para conver
 tirla en punto de aterrizaje de emergencia de transbordadores espaciales. 
 En oposición a las asociaciones habituales de aislamiento\, la isla fue un
  lugar estratégico en el establecimiento de redes tecnológicas de escala g
 lobal.\nJunto con apreciar la extraordinaria historia natural y cultural d
 el lugar\, el workshop explorará su rol dentro de las redes de la Guerra F
 ría\, asociadas a preocupaciones geopolíticas propias de la ‘carrera espac
 ial’. De este modo\, se documentarán estas infraestructuras para concebir 
 proyectos que apelen a una idea de arqueología de la técnica. Como problem
 a de diseño\, el taller reflexionará sobre la extensión de la pista de Rap
 a Nui\, sus alcances políticos e ideológicos\, junto con su repercusión en
  la industria del turismo. Discutiremos la relevancia actual de estas rede
 s dentro de proyectos de monitoreo remoto que hoy en día cobran importanci
 a debido al calentamiento global y el impacto de las corrientes oceánicas 
 sobre el patrimonio arqueológico de la isla. Nos interesa ampliar la refle
 xión sobre cómo\, paradójicamente\, intervenciones aparentemente menores -
  como la simple ampliación del hormigón y asfalto de una pista de aterriza
 je – pueden producir una ‘ampliación’ sustantiva en la conectividad de las
  redes de infraestructuras tecnológicas y arquitectónicas\, para incluso p
 ermitir el aterrizaje de naves espaciales. Se trata de detonar la explorac
 ión de proyectos similares\, que pongan en tensión la simplicidad de la in
 tervención y con repercusiones de alto impacto.\nEl workshop es organizado
  por la Architectural Association School of Architecture\, en colaboración
  con el Museo de Antropología P. Sebastián Englert y la Escuela de Arquite
 ctura de la Pontificia Universidad Católica de Chile. Será impartido por p
 rofesores de la AA y la PUC\, quienes dictarán conferencias y seminarios e
 n el marco del taller. Este workshop de diez días estará abierto a estudia
 ntes\, recién egresados\, jóvenes diseñadores y arquitectos\, así como a p
 rofesionales de todo el mundo interesados ​​en la exploración de formas al
 ternativas de práctica disciplinar\nProfesoresPedro Ignacio Alonso / Heter
 eki Huke / Philipp Meuser / Asif Siddiqi / Hugo Palmarola\n+ Más informaci
 ón en www.aaeasterrising.org\nPostulaciónEl proceso de postulaciones para 
 esta 5° versión de la AA Visiting School en Chile se encuentra abierto has
 ta el 3 de Marzo. Más información sobre cómo postular aquí\nInvitanThe Arc
 hitectural Association School of ArchitectureMuseo Antropológico P. Sebast
 ián EnglertEscuela de Arquitectura UC\n&nbsp\;\n&nbsp\; https://fadeu-old.
 urantiacos.cl/agenda/evento/699-cierre-inscripcion-workshop-aa-visiting-sc
 hool-easter-rising
DTSTART:20170303T030000Z
LOCATION:Campus Lo Contador (El Comendador 1916\, Providencia\, Providencia
 \, Región Metropolitana\, Chile)
SUMMARY:Cierre inscripción Workshop: AA Visiting School Easter Rising
URL:https://fadeu-old.urantiacos.cl/agenda/evento/699-cierre-inscripcion-wo
 rkshop-aa-visiting-school-easter-rising
END:VEVENT
BEGIN:VEVENT
UID:20260423T201519UTC-9270e0cssx@https://fadeu-old.urantiacos.cl/
DTSTAMP:20260423T201519Z
DESCRIPTION:Conferencias Inaugurales Arquitectura UC\nAl inicio de cada sem
 estre\, profesores de la Escuela de Arquitectura UC realizan una serie cla
 ses magistrales que inauguran el semestre académico de cada uno de los cic
 los de talleres de nuestra carrera. Para el 1° semestre de 2017 la confere
 ncia de Talleres Optativos de Proyecto será realizada por:\nAntonio Liptha
 yAntonio Lipthay es arquitecto de la Pontificia Universidad Católica de Ch
 ile (1998) y Master en Diseño Urbano y Ciencias Sociales de la London Scho
 ol of Economics (2001). Junto a Sebastián Morandé y Patricio Browne es soc
 io de la oficina MOBIL Arquitectos\, fundada el año 2005.\nLa oficina trab
 aja en distintas escalas\, con trabajo que va desde edificios inmobiliario
 s y equipamiento a gran escala\, a vivienda unifamiliar. Una de sus obras 
 recientes más destacadas ha sido la Plaza Mayor de Maipú\, seleccionada me
 diante concurso público\, destacando en el proyecto urbano\, en la cual se
  enfoca Antonio Lipthay al interior de Mobil.\nInvitanEscuela Arquitectura
  UC\n&nbsp\;\n\n\n https://fadeu-old.urantiacos.cl/agenda/evento/755-confe
 rencia-antonio-lipthay
DTSTART:20170302T183000Z
DTEND:20170302T200000Z
LOCATION:Auditorio Arquitectura UC\, Campus Lo Contador (el comendador 1916
 \, providencia)
SUMMARY:Conferencia Antonio Lipthay
URL:https://fadeu-old.urantiacos.cl/agenda/evento/755-conferencia-antonio-l
 ipthay
END:VEVENT
BEGIN:VEVENT
UID:20260423T201519UTC-9275G6eNUi@https://fadeu-old.urantiacos.cl/
DTSTAMP:20260423T201519Z
DESCRIPTION:Todos los estudiantes de 1er año están invitados a participar e
 n la Bienvenida Novato UC 2017\, la instancia oficial con la cual la unive
 rsidad recibe a sus nuevos alumnos. Esta instancia se realizará el miércol
 es 1° de marzo de 2017\, desde las 9:00 horas\, en la explanada central de
 l campus San Joaquín.\nLuego de una misa de bienvenida\, se realizará una 
 feria de stands y diversas actividades\, mediante las cuales los estudiant
 es podrán conocer a sus compañeros\, informarse más sobre sus carreras y a
 lgunas unidades de servicio\, como Bibliotecas\, Salud Estudiantil\, Depor
 tes\, Vida Universitaria y Oficina de Sustentabilidad\, entre otras. Ese d
 ía los novatos también podrán disfrutar de shows en vivo\, concursos\, pre
 mios\, actividades deportivas y dinámicas de integración\, tours por el ca
 mpus\, charlas y otras iniciativas orientadas a que comiencen a disfrutar 
 de su vida universitaria desde el primer día.\nRecuerda llevar contigo la 
 invitación a la Bienvenida Novato UC 2017 que se entregó cuando te matricu
 laste\, pues con ella podrás canjear un regalo el día de la bienvenida.\nD
 esde ya te invitamos a seguir las redes sociales Vive la UC (Facebook\, Tw
 itter\, YouTube e Instagram)\, para estar siempre al día sobre la vida uni
 versitaria en la UC.\n¡Busca el evento en Facebook y súmate!\n¡Te esperamo
 s!\nLugarCampus San Joaquín - Explanada central del campus San Joaquín (fr
 ente al templo).\n&nbsp\;\n https://fadeu-old.urantiacos.cl/agenda/evento/
 761-bienvenida-novato-uc-2017
DTSTART:20170301T120000Z
DTEND:20170301T160000Z
LOCATION:Campus San Joaquin (Vicuña Mackenna 4860\, Macul\, Región Metropol
 itana\, Chile)
SUMMARY:Bienvenida Novato UC 2017
URL:https://fadeu-old.urantiacos.cl/agenda/evento/761-bienvenida-novato-uc-
 2017
END:VEVENT
END:VCALENDAR
