BEGIN:VCALENDAR
VERSION:2.0
PRODID:-//https://fadeu-old.urantiacos.cl///NONSGML kigkonsult.se iCalcreator 2.10.15//
METHOD:PUBLISH
BEGIN:VEVENT
UID:20260420T063904UTC-1355UWlTvP@https://fadeu-old.urantiacos.cl/
DTSTAMP:20260420T063904Z
DESCRIPTION:El viernes 8 de marzo\, a las 18:00 hrs. en el sal&oacute\;n Se
 rgio Larra&iacute\;n se realizar&aacute\; la 'Bienvenida a los nuevos estu
 diantes del MADA'.&nbsp\; Esta actividad da comienzo al primer semestre y 
 es una celebraci&oacute\;n afectuosa para los nuevos estudiantes\, quienes
  inician una experiencia de aprendizaje aplicado y avanzado para la genera
 ci&oacute\;n de proyectos profesionales centrados en las personas.\n&nbsp\
 ;\nEn esta ocasi&oacute\;n\, Felipe Commentz\, Jefe de la Divisi&oacute\;n
  de Empresas de Menor Tama&ntilde\;o del ministerio de Econom&iacute\;a\, 
 dictar&aacute\; una conferencia inaugural.\nConfirmar asistencia a dfbianc
 hi@uc.cl&nbsp\;\n&nbsp\;\n https://fadeu-old.urantiacos.cl/agenda/evento/1
 803-bienvenida-del-mada-uc
DTSTART:20190308T210000Z
DTEND:20190308T220000Z
LOCATION:Salón Sergio Larraín\, Campus Lo Contador ()
SUMMARY:Bienvenida del MADA UC
URL:https://fadeu-old.urantiacos.cl/agenda/evento/1803-bienvenida-del-mada-
 uc
END:VEVENT
BEGIN:VEVENT
UID:20260420T063904UTC-1359FMKEXm@https://fadeu-old.urantiacos.cl/
DTSTAMP:20260420T063904Z
DESCRIPTION:La arquitecta y acad&eacute\;mica de la escuela de Arquitectura
  UC\, Cecilia Puga\, dictar&aacute\; la tercera de las conferencias inaugu
 rales de los talleres de pregrado.&nbsp\;\n&nbsp\;\nCecilia Puga\nEs arqui
 tecta de la Pontificia Universidad Cat&oacute\;lica de Chile (1990) con es
 tudios en Historia y Restauraci&oacute\;n de Monumentos Arquitect&oacute\;
 nicos de la Sapienza Universit&agrave\; de Roma\, becada por el Ministerio
  de Asuntos Externos de Italia (19871989). En el &aacute\;mbito acad&eacut
 e\;mico\, ha sido profesora visitante en la Universidad de Texas\, Austin 
 (2007-2015)\, en el GSD de Harvard (2009) y en el BIAarch de Barcelona (20
 11)\, entre otros. Actualmente es profesora en la ETH Z&uuml\;rich y en la
  Escuela de Arquitectura UC\, donde dirige el taller de segundo a&ntilde\;
 o. En 2014 gan&oacute\; el concurso internacional para el Palacio Pereira\
 , hoy en construcci&oacute\;n\, y entre sus &uacute\;ltimos proyectos est&
 aacute\;n el Terminal Internacional de Pasajeros de Magallanes y el dise&n
 tilde\;o de infraestructura para uso p&uacute\;blico en el Parque Nacional
  Queulat en la Patagonia.\nFecha_\nLunes 11 de marzo de 2019\, 15.30 h.\n&
 nbsp\;\nLugar_\nAuditorio FCV. El Comendador 1936\, Providencia\n&nbsp\;\n
 Invitan_\nEscuela de Arquitectura UC&nbsp\;\n&nbsp\;\nNoticiasContacto:&nb
 sp\;redesarq@uc.cl&nbsp\;| +56 2 2354 7747www.arquitectura.uc.cl https://f
 adeu-old.urantiacos.cl/agenda/evento/1798-suspendida-conferencia-inaugural
 -talleres-de-ejercitacion-cecilia-puga
DTSTART:20190308T183000Z
DTEND:20190308T193000Z
LOCATION:Auditorio Fernando Castillo Velasco. Edificio ARQ (El Comendador 1
 936\, Providencia\, Región Metropolitana\, Chile)
SUMMARY:::SUSPENDIDA::Conferencia inaugural Talleres de Ejercitación | Ceci
 lia Puga 
URL:https://fadeu-old.urantiacos.cl/agenda/evento/1798-suspendida-conferenc
 ia-inaugural-talleres-de-ejercitacion-cecilia-puga
END:VEVENT
BEGIN:VEVENT
UID:20260420T063904UTC-1366Mab2Mu@https://fadeu-old.urantiacos.cl/
DTSTAMP:20260420T063904Z
DESCRIPTION:El pr&oacute\;ximo jueves 7 de marzo se realizar&aacute\; el la
 nzamiento del libro&nbsp\;Ciudades Part Time\, de Jeannette Sordi y Serena
  Dambrosio\, el que contar&aacute\; adem&aacute\;s con los comentarios de 
 Macarena Cort&eacute\;s\, Pablo Saric\, Ricrado Truffello y Pablo Olivares
 .\n* Evento con previa inscripci&oacute\;n al correo inscripciones&nbsp\;s
 dambrosio@uc.cl\nFecha_\nJueves 07 de marzo de 2019\, 19.00 h.\n&nbsp\;\nL
 ugar_\nPatio Doctorado FADEU\nCampus Lo Contador\nEl Comendador 1936\, Pro
 videncia\n&nbsp\;\nInvitan_\nEdiciones ARQ\nEscuela de Arquitectura UC\nDo
 ctorado en Arquitectura y Estudios Urbanos UC\nMinisterio de las Culturas\
 , las Artes y el Patrimonio\n&nbsp\;\n\n&nbsp\;\nNoticiasContacto:&nbsp\;r
 edesarq@uc.cl&nbsp\;| +56 2 2354 7747www.arquitectura.uc.cl https://fadeu-
 old.urantiacos.cl/agenda/evento/1795-lanzamiento-libro-part-time-cities
DTSTART:20190307T220000Z
DTEND:20190307T230000Z
LOCATION:Patio Doctorado (El Comendador 1936\, Providencia)
SUMMARY:Lanzamiento libro 'Part-Time Cities'
URL:https://fadeu-old.urantiacos.cl/agenda/evento/1795-lanzamiento-libro-pa
 rt-time-cities
END:VEVENT
BEGIN:VEVENT
UID:20260420T063904UTC-1370v7KK6C@https://fadeu-old.urantiacos.cl/
DTSTAMP:20260420T063904Z
DESCRIPTION:Conferencia 'Cad&aacute\;ver exquisito\, o como entender el Acr
 &oacute\;polis'&nbsp\;| Rodrigo P&eacute\;rez de Arce\n&nbsp\;\n\n&iquest\
 ;Como introducir la arquitectura? Una posibilidad es exponiendo su riqueza
 : el Acr&oacute\;polis&nbsp\;destaca como una pieza incuestionable\, pero 
 &iquest\;que queremos decir cuando nos referimos a este&nbsp\;conjunto? El
  cad&aacute\;ver exquisito fue un juego surrealista que hilaba relatos y f
 iguras en una l&oacute\;gica&nbsp\;de imprevistos. El Acr&oacute\;polis es
  en rigor una suerte de cad&aacute\;ver. Se lo considera si no exquisito\,
  al&nbsp\;menos muy notable. Es un conjunto reconocible como tambi&eacute\
 ;n una sedimentaci&oacute\;n de hechos&nbsp\;encuentros historias e interp
 retaciones....\nRodrigo P&eacute\;rez de Arce\nArquitecto\, PUC\, Diploma 
 A A\, Londres\, Doctor en Arquitectura UCV. Profesor PUC. Ha&nbsp\;ense&nt
 ilde\;ado en Cornell\, GSD Harvard\, AA y otras escuelas. Ejercicio profes
 ional principalmente en&nbsp\;proyectos p&uacute\;blicos\, (Estaci&oacute\
 ;n Mapocho\, Renovaci&oacute\;n Plaza de Armas\, Cripta Catedral&nbsp\;Met
 ropolitana\, Jard&iacute\;n de Niebla\, todos en colaboraci&oacute\;n). Pu
 blicaciones en revistas\, cat&aacute\;logos y&nbsp\;libros\, incluyen&nbsp
 \;Domicilio Urbano ARQ 2012\,&nbsp\;City of Play\, Bloomsbury 2018\, Hecho
  a Mano ARQ&nbsp\;2016\,&nbsp\;y (en imprenta)&nbsp\;El Balc&oacute\;n de 
 Valpara&iacute\;so\, un acantilado urbano\, ediciones UC\, 2019.\nFecha_\n
 Jueves 07 de marzo de 2019\, 15.30 h.\n&nbsp\;\nLugar_\nAuditorio FADEU. E
 l Comendador 1916\, Providencia\n&nbsp\;\nInvitan_\nEscuela de Arquitectur
 a UC&nbsp\;\n&nbsp\;\nNoticiasContacto:&nbsp\;redesarq@uc.cl&nbsp\;| +56 2
  2354 7747www.arquitectura.uc.cl https://fadeu-old.urantiacos.cl/agenda/ev
 ento/1794-conferencia-inaugural-talleres-de-formacion-rodrigo-perez-de-arc
 e
DTSTART:20190307T183000Z
DTEND:20190307T193000Z
LOCATION:Auditorio FADEU\, Campus Lo Contador PUC (El Comendador 1916\, Pro
 videncia\, Providencia\, Región Metropolitana\, Chile)
SUMMARY:Conferencia inaugural Talleres de Formación | Rodrigo Pérez de Arce
URL:https://fadeu-old.urantiacos.cl/agenda/evento/1794-conferencia-inaugura
 l-talleres-de-formacion-rodrigo-perez-de-arce
END:VEVENT
BEGIN:VEVENT
UID:20260420T063904UTC-13777erHJk@https://fadeu-old.urantiacos.cl/
DTSTAMP:20260420T063904Z
DESCRIPTION:Entre el 4 y 8 de marzo se realizar&aacute\; en Arquitectura UC
  el workshop &ldquo\;Santiago: Big Ideas &ndash\; Small Moves&rdquo\; para
  el desarrollo de propuestas de arquitectura y proyecto urbano en torno a 
 la L&iacute\;nea 6 del Metro. Participan estudiantes y 7 oficinas j&oacute
 \;venes invitadas.\nEn abril de 2013\, la RIBA\, UCL (the Bartlett School 
 of Architecture) y el British Council colaboraron en un workshop de dise&n
 tilde\;o en Doha\, Katar. RIBA identific&oacute\; seis oficinas j&oacute\;
 venes y UCL las sum&oacute\; a seis equipos locales en Katar\, organizando
  un workshop de una semana para desarrollar propuestas de conservaci&oacut
 e\;n y regeneraci&oacute\;n en Old Doha. En esta oportunidad la RIBA est&a
 acute\; extendiendo esta metodolog&iacute\;a a Santiago y Lagos.\nSantiago
 _&nbsp\;Luego de la construcci&oacute\;n de las &uacute\;ltimas l&iacute\;
 neas de Metro\, se han identificado alrededor de 40 peque&ntilde\;os sitio
 s que han quedado disponibles en Santiago para ser intervenidos. Esto incl
 uye sitios de construcci&oacute\;n\, sitios alrededor de ventilaciones y p
 osibles desarrollos sobre las nuevas estaciones de Metro\, entre otros. Si
 ete equipos compuestos por tres estudiantes de Arquitectura UC y una ofici
 na joven\, desarrollar&aacute\;n propuestas para estos sitios\, los que se
 r&aacute\;n evaluados por un panel de oficinas RIBA en Londres.\nPrograma 
 abierto a p&uacute\;blico\nLunes 4 de marzo\n10:00 &ndash\; 11.00 h. Tempo
 rary and Incremental Urbanism. Peter Bishop (Auditorio FCV)\n11:00 &ndash\
 ; 12.00 h. Presentaci&oacute\;n Oficinas (Auditorio FCV)\n&nbsp\;\nMartes 
 5 de marzo\n18.30 &ndash\; 19.30 h. Estaciones L&iacute\;nea 6 de Metro An
 tonio Lipthay &ndash\; MOBIL Arquitectos (lugar por anunciar)\n&nbsp\;\nMi
 &eacute\;rcoles 6 de marzo\n16.00 &ndash\; 18.00 h. Cr&iacute\;ticas Peter
  Bishop y Luis Eduardo Bresciani L. (Taller 332+333)\n&nbsp\;\nViernes 8 d
 e marzo\n13:00 &ndash\; 17.00 h. RIBA Panel Peter Bishop + RIBA (lugar por
  anunciar)\n&nbsp\;\nEstudiantes participantes\nFernando Avenda&ntilde\;o\
 , Gianluca Baghetti\, Tom&aacute\;s Charles\, Mar&iacute\;a Ignacia Cister
 nas\, Valentina Coloma\, Vicente Fern&aacute\;ndez\, Paula Gonz&aacute\;le
 z\, Mar&iacute\;a Josefina Hormann\, Daniela Manzur\, Sof&iacute\;a Mingo\
 , Pascale Mondion\, Dominga Muzard\, Deborah Ojeda\, Macarena Oyarzun\, Ca
 talina Palma\, Tomas P&eacute\;rez\, Javiera Rodr&iacute\;guez\, Mart&iacu
 te\;n Rojas\, Gonzalo Subiabre\, Tom&aacute\;s Vial y Agustina Wetzig.\nOf
 icinas invitadas\nAlvaro Arancibia&nbsp\;/ www.alvaroarancibia.com\nCSM De
 sign&nbsp\;/ www.csmdesign.com\nEB Arquitectos&nbsp\;/ www.ebarquitectos.c
 l\nEM Arquitectos&nbsp\;/ www.emarquitectos.cl\nLaura Signorelli + Stefano
  Rolla&nbsp\;/ www.stefanorolla.com\nNicole Rochette&nbsp\;/ www.nicoleroc
 hette.com\nTironi Bartlau&nbsp\;/ www.tironibartlau.com&nbsp\;\n&nbsp\;\nO
 rganizaci&oacute\;n Workshop\nPeter Bishop. Profesor Titular en Dise&ntild
 e\;o Urbano en The Bartlett School of Architecture UCL\nFrancisco j. Quint
 ana. Profesor Asistente de Arquitectura y Proyecto Urbano en Arquitectura 
 UC\nCatalina Alberti. Ayudante en Proyecto Urbano en Arquitectura UC\n&nbs
 p\;\nFecha_\nLunes 04 a viernes 08 de marzo de 2019\n&nbsp\;\nLugar_\nCamp
 us Lo Contador\nEl Comendador 1936\, Providencia\n&nbsp\;&nbsp\;\n\n&nbsp\
 ;\nImagen 'Estaci&oacute\;n &Ntilde\;u&ntilde\;oa. Levantamiento contexto 
 L&iacute\;nea 6 realizado por Plan Com&uacute\;n + Diego Grass + Osvaldo L
 arra&iacute\;n para MOBIL Arquitectos.'\n&nbsp\;\nNoticiasContacto:&nbsp\;
 redesarq@uc.cl&nbsp\;| +56 2 2354 7747www.arquitectura.uc.cl https://fadeu
 -old.urantiacos.cl/agenda/evento/1802-workshop-santiago-big-ideas-small-mo
 ves-peter-bishop-francisco-quintana
DTSTART:20190304T112700Z
DTEND:20190304T132700Z
LOCATION:Campus Lo Contador (El Comendador 1916\, Providencia\, Providencia
 \, Región Metropolitana\, Chile)
SUMMARY:Workshop “Santiago: Big Ideas – Small Moves” | Peter Bishop + Franc
 isco Quintana
URL:https://fadeu-old.urantiacos.cl/agenda/evento/1802-workshop-santiago-bi
 g-ideas-small-moves-peter-bishop-francisco-quintana
END:VEVENT
END:VCALENDAR
