BEGIN:VCALENDAR
VERSION:2.0
PRODID:-//https://fadeu-old.urantiacos.cl///NONSGML kigkonsult.se iCalcreator 2.10.15//
METHOD:PUBLISH
BEGIN:VEVENT
UID:20260421T014753UTC-7029WFof5w@https://fadeu-old.urantiacos.cl/
DTSTAMP:20260421T014753Z
DESCRIPTION:El Workshop &ldquo\;Patrimonio Moderno y proyecto contempor&aac
 ute\;neo&rdquo\; junto al ENCUENTRO INTERNACIONAL DE PATRIMONIO MODERNO Y 
 BUENAS PR&Aacute\;CTICAS con que culmina\, se enfoca en investigar las for
 mas de intervenci&oacute\;n y los roles que el proyecto de arquitectura -e
 ntendido en su capacidad contempor&aacute\;nea- puede complementar la pres
 ervaci&oacute\;n del patrimonio moderno. El workshop investigar&aacute\; y
  propondr&aacute\; ideas de proyecto sobre un caso patrimonial moderno\, e
 n sinton&iacute\;a con los conceptos de re-uso adaptativo y nuevas interve
 nciones. El workshop integrar&aacute\; alumnos y profesores de diferente p
 roveniencia: de la Bauhaus-Universit&auml\;t Weimar\, de la Universidad Na
 cional de Rosario de Argentina\, de la Universidad San Sebasti&aacute\;n\,
  Universidad Austral\, y Pontificia Universidad Cat&oacute\;lica de Valpar
 a&iacute\;so.\nPROGRAMAWORKSHOP (9 -21 de marzo)\nLunes 12 de marzo 14:00-
 18:00: Sesi&oacute\;n Inicial\, presentaciones introductorias de Horacio T
 orrent\, Loreto Lyon y Jos&eacute\; Guti&eacute\;rrez Marques y descripci&
 oacute\;n del encargo general del workshop. Conformaci&oacute\;n de grupos
  de trabajo\, presentaci&oacute\;n de tem&aacute\;ticas a abordar durante 
 el workshop y asignaci&oacute\;n en grupos de 5. Se les entrega a los alum
 nos el material documental sobre el edificio.\nMartes 13 de marzo 10:00 hs
 .&ndash\; Visita al edificio. 14:00 Trabajo en taller con los profesores.
 \nMi&eacute\;rcoles 14 de marzo 10:00 hs. - Correcci&oacute\;n grupal Tare
 a 1con los profesores del taller.\nMi&eacute\;rcoles 14 de marzo 14:00 hs.
 -&nbsp\; Inicio de Tarea 2. Alternativas de intervenci&oacute\;n.\nViernes
  16 de marzo 10:00-13:00 hs - Entrega y evaluaci&oacute\;n intermedia Tare
 a2. Comisi&oacute\;n:Max N&uacute\;&ntilde\;ez\; Pedro Alonso. EncargoTare
 a 3: Desarrollo de propuestas.\nLunes 19 de marzo 14:00-19:00 hs. - Correc
 ci&oacute\;n grupal Tarea 2 con los profesores del Taller\nMi&eacute\;rcol
 es 21 de marzo 10:00 -13:00 hs. - Entrega y evaluaci&oacute\;n final del w
 orkshop. Comisi&oacute\;n de honor: Ruth Verde Zein (Brasil)\, Carlos Edua
 rdo D&iacute\;as Comas (Brasil)\, Sebasti&aacute\;n Irarr&aacute\;zaval (C
 hile).\nMartes 27 de Marzo 15:00 hs. - Reuni&oacute\;n final del curso. En
 trega del Informe.\nLos alumnos que tomen el workshop podr&aacute\;n conva
 lidarlo por 5 cr.\n&nbsp\;\n https://fadeu-old.urantiacos.cl/agenda/evento
 /1443-workshop-internacional-patrimonio
DTSTART:20180309T030000Z
LOCATION:Campus Lo Contador (El Comendador 1916\, Providencia\, Providencia
 \, Región Metropolitana\, Chile)
SUMMARY:Workshop Internacional Patrimonio
URL:https://fadeu-old.urantiacos.cl/agenda/evento/1443-workshop-internacion
 al-patrimonio
END:VEVENT
BEGIN:VEVENT
UID:20260421T014753UTC-7038dwgn3n@https://fadeu-old.urantiacos.cl/
DTSTAMP:20260421T014753Z
DESCRIPTION:Clase Inaugural: Talleres de ejercitaci&oacute\;n 'Sebasti&aacu
 te\;n Irarr&aacute\;zaval'.\n&nbsp\;\n https://fadeu-old.urantiacos.cl/age
 nda/evento/1448-clase-inaugural-talleres-de-ejercitacion-sebastian-irarraz
 aval
DTSTART:20180306T183000Z
DTEND:20180306T193000Z
LOCATION:Salón Sergio Larraín\, Campus Lo Contador ()
SUMMARY:Clase Inaugural: Talleres de ejercitación 'Sebastián Irarrázaval'
URL:https://fadeu-old.urantiacos.cl/agenda/evento/1448-clase-inaugural-tall
 eres-de-ejercitacion-sebastian-irarrazaval
END:VEVENT
BEGIN:VEVENT
UID:20260421T014753UTC-7040GIvxtm@https://fadeu-old.urantiacos.cl/
DTSTAMP:20260421T014753Z
DESCRIPTION:Margarita Greene\, docente de la Escuela de Arquitectura UC e i
 nvestigadora principal CEDEUS\, dictar&aacute\; la charla Inaugural de los
  talleres de Investigaci&oacute\;n el martes 6 de marzo.\nFecha: Lunes 06 
 de marzo de 2018\, 14:00 hrs.\nLugar: Sal&oacute\;n Sergio Larra&iacute\;n
 \, Campus Lo Contador. El Comendador 1916\, Providencia\nInvitan: Escuela 
 de Arquitectura UC\n&nbsp\;\n https://fadeu-old.urantiacos.cl/agenda/event
 o/1447-clase-inaugural-talleres-de-investigacion-margarita-greene
DTSTART:20180306T170000Z
DTEND:20180306T180000Z
LOCATION:Salón Sergio Larraín\, Campus Lo Contador ()
SUMMARY:Clase Inaugural: Talleres de investigación 'Margarita Greene'
URL:https://fadeu-old.urantiacos.cl/agenda/evento/1447-clase-inaugural-tall
 eres-de-investigacion-margarita-greene
END:VEVENT
BEGIN:VEVENT
UID:20260421T014753UTC-7043uVwdUu@https://fadeu-old.urantiacos.cl/
DTSTAMP:20260421T014753Z
DESCRIPTION:Jos&eacute\; Rosas\, profesor de la Escuela de Arquitectura y j
 efe del Programa de Doctorado en Arquitectura y Estudios Urbanos UC\, dict
 ar&aacute\; la charla Inaugural de los talleres de formaci&oacute\;ntitula
 da 'Sobre las distancias: Para subir al cielo se necesita una escalera gra
 nde y otra chiquita'.\nEsta es la primera de la agenda de charlas inaugura
 les para los talleres de la escuela de Arquitectura UC\, abriendo de maner
 a magistral el nuevo per&iacute\;odo acad&eacute\;mico 2018.\nFecha: Lunes
  05 de marzo de 2018\, 15:30 hrs.\nLugar:&nbsp\;Sala Capilla\, Campus Lo C
 ontador. El Comendador 1916\, Providencia\nInvita:&nbsp\;Escuela de Arquit
 ectura UC\n&nbsp\;\n https://fadeu-old.urantiacos.cl/agenda/evento/1446-cl
 ase-inaugural-talleres-de-formacion-jose-rosas
DTSTART:20180305T183000Z
DTEND:20180305T193000Z
LOCATION:Sala La Capilla\, campus Lo Contador (El Comendador 1916\, Provide
 ncia\, Región Metropolitana\, Chile)
SUMMARY:Clase Inaugural: Talleres de formación 'José Rosas'
URL:https://fadeu-old.urantiacos.cl/agenda/evento/1446-clase-inaugural-tall
 eres-de-formacion-jose-rosas
END:VEVENT
BEGIN:VEVENT
UID:20260421T014753UTC-7047VdVNk5@https://fadeu-old.urantiacos.cl/
DTSTAMP:20260421T014753Z
DESCRIPTION:El lunes 5 de marzo comienzan las clases para los alumnos nuevo
 s y antiguos de la Facultad de Arquitectura\, Dise&ntilde\;o y Estudios Ur
 banos.\n&iexcl\;Les damos la bienvenida y les deseamos mucho &eacute\;xito
  este 2018! https://fadeu-old.urantiacos.cl/agenda/evento/1445-inicio-de-c
 lases-alumnos-nuevos-y-antiguos
DTSTART:20180305T030000Z
LOCATION:Campus Lo Contador (El Comendador 1916\, Providencia\, Providencia
 \, Región Metropolitana\, Chile)
SUMMARY:Inicio de clases alumnos nuevos y antiguos
URL:https://fadeu-old.urantiacos.cl/agenda/evento/1445-inicio-de-clases-alu
 mnos-nuevos-y-antiguos
END:VEVENT
END:VCALENDAR
