BEGIN:VCALENDAR
VERSION:2.0
PRODID:-//https://fadeu-old.urantiacos.cl///NONSGML kigkonsult.se iCalcreator 2.10.15//
METHOD:PUBLISH
BEGIN:VEVENT
UID:20260421T014810UTC-9392xdnt7z@https://fadeu-old.urantiacos.cl/
DTSTAMP:20260421T014810Z
DESCRIPTION: https://fadeu-old.urantiacos.cl/agenda/evento/1463-charla-doco
 momo-iveta-cerna
DTSTART:20180323T213000Z
DTEND:20180323T223000Z
LOCATION:Auditorio FADEU\, Campus Lo Contador PUC (El Comendador 1916\, Pro
 videncia\, Providencia\, Región Metropolitana\, Chile)
SUMMARY:Charla Docomomo: Iveta Cerná
URL:https://fadeu-old.urantiacos.cl/agenda/evento/1463-charla-docomomo-ivet
 a-cerna
END:VEVENT
BEGIN:VEVENT
UID:20260421T014810UTC-9396Vu73Os@https://fadeu-old.urantiacos.cl/
DTSTAMP:20260421T014810Z
DESCRIPTION:AOA FORUM on &ldquo\;Contemporary Architectural Design and Mode
 rn AOA Heritage&rdquo\; Presentations:TEODORO FERN&Aacute\;NDEZ - PEDRO GU
 BBINS - GUILLERMO HEVIA - SEBASTI&Aacute\;N IRARR&Aacute\;ZAVAL - PABLO SA
 RIC - CARLOS EDUARDO COMASSession Coordinators: Francisco D&iacute\;az &am
 p\; Rayna Razmilic\n&nbsp\;\n https://fadeu-old.urantiacos.cl/agenda/event
 o/1474-aoa-forum-on-contemporary-architectural-design-and-modern-aoa-herit
 age
DTSTART:20180323T200000Z
DTEND:20180323T210000Z
LOCATION:Auditorio FADEU\, Campus Lo Contador PUC (El Comendador 1916\, Pro
 videncia\, Providencia\, Región Metropolitana\, Chile)
SUMMARY:AOA FORUM on “Contemporary Architectural Design and Modern AOA Heri
 tage” 
URL:https://fadeu-old.urantiacos.cl/agenda/evento/1474-aoa-forum-on-contemp
 orary-architectural-design-and-modern-aoa-heritage
END:VEVENT
BEGIN:VEVENT
UID:20260421T014810UTC-9399gPwM4K@https://fadeu-old.urantiacos.cl/
DTSTAMP:20260421T014810Z
DESCRIPTION: https://fadeu-old.urantiacos.cl/agenda/evento/1462-charla-doco
 momo-carlos-eduardo-comas
DTSTART:20180323T183000Z
DTEND:20180323T193000Z
LOCATION:Auditorio FADEU\, Campus Lo Contador PUC (El Comendador 1916\, Pro
 videncia\, Providencia\, Región Metropolitana\, Chile)
SUMMARY:Charla Docomomo: Carlos Eduardo Comas
URL:https://fadeu-old.urantiacos.cl/agenda/evento/1462-charla-docomomo-carl
 os-eduardo-comas
END:VEVENT
BEGIN:VEVENT
UID:20260421T014810UTC-9402fghadV@https://fadeu-old.urantiacos.cl/
DTSTAMP:20260421T014810Z
DESCRIPTION: https://fadeu-old.urantiacos.cl/agenda/evento/1465-charla-doco
 momo-ruth-verde-zein
DTSTART:20180323T180000Z
DTEND:20180323T190000Z
LOCATION:Auditorio FADEU\, Campus Lo Contador PUC (El Comendador 1916\, Pro
 videncia\, Providencia\, Región Metropolitana\, Chile)
SUMMARY:Charla Docomomo: Ruth Verde Zein
URL:https://fadeu-old.urantiacos.cl/agenda/evento/1465-charla-docomomo-ruth
 -verde-zein
END:VEVENT
BEGIN:VEVENT
UID:20260421T014810UTC-9404rwrVMl@https://fadeu-old.urantiacos.cl/
DTSTAMP:20260421T014810Z
DESCRIPTION: https://fadeu-old.urantiacos.cl/agenda/evento/1464-charla-doco
 momo-jose-gutierrez-marquez
DTSTART:20180323T153000Z
DTEND:20180323T163000Z
LOCATION:Auditorio FADEU\, Campus Lo Contador PUC (El Comendador 1916\, Pro
 videncia\, Providencia\, Región Metropolitana\, Chile)
SUMMARY:Charla Docomomo: José Gutiérrez Márquez
URL:https://fadeu-old.urantiacos.cl/agenda/evento/1464-charla-docomomo-jose
 -gutierrez-marquez
END:VEVENT
BEGIN:VEVENT
UID:20260421T014810UTC-94060tFVKd@https://fadeu-old.urantiacos.cl/
DTSTAMP:20260421T014810Z
DESCRIPTION:El seminario se realizar&aacute\; el 23 de marzo\, de 8:45 a 13
 :30 hrs.\, y contar&aacute\; con exposiciones de destacados investigadores
  internacionales\, como Phillip Ross y Linda Kahl.\nEsta actividad est&aac
 ute\; dirigida a ejecutivos y profesionales de &aacute\;reas de Innovaci&o
 acute\;n\, Dise&ntilde\;o\, Arquitectura\, Construcci&oacute\;n\, Ingenier
 &iacute\;a y todos quienes deseen conocer m&aacute\;s acerca de los nuevos
  tipos de materiales que se est&aacute\;n desarrollando en el mundo.\nFech
 a_\nViernes 23 de marzo\, 8.45 a 13.30 hrs.\nLugar_\nAuditorio Principal d
 el Centro de Innovaci&oacute\;n UC. Av. Vicu&ntilde\;a Mackenna 4860\, Mac
 ul. Acceso a estacionamientos de pago por Av. Vicu&ntilde\;a Mackenna.\nIn
 vitan_\nCentro de Innovaci&oacute\;n UC\, Anacleto Angelini\nFacultad de A
 rquitectura\, Dise&ntilde\;o y Estudios Urbanos UC\nLaboratorio de Biofabr
 icaci&oacute\;n FADEU\nLink de inscripci&oacute\;n_ aqu&iacute\;\n&nbsp\;
 \n https://fadeu-old.urantiacos.cl/agenda/evento/1472-seminario-biofabrica
 ndo-el-futuro
DTSTART:20180323T114500Z
DTEND:20180323T163000Z
LOCATION:Auditorio Centro de Innovación\, 1 piso (Av. Vicuña Mackenna 4860\
 , Macul\, La Florida\, Región Metropolitana\, Chile)
SUMMARY:Seminario 'Biofabricando el futuro'
URL:https://fadeu-old.urantiacos.cl/agenda/evento/1472-seminario-biofabrica
 ndo-el-futuro
END:VEVENT
BEGIN:VEVENT
UID:20260421T014810UTC-94111P0V8R@https://fadeu-old.urantiacos.cl/
DTSTAMP:20260421T014810Z
DESCRIPTION:Go Hasegawa es Arquitecto (2002) y Doctor en Ingenier&iacute\;a
  (2015) por el Tokyo Institute of Technology\, y desde 2005 desempe&ntilde
 \;a su pr&aacute\;ctica profesional independiente. Ha tenido una nutrida y
  variada labor acad&eacute\;mica\, desempe&ntilde\;&aacute\;ndose como pro
 fesor en la Universidad de las Ciencias de Tokyo (2009) y la Universidad d
 e Hosei (2011)\, adem&aacute\;s de profesor invitado en la Academia de Arq
 uitectura de Mendrisio (2012-2014)\, Universidad de California sede Los &A
 acute\;ngeles (2016)\, Polit&eacute\;cnico de Mil&aacute\;n (2016) y Harva
 rd GSD (2017)\, entre otros.\nDentro de su obra se incluye una gran varied
 ad de proyectos\, como por ejemplo la Casa en un Bosque (Nagano\, 2006)\, 
 ganadora del Gran Premio del concurso de vivienda Tokyo Gas (2007) y de la
  Medalla de Oro en la categor&iacute\;a Residencial por parte de la Socied
 ad de Arquitectos e Ingenieros de Tokyo (2007)\, la Casa en Sakuradai (200
 6)\, reconocida con la Medalla de Oro en la 28&ordm\; edici&oacute\;n del 
 concurso de dise&ntilde\;o INAX (2007) y con el Premio Shinkenchiku (2008)
 \, la Casa sobre Pilotis (2010) o el complejo de departamentos en Okachima
 ci (2014)\, entre otros.\nDentro de sus publicaciones se incluyen &ldquo\;
 Thinking\, Making Architecture\, Living&rdquo\; (2011)\, &ldquo\;Go Hasega
 wa Works&rdquo\; (2012) y&rdquo\;Belfly in Ishinomaki\; an architecture to
  be built again&rdquo\;.\nFecha: Jueves 22 de Marzo\, 19.00 hrs.\nLugar: S
 al&oacute\;n FADEU\, El Comendador 1916\, Providencia.\nInvitan: Escuela d
 e Arquitectura UC\nMARQ UC\nLink:\nhttp://ghaa.co.jp/\n&nbsp\;\n https://f
 adeu-old.urantiacos.cl/agenda/evento/1456-conferencia-inaugural-marq-go-ha
 segawa
DTSTART:20180322T220000Z
DTEND:20180322T230000Z
LOCATION:Auditorio FADEU\, Campus Lo Contador PUC (El Comendador 1916\, Pro
 videncia\, Providencia\, Región Metropolitana\, Chile)
SUMMARY:Conferencia Inaugural MARQ / Go Hasegawa
URL:https://fadeu-old.urantiacos.cl/agenda/evento/1456-conferencia-inaugura
 l-marq-go-hasegawa
END:VEVENT
BEGIN:VEVENT
UID:20260421T014810UTC-9419n41LZV@https://fadeu-old.urantiacos.cl/
DTSTAMP:20260421T014810Z
DESCRIPTION: https://fadeu-old.urantiacos.cl/agenda/evento/1461-charla-doco
 momo-nivaldo-andrade
DTSTART:20180322T213000Z
DTEND:20180322T223000Z
LOCATION:Auditorio Fernando Castillo Velasco. Edificio ARQ (El Comendador 1
 936\, Providencia\, Región Metropolitana\, Chile)
SUMMARY:Charla Docomomo: Nivaldo Andrade
URL:https://fadeu-old.urantiacos.cl/agenda/evento/1461-charla-docomomo-niva
 ldo-andrade
END:VEVENT
BEGIN:VEVENT
UID:20260421T014810UTC-9421mkIOja@https://fadeu-old.urantiacos.cl/
DTSTAMP:20260421T014810Z
DESCRIPTION: https://fadeu-old.urantiacos.cl/agenda/evento/1460-charla-doco
 momo-fernando-perez-oyarzun
DTSTART:20180322T153000Z
DTEND:20180322T163000Z
LOCATION:Auditorio FADEU\, Campus Lo Contador PUC (El Comendador 1916\, Pro
 videncia\, Providencia\, Región Metropolitana\, Chile)
SUMMARY:Charla Docomomo: Fernando Pérez Oyarzún
URL:https://fadeu-old.urantiacos.cl/agenda/evento/1460-charla-docomomo-fern
 ando-perez-oyarzun
END:VEVENT
BEGIN:VEVENT
UID:20260421T014810UTC-9423x8UOuV@https://fadeu-old.urantiacos.cl/
DTSTAMP:20260421T014810Z
DESCRIPTION: https://fadeu-old.urantiacos.cl/agenda/evento/1459-charla-inau
 gural-docomomo-louise-noelle
DTSTART:20180321T220000Z
DTEND:20180321T230000Z
LOCATION:Auditorio FADEU\, Campus Lo Contador PUC (El Comendador 1916\, Pro
 videncia\, Providencia\, Región Metropolitana\, Chile)
SUMMARY:Charla Inaugural Docomomo: Louise Noelle
URL:https://fadeu-old.urantiacos.cl/agenda/evento/1459-charla-inaugural-doc
 omomo-louise-noelle
END:VEVENT
BEGIN:VEVENT
UID:20260421T014810UTC-9425Eue9NT@https://fadeu-old.urantiacos.cl/
DTSTAMP:20260421T014810Z
DESCRIPTION:El encuentro 'Borde Costero Portuario de Chile' forma parte del
  ciclo 'La Ciudad como Proyecto' organizado conjuntamente entre el Centro 
 de Estudios P&uacute\;blicos y la Escuela de Arquitectura UC. En esta opor
 tunidad el ex presidente Ricardo Lagos Escobar conversar&aacute\; con Emil
 io De la Cerda Err&aacute\;zuriz sobre el horizonte del desarrollo portuar
 io de Chile y sus implicancias para el crecimiento de nuestro pa&iacute\;s
 \, se har&aacute\; un &eacute\;nfasis especial en c&oacute\;mo el progreso
  portuario puede ir de la mano con un desarrollo urbano integral de las ci
 udades puerto y una red interconectada a nivel territorial.\nFecha: Mi&eac
 ute\;rcoles 21 de marzo\, 19.00 hrs.\nLugar:&nbsp\;CEP.&nbsp\;Monse&ntilde
 \;or S&oacute\;tero Sanz 162\, Providencia\, Santiago de Chile.\nInvitan:
 \nEscuela de Arquitectura UC\nCEP\nEstudio Com&uacute\;n\n&nbsp\;\n https:
 //fadeu-old.urantiacos.cl/agenda/evento/1467-mesa-de-discusion-borde-coste
 ro-portuario-en-chile
DTSTART:20180321T220000Z
DTEND:20180321T230000Z
LOCATION:Centro de Estudios Públicos. Monseñor Sótero Sanz 162\, Providenci
 a. (Monseñor Nuncio Sotero Sanz de Villalba 162\, Providencia\, Región Met
 ropolitana\, Chile)
SUMMARY:Mesa de Discusión: Borde costero portuario en Chile
URL:https://fadeu-old.urantiacos.cl/agenda/evento/1467-mesa-de-discusion-bo
 rde-costero-portuario-en-chile
END:VEVENT
BEGIN:VEVENT
UID:20260421T014810UTC-9431JVhfUG@https://fadeu-old.urantiacos.cl/
DTSTAMP:20260421T014810Z
DESCRIPTION:La charla es la primera del nuevo ciclo de&nbsp\;discusi&oacute
 \;n y cr&iacute\;tica de la Escuela de Arquitectura UC:&nbsp\; 'Proyecto O
 ficina'. Este tiene por objetivo presentar en sociedad las metodolog&iacut
 e\;as\, procesos de dise&ntilde\;o\, imaginarios e ideolog&iacute\;as de p
 r&aacute\;cticas emergentes y/o reconocidas en el contexto local. Cada fec
 ha del ciclo est&aacute\; definida por la presentaci&oacute\;n de 2 autore
 s / oficinas para posteriormente ahondar sus aspectos fundamentales con la
  audiencia.\nFecha_\nMi&eacute\;rcoles 21 de marzo\, 19.00hrs.\nLugar_\nAu
 ditorio FCV. El Comendador 1936\, Providencia.\nOrganizan_\nEstudio Com&ua
 cute\;n + MASE\n&nbsp\;\n https://fadeu-old.urantiacos.cl/agenda/evento/14
 71-proyecto-oficina-a-moletto-bv-arquitectos
DTSTART:20180321T220000Z
DTEND:20180321T230000Z
LOCATION:Auditorio Fernando Castillo Velasco. Edificio ARQ (El Comendador 1
 936\, Providencia\, Región Metropolitana\, Chile)
SUMMARY:'Proyecto Oficina': A. Moletto + BV Arquitectos
URL:https://fadeu-old.urantiacos.cl/agenda/evento/1471-proyecto-oficina-a-m
 oletto-bv-arquitectos
END:VEVENT
BEGIN:VEVENT
UID:20260421T014810UTC-9435gzMrZD@https://fadeu-old.urantiacos.cl/
DTSTAMP:20260421T014810Z
DESCRIPTION:Docomomo Chile\, Docomomo International y la Facultad de Arquit
 ectura Dise&ntilde\;o y Estudios Urbanos de la Pontificia Universidad Cat&
 oacute\;lica de Chile\, promueven la realizaci&oacute\;n de un encuentro e
 n torno a las buenas pr&aacute\;cticas sobre el patrimonio moderno.\nLa id
 ea de buenas pr&aacute\;cticas sobre el patrimonio moderno\, refiere al co
 njunto de procedimientos\, gu&iacute\;as\, orientaciones &eacute\;ticas\, 
 principios y marcos de acci&oacute\;n que &mdash\;reconocidos a trav&eacut
 e\;s de casos ejemplares&mdash\; pueden configurar el m&aacute\;s apto\, p
 rudente y eficiente curso de acci&oacute\;n para la sustentabilidad\, la c
 onservaci&oacute\;n\, la mejor gesti&oacute\;n y el buen dise&ntilde\;o de
  la relaci&oacute\;n entre patrimonio y nueva arquitectura.\nLa preservaci
 &oacute\;n de la arquitectura del siglo XX\, en todos sus niveles\, tanto 
 en el de los edificios y conjuntos\, como en el urbano y del paisaje\, cam
 bia y se expande\, reconociendo cada vez m&aacute\;s complejidad\, moviend
 o sus l&iacute\;mites m&aacute\;s all&aacute\; de cualquier ortodoxia que 
 pueda establecerse definitivamente. En un panorama cada vez m&aacute\;s di
 verso\, se hace necesario el reconocimiento del valor de los casos como ej
 emplos que pueden orientar las acciones de conservaci&oacute\;n y re-uso y
  enfrentar los desaf&iacute\;os que las situaciones diversas proponen.\n&i
 quest\;Como ser&aacute\; conservado y gestionado el patrimonio moderno? &i
 quest\;Cu&aacute\;les son las buenas pr&aacute\;cticas que se pueden promo
 ver en ese campo? &iquest\;Cu&aacute\;les pueden constituir un manejo sust
 entable del patrimonio? &iquest\;Cu&aacute\;les pueden ser las estrategias
  de sustentabilidad del patrimonio? &iquest\;Qu&eacute\; rol le cabe a la 
 comunidad y la ciudadan&iacute\;a en esas pr&aacute\;cticas de conservaci&
 oacute\;n y gesti&oacute\;n? &iquest\;Cu&aacute\;l el rol de los expertos?
  &iquest\;Cu&aacute\;l el rol de los organismos p&uacute\;blicos y de las 
 agencias de financiamiento? &iquest\;Cu&aacute\;les pr&aacute\;cticas mere
 cen ser promovidas? &iquest\;Qu&eacute\; rol cabe a las posibles intervenc
 iones de nueva arquitectura que adec&uacute\;en el patrimonio a exigencias
  actuales? Estas son algunas de las preguntas que este Encuentro Internaci
 onal pretende instalar en la agenda p&uacute\;blica.\nM&aacute\;s informac
 i&oacute\;n aqu&iacute\;.&nbsp\; https://fadeu-old.urantiacos.cl/agenda/ev
 ento/1441-encuentro-internacional-patrimonio-moderno-y-buenas-practicas
DTSTART:20180321T030000Z
LOCATION:Campus Lo Contador (El Comendador 1916\, Providencia\, Providencia
 \, Región Metropolitana\, Chile)
SUMMARY: Encuentro Internacional Patrimonio Moderno y Buenas Prácticas
URL:https://fadeu-old.urantiacos.cl/agenda/evento/1441-encuentro-internacio
 nal-patrimonio-moderno-y-buenas-practicas
END:VEVENT
BEGIN:VEVENT
UID:20260421T014810UTC-94444P1vb1@https://fadeu-old.urantiacos.cl/
DTSTAMP:20260421T014810Z
DESCRIPTION:Ruth Verde Zein_\nArchitect\, PhD Professor of Theory and Desig
 n at Mackenzie University\, S&atilde\;o Paulo\, Brazil. Member of CICA - I
 nternational Committee of Architectural Critics. Member of DOCOMOMO Intern
 ational\, coordinates Docomomo Brazil/S&atilde\;o Paulo&rsquo\;s chapter. 
 Former editor of Projeto magazine. Has participated in several seminars an
 d given conferences and courses in Brazil and abroad. Has more than a hund
 red articles published and a dozen books on Brazilian and Latin American m
 odern and contemporary architecture.\nCurr&iacute\;culo cient&iacute\;fico
  completo: http://lattes.cnpq.br/8375309081976653\nAnat Falbel_\nAnat Falb
 el Received her Ph. D in Architecture and Urbanism from the University of 
 S&atilde\;o Paulo\, in 2003\, with the thesis ͞Lucjan Korngold: the trajec
 tory of an immigrant architect͟\, dealing with the subject of &eacute\;mig
 r&eacute\;s architects\, between the 40&rsquo\;s and 60&rsquo\;s in the ci
 ty of S&atilde\;o Paulo. A Canadian Center of Architecture Visiting schola
 r (2013)\, she was also awarded Docomomo Summer Grant. She participated in
  the organization of Docomomo International Conference ͞Impressions Transa
 tlantiques: le dialogue entre architectures nationale et &eacute\;tranger 
 au Br&eacute\;sil\, 1930-1960͟\, in Paris\, 2005\, as well the EAHN FAUSP 
 Conference Architectural Electives Affinities: correspondences\, transfers
 \, inter/multidisciplinarity\, 2013. Presently she is one of the organizer
 s of the Urban Photography Film and Video EAHN Working group. In 2011 she 
 curated the exhibitions ͞Exile and Modernity: The space of the foreigner i
 n the city of Sao Paulo͟ and in 2013 ͞Vagabond Stars: Memories of the Jewi
 sh Theater in Brazil͟ Presently she is a lecturer and researcher at the Fe
 deral University of Rio de Janeiro (FAU/UFRJ).\nBetween many articles she 
 also edited and published Bruno Zevi Architettura e hebraismo: Mendelsohn.
  Editora Perspectiva. (edition\, translation\, introduction\, 2002)\; tran
 slator and editor of Joseph Rykwert&rsquo\;s The house of Adam in Paradise
 \, (2002)\, The Idea of the City (2006) and The Dancing Column (2015)\, by
  Editora Perspectiva (2015). In the second half of 2000\, she began dedica
 ting herself to the issue of visual culture transferences beginning with t
 he work of the German born photographer Peter Scheier in Brazil\, as in ͞P
 eter Scheier: transpar&ecirc\;ncia e vis&otilde\;es de utopia͟\, in As con
 stru&ccedil\;&otilde\;es de Brasilia. S&atilde\;o Paulo: Instituto Moreira
  Salles\, 2010\; or ͞Le photographe Peter Scheier: la transparence et le p
 alimpseste͟\, in Soci&eacute\;t&eacute\;s &amp\; Repres&eacute\;ntations n
 umero especial L&rsquo\;architecture et ses images. Ed. Gerard Monnier\, E
 velyne Cohen\, edit.\, Paris: Publications de la Sorbonne\, n. 30\, dez.\,
  2010.\nanatfalbel@uol.com.brFecha: Martes 20 de marzo de 2018\, 13.00 hrs
 .\nLugar: Auditorio FCV. El Comendador 1936\, Providencia\nInvitan:\nEscue
 la de Arquitectura UC\n&nbsp\;\n https://fadeu-old.urantiacos.cl/agenda/ev
 ento/1458-conferencia-brasil-moderno
DTSTART:20180320T160000Z
DTEND:20180320T170000Z
LOCATION:Auditorio Fernando Castillo Velasco. Edificio ARQ (El Comendador 1
 936\, Providencia\, Región Metropolitana\, Chile)
SUMMARY:Conferencia 'Brasil Moderno'
URL:https://fadeu-old.urantiacos.cl/agenda/evento/1458-conferencia-brasil-m
 oderno
END:VEVENT
BEGIN:VEVENT
UID:20260421T014810UTC-9454UjAmwm@https://fadeu-old.urantiacos.cl/
DTSTAMP:20260421T014810Z
DESCRIPTION:Se llevar&aacute\;n a cabo dos presentaciones: 'Environmental A
 rchitecture'\, m&aacute\;ster del Royal College of Arts (Godofredo Pereira
 \, Jon Goodbun) y 'Energ&iacute\;a y Territorio' en la Escuela de Arquitec
 tura UC (Ignacio Garc&iacute\;a Partarrieu &amp\; Arturo Scheidegger).\nLu
 gar_\nAuditorio FCV. El Comendador 1936\, Providencia.\nFecha_\nLunes 19 d
 e marzo\, 13.30 hrs.\nOrganizan_\nEARQ UC + Estudio Com&uacute\;n\n&nbsp\;
 \n https://fadeu-old.urantiacos.cl/agenda/evento/1470-arquitectura-energia
 -y-medioambiente
DTSTART:20180319T163000Z
DTEND:20180319T173000Z
LOCATION:Auditorio Fernando Castillo Velasco. Edificio ARQ (El Comendador 1
 936\, Providencia\, Región Metropolitana\, Chile)
SUMMARY:Arquitectura\, Energía y Medioambiente
URL:https://fadeu-old.urantiacos.cl/agenda/evento/1470-arquitectura-energia
 -y-medioambiente
END:VEVENT
END:VCALENDAR
