BEGIN:VCALENDAR
VERSION:2.0
PRODID:-//https://fadeu-old.urantiacos.cl///NONSGML kigkonsult.se iCalcreator 2.10.15//
METHOD:PUBLISH
BEGIN:VEVENT
UID:20260423T201637UTC-2164WM7tpj@https://fadeu-old.urantiacos.cl/
DTSTAMP:20260423T201637Z
DESCRIPTION:Lanzamiento Libro Modelos Did&aacute\;cticos\nNo es f&aacute\;c
 il sintetizar en una publicaci&oacute\;n el desarrollo de un proyecto acad
 &eacute\;mico a lo largo de m&aacute\;s de veinte a&ntilde\;os. Tampoco es
  f&aacute\;cil conseguir que estudiantes de arquitectura comprendan el fun
 cionamiento de las estructuras de forma pr&aacute\;ctica y\, por qu&eacute
 \; no decirlo\, entretenida. Modelos Did&aacute\;cticos presenta los funda
 mentos y ejercicios del curso desarrollado por Orlando Vigouroux por m&aac
 ute\;s de dos d&eacute\;cadas en la Escuela de Arquitectura de la Pontific
 ia Universidad Cat&oacute\;lica de Chile\, compartiendo generosamente su m
 &eacute\;todo con las nuevas generaciones de arquitectos\, profesores y es
 tudiantes.\nEl lanzamiento se realizar&aacute\; en el auditorio Arquitectu
 ra y ser&aacute\; comentado por Renato D'Alencon\, jefe del programa de Ma
 g&iacute\;ster en Arquitectura Sustentable y Energ&iacute\;a MASE UC.\nInv
 itanEdiciones ARQEscuela de Arquitectura UC\n&nbsp\;\n\n&nbsp\;\n&nbsp\; h
 ttps://fadeu-old.urantiacos.cl/agenda/evento/825-lanzamiento-libro-modelos
 -didacticos-por-orlando-vigouroux
DTSTART:20170323T163000Z
DTEND:20170323T180000Z
LOCATION:Auditorio Arquitectura UC\, Campus Lo Contador (el comendador 1916
 \, providencia)
SUMMARY:Lanzamiento libro Modelos Didácticos\, por Orlando Vigouroux
URL:https://fadeu-old.urantiacos.cl/agenda/evento/825-lanzamiento-libro-mod
 elos-didacticos-por-orlando-vigouroux
END:VEVENT
BEGIN:VEVENT
UID:20260423T201637UTC-2171Pu7jxN@https://fadeu-old.urantiacos.cl/
DTSTAMP:20260423T201637Z
DESCRIPTION:Presentaci&oacute\;n del programa de estudio implementado por l
 a Escuela de Ingenier&iacute\;a UC denominado IPre en asociaci&oacute\;n c
 on Dise&ntilde\;o UC. El programa est&aacute\; destinado a fomentar las co
 mpetencias de estudiantes en el &aacute\;rea de investigaci&oacute\;n. En 
 la presentaci&oacute\;n se entregar&aacute\;n detalles respecto al funcion
 amiento\, interacci&oacute\;n entre las escuelas de Ingenier&iacute\;a y D
 ise&ntilde\;o\, adem&aacute\;s de conocer ejemplos de investigaciones real
 izadas entre ambas unidades acad&eacute\;micas.\n&nbsp\;\n\n&nbsp\; https:
 //fadeu-old.urantiacos.cl/agenda/evento/829-presentacion-del-programa-ipre
 -investigacion-en-pregrado-diseno-uc
DTSTART:20170323T160000Z
DTEND:20170323T173000Z
LOCATION:Salón Sergio Larraín\, Campus Lo Contador ()
SUMMARY:Presentación del programa IPre: Investigación en pregrado Diseño UC
URL:https://fadeu-old.urantiacos.cl/agenda/evento/829-presentacion-del-prog
 rama-ipre-investigacion-en-pregrado-diseno-uc
END:VEVENT
BEGIN:VEVENT
UID:20260423T201637UTC-21752MWUMc@https://fadeu-old.urantiacos.cl/
DTSTAMP:20260423T201637Z
DESCRIPTION:El Mag&iacute\;ster en Patrimonio Cultural\, en conjunto con el
  Centro del Patrimonio Cultural de la Pontificia Universidad Cat&oacute\;l
 ica de Chile\, y en colaboraci&oacute\;n con la Escuela de Arquitectura UC
 \, invitan a usted a la Charla Magistral 'SUR-URBIA. El patrimonio de las 
 ciudades del sur.' que nos brindar&aacute\; el catedr&aacute\;tico e inves
 tigador espa&ntilde\;ol Jos&eacute\; Luis G&oacute\;mez Ord&oacute\;&ntild
 e\;ez\, la cual inaugurar&aacute\; el Inicio del A&ntilde\;o Acad&eacute\;
 mico 2017 del Mag&iacute\;ster en Patrimonio Cultural UC.&nbsp\;\nJos&eacu
 te\; Luis G&oacute\;mez Ord&oacute\;&ntilde\;ez\, Ingeniero de Caminos\, C
 anales y Puertos por la Universidad Polit&eacute\;cnica de Madrid y Doctor
 ado en Urbanismo en la Universidad Polit&eacute\;cnica de Catalu&ntilde\;a
 \, en Barcelona. Fue Profesor de la UPC- Facultades de Arquitectura e Inge
 nier&iacute\;a de C.C.y P.- hasta 1989\, y Catedr&aacute\;tico de Urbanism
 o de la Universidad de Granada desde 1995. Docente en las Facultades de Ar
 quitectura e Ingenier&iacute\;a de CCyP\, Coordinador del M&aacute\;ster d
 e Urbanismo y Director del grupo de investigaci&oacute\;n Laboratorio de U
 rbanismo de la Universidad de Granada\, hasta el a&ntilde\;o 2014. Posteri
 ormente\, profesor colaborador extraordinario de esta Universidad. Galardo
 nado en dos ocasiones con el Premio Nacional de Urbanismo concedido por el
  Ministerio de Fomento- Obras P&uacute\;blicas del Gobierno espa&ntilde\;o
 l. Ingeniero Candidato del Colegio Nacional de Ingenieros Civiles al Premi
 o Nacional de Urbanismo\, Jaume I\, de la Generalitat Valenciana\, en 2007
 .\n+ Favor confirmar asistencia al correo: magisterpatrimonio@uc.cl. Habr&
 aacute\; vino de honor.\n&nbsp\;\n\n&nbsp\; https://fadeu-old.urantiacos.c
 l/agenda/evento/807-inicio-de-ano-academico-2017-magister-en-patrimonio-cu
 ltural-uc
DTSTART:20170322T213000Z
DTEND:20170322T230000Z
LOCATION:Auditorio Arquitectura UC\, Campus Lo Contador (el comendador 1916
 \, providencia)
SUMMARY:Inicio de Año Académico 2017 Magíster en Patrimonio Cultural UC
URL:https://fadeu-old.urantiacos.cl/agenda/evento/807-inicio-de-ano-academi
 co-2017-magister-en-patrimonio-cultural-uc
END:VEVENT
BEGIN:VEVENT
UID:20260423T201637UTC-21827Vlt3V@https://fadeu-old.urantiacos.cl/
DTSTAMP:20260423T201637Z
DESCRIPTION:Conferencia Inaugural para Magister en Arquitectura del Paisaje
  UC 1&deg\; Semestre 2017\nAl inicio de cada semestre\, profesores de la E
 scuela de Arquitectura UC realizan una serie clases magistrales que inaugu
 ran el semestre acad&eacute\;mico de cada uno de los ciclos de nuestra car
 rera. Para el 1&deg\; semestre de 2017 la conferencia del Magister en Arqu
 itectura del Paisaje ser&aacute\; realizada por:\nDanilo MarticProfesor de
  Arquitectura UC. Arquitecto UC (1998). Master in Landscape Architecture\,
  University of Pennsylvania School of Design (2005). Primer lugar en concu
 rso Nueva Alameda Providencia junto a Lyon Bosch Arquitectos (2015):&nbsp\
 ;www.lbmap.cl\nInvitanEscuela Arquitectura UCMagister en Arquitectura del 
 Paisaje UC\n&nbsp\;\n\n\n&nbsp\;\n https://fadeu-old.urantiacos.cl/agenda/
 evento/805-conferencia-danilo-martic
DTSTART:20170321T213000Z
DTEND:20170321T230000Z
LOCATION:Auditorio Arquitectura UC\, Campus Lo Contador (el comendador 1916
 \, providencia)
SUMMARY:Conferencia Danilo Martic
URL:https://fadeu-old.urantiacos.cl/agenda/evento/805-conferencia-danilo-ma
 rtic
END:VEVENT
BEGIN:VEVENT
UID:20260423T201637UTC-21867JPurT@https://fadeu-old.urantiacos.cl/
DTSTAMP:20260423T201637Z
DESCRIPTION:1º Versión Talleres de Articulación: Nuevas Oportunidades para 
 una SmartCity\nLa actividad desarrollada por la Pontificia Universidad Cat
 ólica de Chile\, País Digital\, Inria Chile y Corfo tiene como propósito q
 ue los participantes desarrollen técnicas e instrumentos para la identific
 ación de problemas y oportunidades\, la ideación de propuestas y su consol
 idación por medio de prototipado rápido.\nEl taller\, junto con las soluci
 ones generadas\, se enmarca en los tres ejes estratégicos del Programa: Se
 guridad\, Medio Ambiente y Movilidad y será impar do por académicos de la 
 Escuela de Diseño y la Escuela de Ingeniería UC.\nSe desarrollarán 6 talle
 res\, divididos en 2 por cada eje estratégico. Cada uno estará compuesto p
 or 8 horas cronológicas\, divididas en 2 sesiones.\nEJE SEGURIDAD\nSesión 
 1: “Detección de Problemas y Oportunidades”Miércoles 15 de marzo de 14.00 
 a 18.00 hrs.\nSesión 2: “Generación de Ideas y Prototipado”Martes 28 de ma
 rzo de 9.00 a 13.00 hrs.Lo Contador UC (Los Navegantes 1919)\nEJE MEDIO AM
 BIENTE\nSesión 1: “Detección de Problemas y Oportunidades”Jueves 16 de mar
 zo de 9.00 a 13.00 hrs.\nSesión 2: “Generación de Ideas y Prototipado”Mart
 es 28 de marzo de 14.00 a 18.00 hrs.Lo Contador UC (Los Navegantes 1919)\n
 EJE MOVILIDAD\nSesión 1: “Detección de Problemas y Oportunidades”Martes 21
  de marzo de 14.00 a 18.00 hrs.\nSesión 2: “Generación de Ideas y Prototip
 ado”Martes 03 de abril de 9.00 a 13.00 hrs.Inria Chile (Apoquindo 2827\, p
 iso 2)\n+ Inscripciones y más información aquí.\n&nbsp\;\n https://fadeu-o
 ld.urantiacos.cl/agenda/evento/781-talleres-de-articulacion-nuevas-oportun
 idades-para-una-smartcity
DTSTART:20170321T170000Z
DTEND:20170321T210000Z
LOCATION:Campus Lo Contador (El Comendador 1916\, Providencia\, Providencia
 \, Región Metropolitana\, Chile)
SUMMARY:Talleres de articulación 'Nuevas oportunidades para una SmartCity'
URL:https://fadeu-old.urantiacos.cl/agenda/evento/781-talleres-de-articulac
 ion-nuevas-oportunidades-para-una-smartcity
END:VEVENT
BEGIN:VEVENT
UID:20260423T201637UTC-2193E0veHo@https://fadeu-old.urantiacos.cl/
DTSTAMP:20260423T201637Z
DESCRIPTION:&nbsp\;\n https://fadeu-old.urantiacos.cl/agenda/evento/823-la-
 ciudad-y-las-palabras-esperado-a-phillippe-garrel-por-christian-ramirez-y-
 hector-soto
DTSTART:20170320T200000Z
DTEND:20170320T213000Z
LOCATION:Sala de Doctorado\, 2do piso\, Campus Lo Contador (El Comendador 1
 970\, Providencia\, Región Metropolitana\, Chile)
SUMMARY:La Ciudad y Las Palabras 'Esperado a Phillippe Garrel\, por Christi
 án Ramírez y Héctor Soto
URL:https://fadeu-old.urantiacos.cl/agenda/evento/823-la-ciudad-y-las-palab
 ras-esperado-a-phillippe-garrel-por-christian-ramirez-y-hector-soto
END:VEVENT
END:VCALENDAR
