BEGIN:VCALENDAR
VERSION:2.0
PRODID:-//https://fadeu-old.urantiacos.cl///NONSGML kigkonsult.se iCalcreator 2.10.15//
METHOD:PUBLISH
BEGIN:VEVENT
UID:20260420T063934UTC-0912BJZvpj@https://fadeu-old.urantiacos.cl/
DTSTAMP:20260420T063934Z
DESCRIPTION:Conferencia de la profesora de la Universidade Federal de Rio G
 rande do Sul de Brasil\, Claudia Costa Cabral\, en el marco del proyecto F
 ondecyt 'Arquitectura y urbanismo en el laboratorio del desarrollo'\, lide
 rado por el profesor de la Escuela de Arquitectura UC\, Horacio Torrent.&n
 bsp\;\n&nbsp\;\nModernidad y figuraci&oacute\;n en la arquitectura de la c
 iudad moderna en Am&eacute\;rica Latina\n&nbsp\;\n\nLa integraci&oacute\;n
  de las artes pl&aacute\;sticas en la arquitectura tuvo un papel vital en 
 el desarrollo de la arquitectura y de la ciudad modernas en Am&eacute\;ric
 a Latina\, moldeada por una variedad de circunstancias y enfoques\, no sie
 mpre coincidentes. La conferencia examina la persistencia de la escultura 
 figurativa en la construcci&oacute\;n del espacio moderno en Am&eacute\;ri
 ca Latina\, del bloque del Ministerio de la Educaci&oacute\;n en Rio de Ja
 neiro (1936-45) a la inauguraci&oacute\;n de Bras&iacute\;lia (1956-61).\n
 La representaci&oacute\;n naturalista de la figura humana en el arte perte
 nece a un corpus acad&eacute\;mico\, que muy bien se podr&iacute\;a descri
 bir como opuesto a las b&uacute\;squedas de una formulaci&oacute\;n abstra
 cta del espacio arquitect&oacute\;nico. Asimismo\, desde la inclusi&oacute
 \;n de la figura femenina en bronce de Georg Kolbe en el Pabell&oacute\;n 
 de Barcelona por Mies a las in&uacute\;meras aportaciones latinoamericanas
 \, la persistencia de la escultura figurativa en el espacio moderno no pue
 de ser descartada como mero epifen&oacute\;meno. Adem&aacute\;s\, dicho te
 ma representa una visi&oacute\;n del problema de la integraci&oacute\;n de
  las artes que se podr&iacute\;a considerar como antit&eacute\;tica con re
 specto a otros ideales de la s&iacute\;ntesis de las artes en la tradici&o
 acute\;n moderna. La presentaci&oacute\;n buscar&aacute\; se&ntilde\;alar 
 que una noci&oacute\;n de la s&iacute\;ntesis de las artes guiada por el p
 aradigma barroco de la unidad iconogr&aacute\;fica parece haber subsistido
  como categor&iacute\;a interpretativa para la cr&iacute\;tica\, mientras 
 la pr&aacute\;ctica arquitect&oacute\;nica mostraba perspectivas distintas
 .\nCl&aacute\;udia Costa Cabral\, Arquitecta (Universidade Federal do Rio 
 Grande do Sul)\, Doctora en Arquitectura (Universitat Polit&egrave\;cnica 
 de Catalunya)\, Profesora Titular de la Facultad de Arquitectura de la Uni
 versidade Federal do Rio Grande do Sul. Es investigadora del CNPq &ndash\;
  Consejo Nacional de Desarrollo Cient&iacute\;fico y Tecnol&oacute\;gico\,
  y Coordinadora del Grupo de Investigaci&oacute\;n Estudios de Arquitectur
 a Moderna Latinoamericana (PROPAR-UFRGS/CNPq). Es autora de art&iacute\;cu
 los y cap&iacute\;tulos de libros publicados en Brasil y en el extranjero 
 (Argentina\, Chile\, Espa&ntilde\;a\, Estados Unidos\, Holanda). Fue Coord
 inadora de DOCOMOMO Brasil en el bienio 2012-2013.\nFecha_\nViernes 29 de 
 marzo de 2019\, 12 h.&nbsp\;\n&nbsp\;\nLugar_\nSal&oacute\;n SLGM\nEl Come
 ndador 1936\, Providencia\n&nbsp\;\nOrganizan_\nProyecto Fondecyt #1181290
 \nEscuela de Arquitectura UC&nbsp\;&nbsp\;\n&nbsp\;\n&nbsp\;\n&nbsp\; http
 s://fadeu-old.urantiacos.cl/agenda/evento/1819-conferencia-modernidad-y-fi
 guracion-en-la-arquitectura-de-la-ciudad-moderna-en-america-latina-claudia
 -costa-cabral
DTSTART:20190329T150000Z
DTEND:20190329T160000Z
LOCATION:Salón Sergio Larraín\, Campus Lo Contador ()
SUMMARY:Conferencia 'Modernidad y figuración en la arquitectura de la ciuda
 d moderna en América Latina' | Claudia Costa Cabral
URL:https://fadeu-old.urantiacos.cl/agenda/evento/1819-conferencia-modernid
 ad-y-figuracion-en-la-arquitectura-de-la-ciudad-moderna-en-america-latina-
 claudia-costa-cabral
END:VEVENT
BEGIN:VEVENT
UID:20260420T063934UTC-0925o20WHu@https://fadeu-old.urantiacos.cl/
DTSTAMP:20260420T063934Z
DESCRIPTION:Conferencia&nbsp\;'The City as Microchip' del profesor de teor&
 iacute\;a en el Karlsruhe Institute of Technology de Alemania\, Georg Vrac
 hliotis\, en el marco del curso 'Arquitectura y la Tradici&oacute\;n Moder
 na' del profesor de la Escuela de Arquitectura UC\, Horacio Torrent.\n&nbs
 p\;\n&nbsp\;\nThe City as Microchip\n&nbsp\;\nThe lecture 'The City as Mic
 rochip'\, will discuss the radical proposals of Swiss Architect Fritz Hall
 er (1924-2012)\, friend and colleague of Konrad Wachsmann. Haller is prima
 rily remembered for his design of the modular furniture system USM. Howeve
 r\, this furniture system was in fact only the modest demonstration of a m
 uch larger theory concerning urban planning at a planetary scale. This urb
 an theory were nothing less than one of the most enigmatic and perhaps las
 t attempts in the 20th century to create an outline for new forms of perce
 ption about infrastructural space and landscape and to transfer that which
  is technically invisible into a geometric form.\n&nbsp\;\n&nbsp\;\nLa con
 ferencia 'The City as Microchip'\, discutir&aacute\; las propuestas radica
 les del arquitecto suizo Fritz Haller (1924-2012)\, amigo y colega de Konr
 ad Wachsmann. Haller es recordado principalmente por su dise&ntilde\;o del
  sistema de muebles modulares USM. Sin embargo\, este sistema de muebles e
 ra\, de hecho\, solo la modesta demostraci&oacute\;n de una teor&iacute\;a
  mucho m&aacute\;s amplia sobre la planificaci&oacute\;n urbana a escala p
 lanetaria. Esta teor&iacute\;a urbana fue nada menos que uno de los intent
 os m&aacute\;s enigm&aacute\;ticos y quiz&aacute\;s los &uacute\;ltimos en
  el siglo XX para crear un esquema para las nuevas formas de percepci&oacu
 te\;n sobre el espacio infraestructural&nbsp\;y el paisaje&nbsp\;y para tr
 ansferir lo que es t&eacute\;cnicamente invisible a una forma geom&eacute\
 ;trica.\n&nbsp\;\n&nbsp\;\n\nGeorg Vrachliotis&nbsp\;is Professor of Archi
 tecture Theory and director of the&nbsp\;saai&nbsp\;| archive for architec
 ture and civil engineering at the Karlsruhe Institute of Technology (KIT).
  He was appointed Dean of the Faculty of Architecture in 2016. He is the c
 urator and (co)author of 'Architecture and Technical Thinking in the Age o
 f Cybernetics' (2009)\, 'Structuralism Reloaded. Rule-Based Design in Arch
 itecture and Urbanism&ldquo\; (2011)\, 'Fritz Haller. Architect and Resear
 cher' (2014) and of 'Frei Otto. Thinking by Modeling' (2017).\nGeorg Vrach
 liotis&nbsp\;es profesor de teor&iacute\;a de la arquitectura y director d
 e&nbsp\;saai&nbsp\;| archivo de arquitectura e ingenier&iacute\;a civil en
  Karlsruhe Institute of Technology (KIT). Fue nombrado decano de la Facult
 ad de Arquitectura en 2016. Es curador y (co) autor de 'Architecture and T
 echnical Thinking in the Age of Cybernetics' (2009)\, 'Structuralism Reloa
 ded. Rule-Based Design in Architecture and Urbanism&ldquo\; (2011)\, 'Frit
 z Haller. Architect and Researcher' (2014) y de 'Frei Otto. Thinking by Mo
 deling' (2017).\n\nFecha_\nViernes 29 de marzo de 2019\, 10 h.\n&nbsp\;\n&
 nbsp\;\n&nbsp\;\nLugar_\nSal&oacute\;n SLGM\nEl Comendador 1936\, Providen
 cia\n&nbsp\;\n&nbsp\;\n&nbsp\;\nOrganizan_\nProyecto Fondecyt #1181290\nEs
 cuela de Arquitectura UC&nbsp\;\n&nbsp\;\n&nbsp\;\n&nbsp\;\nNoticiasContac
 to:&nbsp\;redesarq@uc.cl&nbsp\;| +56 2 2354 7747www.arquitectura.uc.cl htt
 ps://fadeu-old.urantiacos.cl/agenda/evento/1820-conferencia-the-city-as-mi
 crochip-georg-vrachliotis
DTSTART:20190329T130000Z
DTEND:20190329T140000Z
LOCATION:Salón Sergio Larraín\, Campus Lo Contador ()
SUMMARY:Conferencia 'The City as Microchip' | Georg Vrachliotis
URL:https://fadeu-old.urantiacos.cl/agenda/evento/1820-conferencia-the-city
 -as-microchip-georg-vrachliotis
END:VEVENT
BEGIN:VEVENT
UID:20260420T063934UTC-0936Sovl6l@https://fadeu-old.urantiacos.cl/
DTSTAMP:20260420T063934Z
DESCRIPTION:\n\n\n\n\n\n\n\n\nSeminario organizado por el profesor Daniel T
 alesnik con el apoyo de la Escuela de Arquitectura de la Pontificia Univer
 sidad Cat&oacute\;lica de Chile y el Ministerio de las Culturas\, las Arte
 s y el Patrimonio.\n&nbsp\;\n&nbsp\;\nEl 2019 marca el centenario de la Ba
 uhaus (1919-1933\, Weimar\, Dessau y Berl&iacute\;n)\, escuela que inici&o
 acute\; y desarroll&oacute\; pedagog&iacute\;as que cambiaron la manera de
  ense&ntilde\;ar arte\, dise&ntilde\;o y arquitectura en el mundo. Es posi
 ble rastrear aspectos de ense&ntilde\;anzas Bauhaus a lo largo de Latinoam
 &eacute\;rica. En particular\, en Chile ense&ntilde\;aron profesores relac
 ionados con ella en las escuelas de arquitectura de la Universidad de Chil
 e en la d&eacute\;cada del 40 y en la Universidad Cat&oacute\;lica en la d
 &eacute\;cada del 50.\n&nbsp\;\nEste simposio internacional reunir&aacute\
 ; a investigadoras e investigadores nacionales e internacionales que han e
 studiado contactos directos e indirectos entre personas e ideas relacionad
 as con la Bauhaus\, Chile y Latinoam&eacute\;rica en general. Hablar de la
  Bauhaus como un fen&oacute\;meno unitario puede ser enga&ntilde\;oso\, y 
 las diferentes presentaciones de esta conferencia desplegar&aacute\;n idea
 s\, protagonistas y personajes que aterrizan en Latinoam&eacute\;rica sin 
 necesariamente compartir los mismos referentes ni representar una cultura 
 homog&eacute\;nea. Al indagar en estas diferentes experiencias\, se discut
 ir&aacute\;n sus legados y posibles vigencias.\n* El d&iacute\;a s&aacute\
 ;bado 30 de marzo se realizar&aacute\; una segunda versi&oacute\;n del sem
 inario en el&nbsp\;Centro de Extensi&oacute\;n&nbsp\;del&nbsp\;Ministerio 
 de las Culturas\, las Artes y el Patrimonio\, sede Valpara&iacute\;so (Pla
 za Sotomayor 233)\, de 12.00 a 14.00 horas.\nPrograma_\n&nbsp\;\nIntroducc
 i&oacute\;n: Bauhaus y Latinoam&eacute\;rica\n14:05-14:20 h.\nDaniel Tales
 nik\, marco seminario y presentaci&oacute\;n invitados\n&nbsp\;\nPanel 1: 
 ' Bauhaus y Latinoam&eacute\;rica\, contactos directos e indirectos'\n14:2
 0-15:40 h.\n&nbsp\;\nFrancisco Liernur\, 'El concepto de Internacionalismo
  impl&iacute\;cito en la Internationale Architektur de Walter Gropius'Hora
 cio Torrent\, 'Ludwig Hilberseimer: Grosstadtarchitektur\, vigencia latino
 americana'\nJoaqu&iacute\;n Medina\, 'Walter Gropius y su red iberoamerica
 na'\n&nbsp\;\nPanel 2: ' Bauh&auml\;usler y sus alumnos en Latinoam&eacute
 \;rica'\n15:40-17:40 h.\n&nbsp\;\nAdri&aacute\;n Gorelik\, 'El impacto de 
 la Bauhaus en Am&eacute\;rica Latina'Raquel Franklin\, 'Hannes Meyer en M&
 eacute\;xico'Daniel Talesnik\, 'Tibor Weiner y la reforma de la escuela de
  arquitectura de la Universidad de Chile (1946-47)'Alejandro Crispiani\, '
 Ambiente\, cuerpo y subdesarrollo: el Manual de Dise&ntilde\;o de Gui Bons
 iepe (1969-70)'.\n&nbsp\;\nBreak\n17:40-17:55 h.\n&nbsp\;\nPanel 3: 'Josef
  y Anni Albers en Chile'\n17:55-19:15 h.\nHugo Palmarola\, 'Josef Albers e
 n Chile'Crist&oacute\;bal Molina\, 'Josef Albers y Alberto Piwonka: ecos d
 e una colaboraci&oacute\;n acad&eacute\;mica'Gabriela Garc&iacute\;a de Co
 rt&aacute\;zar\, 'Anni Andina'Brenda Danilowitz\, 'El legado de Albers en 
 Chile y Per&uacute\; a trav&eacute\;s de sus alumnos John Cohen\, Sheila H
 icks\, Norman Carlberg y Si Sillman'\n&nbsp\;\nCierre\n19:15-19:35 h.\n&nb
 sp\;\nFecha_\nJueves 28 de marzo de 2019\, 14.00 a 19.35 h.&nbsp\;\n&nbsp\
 ;\nLugar_\nAuditorio FCV. El Comendador 1936\, Providencia\n&nbsp\;\nOrgan
 izan_\nEscuela de Arquitectura UC&nbsp\;\nMinisterio de las Culturas\, las
  Artes y el Patrimonio\n&nbsp\;\n\n&nbsp\;\nNoticiasContacto:&nbsp\;redesa
 rq@uc.cl&nbsp\;| +56 2 2354 7747www.arquitectura.uc.cl\n\n\n\n\n\n\n\n\n&n
 bsp\;\n\n\n\n\n&nbsp\;\n https://fadeu-old.urantiacos.cl/agenda/evento/180
 5-seminario-la-bauhaus-y-latinoamerica
DTSTART:20190328T170000Z
DTEND:20190328T223500Z
LOCATION:Auditorio Fernando Castillo Velasco. Edificio ARQ (El Comendador 1
 936\, Providencia\, Región Metropolitana\, Chile)
SUMMARY:Seminario La Bauhaus y Latinoamérica
URL:https://fadeu-old.urantiacos.cl/agenda/evento/1805-seminario-la-bauhaus
 -y-latinoamerica
END:VEVENT
BEGIN:VEVENT
UID:20260420T063934UTC-09491NrovE@https://fadeu-old.urantiacos.cl/
DTSTAMP:20260420T063934Z
DESCRIPTION:Inauguraci&oacute\;n de las nuevas dependencias del&nbsp\;Labor
 atorio de Iluminaci&oacute\;n\, espacio enfocado en la reflexi&oacute\;n y
  experimentaci&oacute\;n en torno a la luz y color. Provisto de todo tipo 
 de fuentes de luz\, equipos el&eacute\;ctricos auxiliares y de iluminaci&o
 acute\;n\, instrumentos de medida y sistemas de control. Este espacio&nbsp
 \;busca consolidar el conocimiento impartido a trav&eacute\;s de pregrado\
 , educaci&oacute\;n continua\, como en investigaci&oacute\;n y asesor&iacu
 te\;as vinculadas a la tem&aacute\;tica.&nbsp\;\n&nbsp\;\n\nFecha::&nbsp\;
 Jueves 28 de marzo de 2019\, 13.00 hrs.\nLugar::&nbsp\;2&ordm\; piso del E
 dificio de Laboratorios (ex Arte)\, campus Lo Contador. El Comendador 1936
 \, Providencia.\n\nConfirmaciones&nbsp\;aqu&iacute\;.\n&nbsp\;\n https://f
 adeu-old.urantiacos.cl/agenda/evento/1808-inauguracion-laboratorio-de-ilum
 inacion
DTSTART:20190328T160000Z
DTEND:20190328T170000Z
LOCATION:2 piso edificio Ex Artes (El Comendador 1916)
SUMMARY:Inauguración Laboratorio de Iluminación
URL:https://fadeu-old.urantiacos.cl/agenda/evento/1808-inauguracion-laborat
 orio-de-iluminacion
END:VEVENT
BEGIN:VEVENT
UID:20260420T063934UTC-0954ZwrZTd@https://fadeu-old.urantiacos.cl/
DTSTAMP:20260420T063934Z
DESCRIPTION:En marzo tendremos la visita Susan Fainstein\, para iniciar el 
 a&ntilde\;o acad&eacute\;mico del Instituto de Estudios Urbanos y Territor
 iales UC.\nSu teor&iacute\;a sobre la Ciudad Justa y el rol de los Planifi
 cadores Urbanos\, la participaci&oacute\;n ciudadana y la democratizaci&oa
 cute\;n de las decisiones de intervenci&oacute\;n de los territorios han p
 ermitido que Fainstein dicte conferencias\, clases y charlas magistrales e
 n las universidades m&aacute\;s prestigiosas del mundo (Harvard\, Columbia
  y otras).\nAdem&aacute\;s de su charla magistral el 27 de marzo a las 9:0
 0 horas\, Fainstein se reunir&aacute\; con acad&eacute\;micos e investigad
 ores del Instituto de Estudios Urbanos y Territoriales para reflexionar e 
 intercambiar ideas sobre la planificaci&oacute\;n urbana en Chile y Latino
 am&eacute\;rica\, y tambi&eacute\;n tendr&aacute\; ocasi&oacute\;n de reun
 irse con estudiantes de Planificaci&oacute\;n Urbana y de los Mag&iacute\;
 steres en Desarrollo Urbano y en Asentamientos Humanos y Medio Ambiente.\n
 &nbsp\; https://fadeu-old.urantiacos.cl/agenda/evento/1790-conferencia-sus
 an-fainstein
DTSTART:20190328T120000Z
DTEND:20190328T130000Z
LOCATION:Auditorio FADEU\, Campus Lo Contador PUC (El Comendador 1916\, Pro
 videncia\, Providencia\, Región Metropolitana\, Chile)
SUMMARY:Conferencia Susan Fainstein
URL:https://fadeu-old.urantiacos.cl/agenda/evento/1790-conferencia-susan-fa
 instein
END:VEVENT
BEGIN:VEVENT
UID:20260420T063934UTC-0958eAajMT@https://fadeu-old.urantiacos.cl/
DTSTAMP:20260420T063934Z
DESCRIPTION:Con el objeto de reconocer el premio obtenido por Al Gramo en l
 os Interaction Awards 2019&nbsp\;realizado en Seattle\, el cap&iacute\;tul
 o chileno de IxDA\, en conjunto con el&nbsp\;MADA UC y la Escuela de Dise&
 ntilde\;o\, han organizado un Meetup con los participantes chilenos de est
 e concurso para hacer la entrega oficial del premio a la categor&iacute\;a
  Disrupting al proyecto del graduado MADA Juan Jos&eacute\; Moller.\nIxDA
 \nFundada por la Interaction Design Association (IxDA) en 2010 y presentad
 a por primera vez en 2012\, los premios Interaction Awards anuales celebra
 n el liderazgo de pensamiento innovador y la innovaci&oacute\;n en todo el
  mundo. Cada a&ntilde\;o\, los galardonados incluyen un escaparate que dem
 uestra c&oacute\;mo el dise&ntilde\;o de interacci&oacute\;n impacta y mej
 ora las vidas humanas.\n&nbsp\;\n https://fadeu-old.urantiacos.cl/agenda/e
 vento/1816-meet-up-al-gramo
DTSTART:20190327T220000Z
DTEND:20190327T230000Z
LOCATION:Salón Sergio Larraín\, Campus Lo Contador ()
SUMMARY:MEET UP: Al Gramo
URL:https://fadeu-old.urantiacos.cl/agenda/evento/1816-meet-up-al-gramo
END:VEVENT
BEGIN:VEVENT
UID:20260420T063934UTC-09626tUlwl@https://fadeu-old.urantiacos.cl/
DTSTAMP:20260420T063934Z
DESCRIPTION: https://fadeu-old.urantiacos.cl/agenda/evento/1823-conversacio
 n-en-torno-a-una-pintura-panoramica-del-santiago-del-1800
DTSTART:20190327T220000Z
DTEND:20190327T230000Z
LOCATION:Museo Nacional Benjamín Vicuña Mackenna\, Vicuña Mackenna 94\, San
 tiago\, Chile (Vicuña Mackenna 94\, Providencia\, Región Metropolitana\, C
 hile)
SUMMARY:Conversación en torno a una pintura panorámica del Santiago del 180
URL:https://fadeu-old.urantiacos.cl/agenda/evento/1823-conversacion-en-torn
 o-a-una-pintura-panoramica-del-santiago-del-1800
END:VEVENT
BEGIN:VEVENT
UID:20260420T063934UTC-0965RanFzD@https://fadeu-old.urantiacos.cl/
DTSTAMP:20260420T063934Z
DESCRIPTION:Segunda sesi&oacute\;n del ciclo de pel&iacute\;culas sobre pai
 saje asociado al curso m&iacute\;nimo de pregrado&nbsp\;Ciudad y Paisaje I
 II\, dictado por la profesora Romy Hecht y&nbsp\;la profesora instructora&
 nbsp\;Tatiana Carbonell. En esta ocasi&oacute\;n\, la tem&aacute\;tica a t
 ratar ser&aacute\; 'Paisaje y Ecolog&iacute\;a' y se proyectar&aacute\; la
  pel&iacute\;cula 'Flores' de Jorge J&aacute\;come (2017).\n&nbsp\;\nEl pa
 isaje es absolutamente inseparable de la idea de su representaci&oacute\;n
 \, donde aquello que se formula se proyecta desde una cultura\, idea e his
 toria. El ciclo de cine&nbsp\;Proyecciones desde el Paisaje&nbsp\;exhibir&
 aacute\; una serie de filmes que proponen puntos de vista particulares par
 a construir el paisaje\, que ilustran los conceptos o voluntades tanto de 
 quienes los gestan como de quienes observan dicha proyecci&oacute\;n.\nPod
 r&iacute\;amos pensar entonces que\, en rigor\, en una pel&iacute\;cula lo
  que vemos no es sino la decisi&oacute\;n de un encuadre.\nProyecciones de
 sde el Paisaje es una invitaci&oacute\;n abierta a dialogar en un contrapu
 nto desde la mirada del paisaje a la c&aacute\;mara del director.&nbsp\;\n
 Marzo 20 Paisaje y Memoria\nBarry Lyndon &middot\; Stanley Kubrick (Warner
  Bros\, 1975)\, fragmentos\n&nbsp\;\nMarzo 27 Paisaje y Ecolog&iacute\;a\n
 Flores &middot\; Jorge J&aacute\;come (2017)\n&nbsp\;\nAbril 10 La Constru
 cci&oacute\;n Declarada del Paisaje\nFitzcarraldo &middot\; Werner Herzog 
 (Filmverlag der Autoren\, 1982)\, fragmentos\n&nbsp\;\nAbril 17 &iquest\;N
 aturaleza o Paisaje?\nGerry &middot\; Gus Van Sant (THINKFilm\, 2002)\n&nb
 sp\;\nMayo 08 Pulmones y Otros Dispositivos Verdes\nBlow Up &middot\; Mich
 elangelo Antonioni (MGM\, 1966)\n&nbsp\;\nMayo 15 Pol&iacute\;tica y Jard&
 iacute\;n\nLazzaro Felice &middot\; Alice Rohrwacher (Tempesta\, Amka Film
 s Productions\, Ad Vitam\, 2018)&nbsp\;\n&nbsp\;\nFechas_\n1er Semestre 20
 19 | mi&eacute\;rcoles 13.20 a 15.20 h.&nbsp\;\n&nbsp\;\nLugar_\nAuditorio
  FCV. El Comendador 1936\, Providencia\n&nbsp\;\nOrganiza_\nEscuela de Arq
 uitectura UC&nbsp\;\n&nbsp\;\n\n&nbsp\;\nNoticiasContacto:&nbsp\;redesarq@
 uc.cl&nbsp\;| +56 2 2354 7747www.arquitectura.uc.cl https://fadeu-old.uran
 tiacos.cl/agenda/evento/1818-ciclo-de-cine-proyecciones-desde-el-paisaje-p
 aisaje-y-ecologia
DTSTART:20190327T163000Z
DTEND:20190327T173000Z
LOCATION:Auditorio Fernando Castillo Velasco. Edificio ARQ (El Comendador 1
 936\, Providencia\, Región Metropolitana\, Chile)
SUMMARY:Ciclo de cine 'Proyecciones desde el Paisaje' | Paisaje y ecología
URL:https://fadeu-old.urantiacos.cl/agenda/evento/1818-ciclo-de-cine-proyec
 ciones-desde-el-paisaje-paisaje-y-ecologia
END:VEVENT
BEGIN:VEVENT
UID:20260420T063934UTC-09736bg5tU@https://fadeu-old.urantiacos.cl/
DTSTAMP:20260420T063934Z
DESCRIPTION:Nicholas Serrano\n'Gringos with the Greenest Grass: Paisaje y R
 aza en el Sur del Estados Unidos de la Postguerra'&nbsp\;\n&nbsp\;\nEsta c
 harla abordar&aacute\; el rol del proyecto de paisaje en la construcci&oac
 ute\;n de identidades raciales del habitante blanco de clase media del sur
  de Estados Unidos. A&uacute\;n cuando la historia colonial del pa&iacute\
 ;s estuvo dominada por una narrativa de mercantilismo y libertad religiosa
 \, el Sur tuvo un pasado particular\, te&ntilde\;ido por la relaci&oacute\
 ;n entre paisaje y raza.\nLas d&eacute\;cadas posteriores a la Segunda Gue
 rra Mundial trajeron consigo un desarrollo econ&oacute\;mico y cultural nu
 nca antes visto\, que restructur&oacute\; la vida &lsquo\;Americana&rsquo\
 ; gracias a la incorporaci&oacute\;n de medioambientes mas bien homog&eacu
 te\;neos y controlados.\nEspec&iacute\;ficamente\, se abordar&aacute\; el 
 dise&ntilde\;o y conceptualizaci&oacute\;n de ciertos jardines para entend
 er c&oacute\;mo los proyectos de arquitectura del paisaje naturalizaron la
  construcci&oacute\;n social de la raza blanca a trav&eacute\;s de valores
  &eacute\;ticos y est&eacute\;ticos. Se busca as&iacute\; argumentar que e
 l paisaje es un archivo vivo de procesos y relaciones sociales que persist
 e hasta el d&iacute\;a de hoy como un marco de referencia para la construc
 cci&oacute\;n de identidades raciales.\nNicholas Serrano\nProfesor Asisten
 te en la Robert Reich School of Landscape Architecture de Louisiana State 
 University\, donde dicta cursos sobre sistemas urbanos y ecolog&iacute\;a 
 de asociaciones vegetales. Posee una formaci&oacute\;n professional en hor
 ticultura y arquitectura del paisaje y es PhD en el programa de Dise&ntild
 e\;o de North Carolina State University. Su tesis aborda la historia de la
  arquitectura del paisaje y el desarrollo urbano en el Estados Unidos del 
 sur durante el per&iacute\;odo de postguerra y ha sido apoyada por becas d
 el Smithsonian Institution y Dumbarton Oaks Research Library\, ambos en Wa
 shington\, DC.\nInscripciones&nbsp\;a&nbsp\;redesarq@uc.cl\nCupos limitado
 s\n&nbsp\;\nFecha_\nMartes 26 de marzo de 2019\, 18.30 h.\n&nbsp\;\nLugar_
 \nAuditorio FCV. El Comendador 1936\, Providencia\n&nbsp\;\nInvitan_\nMagi
 ster en Arquitectura del Paisaje UC\nEscuela de Arquitectura UC&nbsp\;\n* 
 Con el apoyo de Conicyt\, Proyecto Fondecyt Regular N&ordm\; 1160277\n&nbs
 p\;\n\n&nbsp\;\nNoticiasContacto:&nbsp\;redesarq@uc.cl&nbsp\;| +56 2 2354 
 7747www.arquitectura.uc.cl https://fadeu-old.urantiacos.cl/agenda/evento/1
 800-conferencia-nicholas-serrano
DTSTART:20190326T213000Z
DTEND:20190326T223000Z
LOCATION:Auditorio Fernando Castillo Velasco. Edificio ARQ (El Comendador 1
 936\, Providencia\, Región Metropolitana\, Chile)
SUMMARY:Conferencia Nicholas Serrano
URL:https://fadeu-old.urantiacos.cl/agenda/evento/1800-conferencia-nicholas
 -serrano
END:VEVENT
BEGIN:VEVENT
UID:20260420T063934UTC-0982bGTOeb@https://fadeu-old.urantiacos.cl/
DTSTAMP:20260420T063934Z
DESCRIPTION:Conferencia inaugural del Mag&iacute\;ster en&nbsp\;Arquitectur
 a Sustentable y Energ&iacute\;a (MASE)\, que tendr&aacute\;&nbsp\;como inv
 itados a tres egresados del programa\, quienes expondr&aacute\;n sus respe
 ctivas investigaciones. Se tratar&aacute\; de una instancia de di&aacute\;
 logo entre profesores\, estudiantes y titulados\, con &eacute\;nfasis en l
 as distintas l&iacute\;neas y alcances que pueden seguir las tesis dentro 
 del mag&iacute\;ster.\n&nbsp\;\n&nbsp\;\nExpositores_\nCatalina Borquez.&n
 bsp\;Egresada el 2018\, realiz&oacute\; su tesis con los profesores Mauric
 io Lama y Pablo Sills. Su tesis se titula 'Enclaves en una ruta: Adaptacio
 nes para una arquitectura pasiva en la nueva ruta hacia el Canal de Beagle
 . Comunidad Timaukel y sus posibilidades de desarrollo a trav&eacute\;s de
  infraestructuras adaptadas al contexto geogr&aacute\;fico para las necesi
 dades de la ruta en construcci&oacute\;n hacia el sur de la Isla Grande de
  Tierra del Fuego'.\nMariana Andrade.&nbsp\;Entreg&oacute\; su t&iacute\;t
 ulo en enero de 2019\, siendo guiada por los profesores Felipe Encinas y J
 avier del R&iacute\;o. Su tesis se titula 'Sistema de turnos y habitabilid
 ad en campamentos mineros. Nueva secuencia espacial y lum&iacute\;nica par
 a mejorar la calidad de vida de trabajadores mineros con &eacute\;nfasis e
 n el manejo del ciclo circadiano.'\nSantiago Gana. Entreg&oacute\; su t&ia
 cute\;tulo en enero de 2019\, siendo guiado por los profesores Macarena Bu
 rdiles y Mauricio Lama. Su tesis se titula 'Revalorizaci&oacute\;n del cic
 lo del agua en el Parque O&rsquo\;Higgins. Sistema para la purificaci&oacu
 te\;n\, reutilizaci&oacute\;n y puesta en valor del agua en el espacio p&u
 acute\;blico a trav&eacute\;s del proyecto arquitect&oacute\;nico.'\nFecha
 _\nMartes 26 de marzo de 2019\, 13 h.\n&nbsp\;\n&nbsp\;\nLugar_\nAuditorio
  FCV\nEl Comendador 1936\, Providencia\n&nbsp\;\n&nbsp\;\nOrganizan_Mag&ia
 cute\;ster en Arquitectura Sustentable y Energ&iacute\;a (MASE)Escuela de 
 Arquitectura UC\n&nbsp\;\n\n&nbsp\; https://fadeu-old.urantiacos.cl/agenda
 /evento/1821-conferencia-inaugural-mase-uc-tesis-recientes
DTSTART:20190326T160000Z
DTEND:20190326T170000Z
LOCATION:Auditorio Fernando Castillo Velasco. Edificio ARQ (El Comendador 1
 936\, Providencia\, Región Metropolitana\, Chile)
SUMMARY:Conferencia Inaugural MASE UC | Tesis recientes
URL:https://fadeu-old.urantiacos.cl/agenda/evento/1821-conferencia-inaugura
 l-mase-uc-tesis-recientes
END:VEVENT
END:VCALENDAR
