BEGIN:VCALENDAR
VERSION:2.0
PRODID:-//https://fadeu-old.urantiacos.cl///NONSGML kigkonsult.se iCalcreator 2.10.15//
METHOD:PUBLISH
BEGIN:VEVENT
UID:20260423T190526UTC-0964vaxlWF@https://fadeu-old.urantiacos.cl/
DTSTAMP:20260423T190526Z
DESCRIPTION:En esta tercera versi&oacute\;n del Congreso de Dise&ntilde\;o 
 de Servicios\, se abre la invitaci&oacute\;n a presentar investigaciones t
 e&oacute\;ricas y aplicadas as&iacute\; como tambi&eacute\;n proyectos de 
 intervenci&oacute\;n\, que surjan desde la reflexi&oacute\;n y/o la pr&aac
 ute\;ctica en el &aacute\;mbito acad&eacute\;mico (de pre y postgrado)\, e
 n el &aacute\;mbito empresarial (consultor&iacute\;as y emprendimientos)\,
  en el &aacute\;mbito de las ONG&rsquo\;s (corporaciones y fundaciones) y 
 en el sector p&uacute\;blico.\nFechas importantesCierre recepci&oacute\;n 
 res&uacute\;menes (1.800 caracteres): 31 marzo 2017Notificaci&oacute\;n de
  res&uacute\;menes aceptados: 30 abril 2017Cierre recepci&oacute\;n de pon
 encias (9.000 caracteres): 31 mayo 2017Notificaci&oacute\;n de observacion
 es a ponencias: 30 junio 2017Cierre recepci&oacute\;n de ponencias corregi
 das: 31 julio 2017Realizaci&oacute\;n del tercer Congreso de Dise&ntilde\;
 o de Servicios: Primera semana de septiembre 2017\n+ Consultas con: Marilu
 z Soto\, mariluz.soto@uc.cl\n+ Descargar Bases (PDF) aqu&iacute\;.\n\n&nbs
 p\; https://fadeu-old.urantiacos.cl/agenda/evento/803-cierre-de-convocator
 ia-3-congreso-diseno-de-servicios
DTSTART:20170331T030000Z
LOCATION:Escuela de Diseño UC\, Campus Lo Contador (El Comendador\, Provide
 ncia\, Providencia\, Región Metropolitana\, Chile)
SUMMARY:Cierre de convocatoria: 3º Congreso Diseño de Servicios
URL:https://fadeu-old.urantiacos.cl/agenda/evento/803-cierre-de-convocatori
 a-3-congreso-diseno-de-servicios
END:VEVENT
BEGIN:VEVENT
UID:20260423T190526UTC-0971xlow60@https://fadeu-old.urantiacos.cl/
DTSTAMP:20260423T190526Z
DESCRIPTION:Conferencia de Boris Groys en el marco del TIP MARQ UC de Pedro
  Alonso y Nicol&aacute\;s Stutzin\nBoris Groys es cr&iacute\;tico de arte 
 y fil&oacute\;sofo alem&aacute\;n\, Global Distinguished Professor of Russ
 ian and Slavic Studies\, NYU. Entre sus libros se encuentran 'The Total Ar
 t of Stalinism' (1992)\, 'Art Power' (2008) e 'Introduction to Antiphiloso
 phy' (2012). En paralelo\, se realizar&aacute\; el lanzamiento del n&uacut
 e\;mero 95 de la revista ARQ\, 'Referentes'.\nOrganizaTaller de Investigac
 i&oacute\;n y Proyecto\, Profesores Pedro Ignacio Alonso y Nicolas Stutzin
  'Kazimir Malevich\, Architectons' Magister en Arquitectura UC\nColaboraAr
 quitectura UCEdiciones ARQ\n&nbsp\;\n https://fadeu-old.urantiacos.cl/agen
 da/evento/837-conferencia-y-lanzamiento-arq-95
DTSTART:20170330T223000Z
DTEND:20170331T000000Z
LOCATION:Auditorio FADEU\, Campus Lo Contador PUC (El Comendador 1916\, Pro
 videncia\, Providencia\, Región Metropolitana\, Chile)
SUMMARY:Conferencia y Lanzamiento ARQ 95
URL:https://fadeu-old.urantiacos.cl/agenda/evento/837-conferencia-y-lanzami
 ento-arq-95
END:VEVENT
BEGIN:VEVENT
UID:20260423T190526UTC-0976hkV6N1@https://fadeu-old.urantiacos.cl/
DTSTAMP:20260423T190526Z
DESCRIPTION:Descubriendo el Paisaje ChilenoPor Cristina Felsenhardt y Sebas
 ti&aacute\;n Schoennenbeck\n'El Paisaje en la Literatura y Pintura Chilena
 : Representaci&oacute\;n\, Ideolog&iacute\;a y Naci&oacute\;n' con Cristin
 a Felsenhardt\, Arquitecta y Doctora en Teor&iacute\;a de la Arquitectura\
 , y Sebasti&aacute\;n Schoennenbeck\, Doctor en Literatura Hispanoamerican
 a\, ser&aacute\; la primera conferencia del ciclo que intentar&aacute\; de
 sde discusiones y cruces interdisciplinarios ampliar el horizonte cr&iacut
 e\;tico y operativo con el que se enfrenta el paisaje en Chile.\n+ Entrada
  liberada\, cupos limitados. Inscripci&oacute\;n a magistermapa@uc.cl\nOrg
 anizaCorporaci&oacute\;n Cultura de Paisaje en Chile\nColaboraArquitectura
  UCMagister en Arquitectura del Paisaje UCPontificia Universidad Cat&oacut
 e\;lica de ChileLOFscapesSantiago Adicto\n&nbsp\;\n\n&nbsp\; https://fadeu
 -old.urantiacos.cl/agenda/evento/811-descubriendo-el-paisaje-chileno-por-c
 ristina-felsenhardt-y-sebastian-schoennenbeck
DTSTART:20170330T213000Z
DTEND:20170330T230000Z
LOCATION:Auditorio Arquitectura UC\, Campus Lo Contador (el comendador 1916
 \, providencia)
SUMMARY:Descubriendo el Paisaje Chileno\, por Cristina Felsenhardt y Sebast
 ián Schoennenbeck
URL:https://fadeu-old.urantiacos.cl/agenda/evento/811-descubriendo-el-paisa
 je-chileno-por-cristina-felsenhardt-y-sebastian-schoennenbeck
END:VEVENT
BEGIN:VEVENT
UID:20260423T190526UTC-0982NBCG1w@https://fadeu-old.urantiacos.cl/
DTSTAMP:20260423T190526Z
DESCRIPTION:Lateral Office\, fundada el 2003 por Lola Shepard y Mason White
  es un estudio de dise&ntilde\;o experimental que opera en la interesecci&
 oacute\;n entre arquitectura\, paisaje y urbanismo. Describen su aproximac
 i&oacute\;n a los problemas de dise&ntilde\;o como un compromiso al dise&n
 tilde\;o como veh&iacute\;culo de investigaci&oacute\;n para plantear y re
 sponder preguntas complejas y urgentes sobre el entorno construido\, invol
 ucr&aacute\;ndose con un contexto pol&iacute\;tico\, ecol&oacute\;gico o s
 ocial m&aacute\;s amplio.\nSus propuestas han sido reconocidas con el '201
 6 National Urban Design Award 2016'\, '2011 Holcim Foundation for Sustaina
 ble Construction Gold Award'\, '2011 Emerging Voices award from the Archit
 ectural League of New York' entre otros.\nInvitanUMWELT\, Taller de Invest
 igaci&oacute\;n y Proyecto Mag&iacute\;ster en Arquitectura UC\nColaboraAr
 quitectura UC\, Vicerrector&iacute\;a de Investigaci&oacute\;n UC\n&nbsp\;
 \n&nbsp\;\n\n\n https://fadeu-old.urantiacos.cl/agenda/evento/835-conferen
 cia-lateral-office
DTSTART:20170329T213000Z
DTEND:20170329T233000Z
LOCATION:Auditorio Arquitectura UC\, Campus Lo Contador (el comendador 1916
 \, providencia)
SUMMARY:Conferencia Lateral Office
URL:https://fadeu-old.urantiacos.cl/agenda/evento/835-conferencia-lateral-o
 ffice
END:VEVENT
BEGIN:VEVENT
UID:20260423T190526UTC-0987jS37Ub@https://fadeu-old.urantiacos.cl/
DTSTAMP:20260423T190526Z
DESCRIPTION:1º Versión Talleres de Articulación: Nuevas Oportunidades para 
 una SmartCity\nLa actividad desarrollada por la Pontificia Universidad Cat
 ólica de Chile\, País Digital\, Inria Chile y Corfo tiene como propósito q
 ue los participantes desarrollen técnicas e instrumentos para la identific
 ación de problemas y oportunidades\, la ideación de propuestas y su consol
 idación por medio de prototipado rápido.\nEl taller\, junto con las soluci
 ones generadas\, se enmarca en los tres ejes estratégicos del Programa: Se
 guridad\, Medio Ambiente y Movilidad y será impar do por académicos de la 
 Escuela de Diseño y la Escuela de Ingeniería UC.\nSe desarrollarán 6 talle
 res\, divididos en 2 por cada eje estratégico. Cada uno estará compuesto p
 or 8 horas cronológicas\, divididas en 2 sesiones.\nEJE SEGURIDAD\nSesión 
 1: “Detección de Problemas y Oportunidades”Miércoles 15 de marzo de 14.00 
 a 18.00 hrs.\nSesión 2: “Generación de Ideas y Prototipado”Martes 28 de ma
 rzo de 9.00 a 13.00 hrs.Lo Contador UC (Los Navegantes 1919)\nEJE MEDIO AM
 BIENTE\nSesión 1: “Detección de Problemas y Oportunidades”Jueves 16 de mar
 zo de 9.00 a 13.00 hrs.\nSesión 2: “Generación de Ideas y Prototipado”Mart
 es 28 de marzo de 14.00 a 18.00 hrs.Lo Contador UC (Los Navegantes 1919)\n
 EJE MOVILIDAD\nSesión 1: “Detección de Problemas y Oportunidades”Martes 21
  de marzo de 14.00 a 18.00 hrs.\nSesión 2: “Generación de Ideas y Prototip
 ado”Martes 03 de abril de 9.00 a 13.00 hrs.Inria Chile (Apoquindo 2827\, p
 iso 2)\n+ Inscripciones y más información aquí.\n&nbsp\;\n https://fadeu-o
 ld.urantiacos.cl/agenda/evento/779-talleres-de-articulacion-nuevas-oportun
 idades-para-una-smartcity
DTSTART:20170328T170000Z
DTEND:20170328T210000Z
LOCATION:Campus Lo Contador (El Comendador 1916\, Providencia\, Providencia
 \, Región Metropolitana\, Chile)
SUMMARY:Talleres de articulación 'Nuevas oportunidades para una SmartCity'
URL:https://fadeu-old.urantiacos.cl/agenda/evento/779-talleres-de-articulac
 ion-nuevas-oportunidades-para-una-smartcity
END:VEVENT
BEGIN:VEVENT
UID:20260423T190526UTC-0997VzLsL9@https://fadeu-old.urantiacos.cl/
DTSTAMP:20260423T190526Z
DESCRIPTION:Conferencias Inaugurales Arquitectura UC\nAl inicio de cada sem
 estre\, profesores de la Escuela de Arquitectura UC realizan una serie cla
 ses magistrales que inauguran el semestre acad&eacute\;mico de cada uno de
  los ciclos de nuestra carrera. Para el 1&deg\; semestre de 2017 la confer
 encia del Magister en Arquitectura ser&aacute\; realizada por:\nAmun&aacut
 e\;tegui Vald&eacute\;sCristobal Amun&aacute\;tegui\, Arquitecto UC\, Cand
 idato a Doctor\, Princeton University. Alejandro Vald&eacute\;s\, Arquitec
 to UFT. Profesores Invitados Arquitectura UC.&nbsp\;www.amunateguivaldes.c
 om\nInvitanEscuela Arquitectura UCMagister en Arquitectura UC\n&nbsp\;\n\n
 &nbsp\; https://fadeu-old.urantiacos.cl/agenda/evento/831-conferencia-amun
 ategui-valdes
DTSTART:20170328T163000Z
DTEND:20170328T180000Z
LOCATION:Auditorio Arquitectura UC\, Campus Lo Contador (el comendador 1916
 \, providencia)
SUMMARY:Conferencia Amunátegui Valdés
URL:https://fadeu-old.urantiacos.cl/agenda/evento/831-conferencia-amunategu
 i-valdes
END:VEVENT
BEGIN:VEVENT
UID:20260423T190526UTC-1001wUuIra@https://fadeu-old.urantiacos.cl/
DTSTAMP:20260423T190526Z
DESCRIPTION:Conferencia Phil RossMycoworks\nPhil Ross is a co-founder and C
 TO of MycoWorks\, a San Francisco start-up that turns mycelium(the threadl
 ike\, vegetative part of fungus) into analogs for leather\, soft foams\, a
 nd other materials &ndash\; using carbon-neutral\, chemical-free\, organic
 \, biodegradable and fully sustainable technology. In this presentation\, 
 Phil will describe the histories and practices that led to the use of fung
 us as a contemporary material for industrial applications\, and will illum
 inate the challenges of bringing new biological materials into compliance
 \nAs an artist\, Phil has exhibited work at the Venice Biennale of Archite
 cture\, New York&rsquo\;s MoMA among others\; as a bioengineering scholar 
 at Stanford University\, he&rsquo\;s working to develop an internet of bio
 logical things.\nColaboranFacultad de Ciencias Biol&oacute\;gicas UCLabora
 torio de Biolog&iacute\;a Sint&eacute\;tica CI UCEscuela Arquitectura UC\n
 &nbsp\;\n https://fadeu-old.urantiacos.cl/agenda/evento/839-conferencia-ph
 il-ross-taller-recoleccion-de-hongos
DTSTART:20170327T210000Z
DTEND:20170328T000000Z
LOCATION:Auditorio Arquitectura UC\, Campus Lo Contador (el comendador 1916
 \, providencia)
SUMMARY:Conferencia Phil Ross + Taller Recolección de Hongos
URL:https://fadeu-old.urantiacos.cl/agenda/evento/839-conferencia-phil-ross
 -taller-recoleccion-de-hongos
END:VEVENT
END:VCALENDAR
