BEGIN:VCALENDAR
VERSION:2.0
PRODID:-//https://fadeu-old.urantiacos.cl///NONSGML kigkonsult.se iCalcreator 2.10.15//
METHOD:PUBLISH
BEGIN:VEVENT
UID:20260420T045748UTC-7393mIzne0@https://fadeu-old.urantiacos.cl/
DTSTAMP:20260420T045748Z
DESCRIPTION:\n\nEntre el 4 y 8 de marzo se realizar&aacute\; en Arquitectur
 a UC el workshop &ldquo\;Santiago: Big Ideas &ndash\; Small Moves&rdquo\; 
 para el desarrollo de propuestas de arquitectura y proyecto urbano en torn
 o a la L&iacute\;nea 6 del Metro. Participan estudiantes y 7 oficinas j&oa
 cute\;venes invitadas.\nEn abril de 2013\, la RIBA\, UCL (the Bartlett Sch
 ool of Architecture) y el British Council colaboraron en un workshop de di
 se&ntilde\;o en Doha\, Katar. RIBA identific&oacute\; seis oficinas j&oacu
 te\;venes y UCL las sum&oacute\; a seis equipos locales en Katar\, organiz
 ando un workshop de una semana para desarrollar propuestas de conservaci&o
 acute\;n y regeneraci&oacute\;n en Old Doha. En esta oportunidad la RIBA e
 st&aacute\; extendiendo esta metodolog&iacute\;a a Santiago y Lagos.\nSant
 iago_&nbsp\;Luego de la construcci&oacute\;n de las &uacute\;ltimas l&iacu
 te\;neas de Metro\, se han identificado alrededor de 40 peque&ntilde\;os s
 itios que han quedado disponibles en Santiago para ser intervenidos. Esto 
 incluye sitios de construcci&oacute\;n\, sitios alrededor de ventilaciones
  y posibles desarrollos sobre las nuevas estaciones de Metro\, entre otros
 . Siete equipos compuestos por tres estudiantes de Arquitectura UC y una o
 ficina joven\, desarrollar&aacute\;n propuestas para estos sitios\, los qu
 e ser&aacute\;n evaluados por un panel de oficinas RIBA en Londres.\nProgr
 ama abierto a p&uacute\;blico\nLunes 4 de marzo10:00 &ndash\; 11.00 h. Tem
 porary and Incremental Urbanism. Peter Bishop (Auditorio FCV)11:00 &ndash\
 ; 12.00 h. Presentaci&oacute\;n Oficinas (Auditorio FCV)&nbsp\;Martes 5 de
  marzo18.30 &ndash\; 19.30 h. Estaciones L&iacute\;nea 6 de Metro Antonio 
 Lipthay &ndash\; MOBIL Arquitectos (lugar por anunciar)&nbsp\;Mi&eacute\;r
 coles 6 de marzo16.00 &ndash\; 18.00 h. Cr&iacute\;ticas Peter Bishop y Lu
 is Eduardo Bresciani L. (Taller 332+333)&nbsp\;Viernes 8 de marzo13:00 &nd
 ash\; 17.00 h. RIBA Panel Peter Bishop + RIBA (lugar por anunciar)&nbsp\;
 \nEstudiantes participantes\nFernando Avenda&ntilde\;o\, Gianluca Baghetti
 \, Tom&aacute\;s Charles\, Mar&iacute\;a Ignacia Cisternas\, Valentina Col
 oma\, Vicente Fern&aacute\;ndez\, Paula Gonz&aacute\;lez\, Mar&iacute\;a J
 osefina Hormann\, Daniela Manzur\, Sof&iacute\;a Mingo\, Pascale Mondion\,
  Dominga Muzard\, Deborah Ojeda\, Macarena Oyarzun\, Catalina Palma\, Toma
 s P&eacute\;rez\, Javiera Rodr&iacute\;guez\, Mart&iacute\;n Rojas\, Gonza
 lo Subiabre\, Tom&aacute\;s Vial y Agustina Wetzig.\nOficinas invitadas\nA
 lvaro Arancibia&nbsp\;/ www.alvaroarancibia.comCSM Design&nbsp\;/ www.csmd
 esign.comEB Arquitectos&nbsp\;/ www.ebarquitectos.clEM Arquitectos&nbsp\;/
  www.emarquitectos.clLaura Signorelli + Stefano Rolla&nbsp\;/ www.stefanor
 olla.comNicole Rochette&nbsp\;/ www.nicolerochette.comTironi Bartlau&nbsp\
 ;/ www.tironibartlau.com&nbsp\;&nbsp\;\nOrganizaci&oacute\;n Workshop\nPet
 er Bishop. Profesor Titular en Dise&ntilde\;o Urbano en The Bartlett Schoo
 l of Architecture UCLFrancisco j. Quintana. Profesor Asistente de Arquitec
 tura y Proyecto Urbano en Arquitectura UCCatalina Alberti. Ayudante en Pro
 yecto Urbano en Arquitectura UC&nbsp\;Fecha_Lunes 04 a viernes 08 de marzo
  de 2019&nbsp\;Lugar_Campus Lo ContadorEl Comendador 1936\, Providencia&nb
 sp\;&nbsp\;\n https://fadeu-old.urantiacos.cl/agenda/evento/1826-ciclo-la-
 ciudad-como-proyecto-ciudad-y-mercado-earq-uc-cep
DTSTART:20190404T220000Z
DTEND:20190404T230000Z
LOCATION:Auditorio Fernando Castillo Velasco. Edificio ARQ (El Comendador 1
 936\, Providencia\, Región Metropolitana\, Chile)
SUMMARY:Ciclo 'La ciudad como proyecto: Ciudad y Mercado' | EARQ UC + CEP
URL:https://fadeu-old.urantiacos.cl/agenda/evento/1826-ciclo-la-ciudad-como
 -proyecto-ciudad-y-mercado-earq-uc-cep
END:VEVENT
BEGIN:VEVENT
UID:20260420T045748UTC-7404tsMAnv@https://fadeu-old.urantiacos.cl/
DTSTAMP:20260420T045748Z
DESCRIPTION:El pr&oacute\;ximo mi&eacute\;rcoles 3 de abril se realizar&aac
 ute\; el lanzamiento del libro 'Baixas y del R&iacute\;o. Arquitectura'\, 
 el que contar&aacute\; adem&aacute\;s con los comentarios&nbsp\; de los ar
 quitectos Enrique Browne y Luis Izquierdo.&nbsp\;\nLas obras\, proyectos\,
  dise&ntilde\;os y escritos contenidos en este libro no solo presentan las
  tres d&eacute\;cadas del trabajo de la oficina de arquitectura Baixas y d
 el R&iacute\;o\, sino tambi&eacute\;n muestran el medio siglo de trayector
 ia profesional de Juan Ignacio Baixas\, uno de sus fundadores.\nLa origina
 lidad del trabajo de esta oficina va de la mano con una condici&oacute\;n 
 poco habitual: al 'saber hacer'\, visible en sus obras y dise&ntilde\;os\,
  se suma el 'saber explicar lo que se hace'\, tal como se puede leer en la
 s memorias de cada proyecto.\nAs&iacute\;\, esta publicaci&oacute\;n pone 
 de relieve otra caracter&iacute\;stica esencial que comparten Juan Ignacio
  Baixas y Enrique del R&iacute\;o (y que los diferencia de muchos de sus p
 ares): nunca han dejado de ense&ntilde\;ar arquitectura y han mantenido de
  forma permanente el compromiso en la formaci&oacute\;n de futuros arquite
 ctos. En este sentido\, esta monograf&iacute\;a no busca simplemente prese
 ntar al lector la arquitectura de Baixasy Del R&iacute\;o\; el objetivo\, 
 m&aacute\;s bien\, es ense&ntilde\;arla.&nbsp\;\nCu&aacute\;ndo: mi&eacute
 \;rcoles 3 abril 2019Hora: 19:00 horasD&oacute\;nde: Auditorio FADEU\n htt
 ps://fadeu-old.urantiacos.cl/agenda/evento/1822-lanzamiento-libro-baixas-y
 -del-rio-arquitectura
DTSTART:20190403T220000Z
DTEND:20190403T230000Z
LOCATION:Auditorio FADEU\, Campus Lo Contador PUC (El Comendador 1916\, Pro
 videncia\, Providencia\, Región Metropolitana\, Chile)
SUMMARY:Lanzamiento libro: 'Baixas y del Río. Arquitectura'
URL:https://fadeu-old.urantiacos.cl/agenda/evento/1822-lanzamiento-libro-ba
 ixas-y-del-rio-arquitectura
END:VEVENT
BEGIN:VEVENT
UID:20260420T045748UTC-7410J225KE@https://fadeu-old.urantiacos.cl/
DTSTAMP:20260420T045748Z
DESCRIPTION:Reflejo del quehacer de la Escuela de Dise&ntilde\;o UC el 2018
 \, Expo T&iacute\;tulo se ha constituido como&nbsp\;la exposici&oacute\;n 
 de proyectos destacados de los estudiantes que obtuvieron su t&iacute\;tul
 o con distinci&oacute\;n\, en esta escuela.\nCompuesta por 42&nbsp\;&nbsp\
 ;proyectos\, esta muestra abarca diferentes &aacute\;reas de la disciplina
  y sus tem&aacute\;ticas apuntan a relevar los m&uacute\;ltiples campos de
  intervenci&oacute\;n del Dise&ntilde\;o\, connotando proyectos que provie
 nen de &aacute\;reas como la gr&aacute\;fica\, el Dise&ntilde\;o Industria
 l\, la teor&iacute\;a\, el Dise&ntilde\;o de Servicio\, lo Textil y la Sus
 tentabilidad\, entre otros campos.\n https://fadeu-old.urantiacos.cl/agend
 a/evento/1807-suspendida-i-expotitulo-2018
DTSTART:20190403T160000Z
DTEND:20190403T170000Z
LOCATION:1 Piso Edificio Diseño (Los Navegantes 1916)
SUMMARY:SUSPENDIDA I Expotitulo 2018
URL:https://fadeu-old.urantiacos.cl/agenda/evento/1807-suspendida-i-expotit
 ulo-2018
END:VEVENT
BEGIN:VEVENT
UID:20260420T045748UTC-7414VjnmF1@https://fadeu-old.urantiacos.cl/
DTSTAMP:20260420T045748Z
DESCRIPTION:La exhibici&oacute\;n del pabell&oacute\;n de Chile en la 16 Bi
 enal de Arquitectura de Venecia\, curada por Alejandra Celed&oacute\;n\, a
 cad&eacute\;mica de la Escuela de Arquitectura UC\, se inaugurar&aacute\; 
 el 02 de abril en el Museo de Arte Contempor&aacute\;neo y estar&aacute\; 
 abierta a todo p&uacute\;blico del 03 de abril al 23 de junio de 2019.\n\n
 STADIUM. Un edificio que visualiza la imagen de una ciudad\nEl Estadio Nac
 ional de Chile fue por un d&iacute\;a edificio y ciudad. El 29 de septiemb
 re de 1979\, 37.000 pobladores fueron convocados para un operativo masivo 
 de entrega t&iacute\;tulos de propiedad. Para ordenar y guiar los procesos
  de entrega\, se prepar&oacute\; una planta del Estadio con el contorno de
  poblaciones en lugar de grader&iacute\;as\, haciendo visible la imagen de
 l presente de nuestra ciudad en el dibujo de un edificio.\nAl modo de una 
 tabula rasa\, el evento regulariz&oacute\; d&eacute\;cadas de ocupaciones 
 informales y pol&iacute\;ticas sobre la ciudad\, transformando pobladores 
 en propietarios\, y por la misma moneda\, en deudores con coordenadas espa
 ciales especificas: la periferia. Esta planta del edificio que es tambi&ea
 cute\;n una planta de la ciudad\, fue la pieza central del env&iacute\;o d
 e Chile para la 16 Bienal de Arquitectura de Venecia.\nLa muestra tambi&ea
 cute\;n ahonda en el estadio como una maquina de visualizaci&oacute\;n a t
 rav&eacute\;s de otros eventos ocurridos en el mismo edificio: desde event
 os deportivos a ceremonias religiosas\, de refugio de inmigrantes a campo 
 de concentraci&oacute\;n. STADIUM narra una historia doble: la del edifici
 o y sus estadios\, congregando grupos distintos y sirviendo prop&oacute\;s
 itos disimiles\; y la de la ciudad\, con su desarrollo desigual\, ambas co
 nvergiendo en un mismo evento.\nSTADIUM es organizado por el Ministerio de
  las Artes\, las Culturas y el Patrimonio\, y cuenta con el auspicio de TV
 N\, el Museo de la Memoria y los Derechos Humanos y la Asociaci&oacute\;n 
 de Oficinas de Arquitectos (AOA).\nMayor informaci&oacute\;n en este&nbsp\
 ;link\nNoticiasContacto:&nbsp\;arq@uc.cl&nbsp\;| +56 2 2354 7747www.arquit
 ectura.uc.cl https://fadeu-old.urantiacos.cl/agenda/evento/1825-muestra-st
 adium
DTSTART:20190402T223000Z
DTEND:20190402T233000Z
LOCATION:Matucana 464\, Quinta Normal ()
SUMMARY:Muestra STADIUM
URL:https://fadeu-old.urantiacos.cl/agenda/evento/1825-muestra-stadium
END:VEVENT
BEGIN:VEVENT
UID:20260420T045748UTC-742518HeTD@https://fadeu-old.urantiacos.cl/
DTSTAMP:20260420T045748Z
DESCRIPTION:\n'Los eventos en el espacio'\n\n\nCharla del arquitecto Salvad
 or Mac&iacute\;as\, cofundador\, junto a Magui Peredo\, del Estudio Mac&ia
 cute\;as Peredo en M&eacute\;xico\, finalistas de los MCHAP Emerging Award
 s 2016-2017 y premio Emerging Voices 2014 del Architectural League de Nuev
 a York.Mac&iacute\;as presentar&aacute\; el trabajo que desarrolla desde G
 uadalajara junto a su socia Magui Peredo desde 2006. Ambos son egresados d
 el Instituto Tecnol&oacute\;gico y de Estudios Superiores de Occidente en 
 M&eacute\;xico\, y del programa de Master en Arquitectura de la Universida
 d Polit&eacute\;cnica de Catalu&ntilde\;a\, en Barcelona. Interesados en u
 na manera de construir que depende estrechamente de los oficios tradiciona
 les de M&eacute\;xico y en el uso intensivo de mano de obra\, su pr&aacute
 \;ctica arquitect&oacute\;nica ha encontrado en las tradiciones de la cult
 ura material y en la atenci&oacute\;n a las formas de habitar el espacio d
 os v&iacute\;as para vincular arquitectura y contexto. Esta mirada\, centr
 ada en los modos de usar el espacio y en la b&uacute\;squeda de arquetipos
  que den lugar a esos usos es la que conduce el primer workshop de 2019 de
 l Taller de Especialidad del&nbsp\;Mag&iacute\;ster en Arquitectura UC (MA
 RQ).\nEstudio Mac&iacute\;as Peredo\nEl Estudio Mac&iacute\;as Peredo se h
 a presentado en conferencias en las universidades de Columbia (Nueva York)
 \, de Nuevo M&eacute\;xico (Albuquerque) y de Tokio\, adem&aacute\;s de un
 a serie de universidades mexicanas.\nHa recibido dos medallas de plata por
  la Academia de Arquitectura de Jalisco\, el premio Emerging Voices 2014 d
 e The Architectural League of New York\, el segundo lugar en el concurso d
 el Pabell&oacute\;n de M&eacute\;xico en la Expo Shanghai 2010 y el primer
  lugar en el Pabell&oacute\;n Eco 2013 en la Ciudad de M&eacute\;xico. Su 
 trabajo ha sido expuesto en LIGA (M&eacute\;xico DF\, 2015)\, en el Illino
 is Institute of Technology (Chicago\, 2018\, como finalistas del &lsquo\;M
 ies Crown Hall Americas Prize&rsquo\;) y en el Pabell&oacute\;n de M&eacut
 e\;xico de la Bienal de Arquitectura de Venecia (2018).\nFecha_Martes 02 d
 e abril de 2019\, 18.30 h.&nbsp\;Lugar_Auditorio FCV. El Comendador 1936\,
  ProvidenciaOrganiza_Mag&iacute\;ster en Arquitectura UCEscuela de Arquite
 ctura UCNoticiasContacto:&nbsp\;redesarq@uc.cl&nbsp\;| +56 2 2354 7747www.
 arquitectura.uc.cl\n\n&nbsp\; https://fadeu-old.urantiacos.cl/agenda/event
 o/1827-conferencia-inaugural-marq-estudio-macias-peredo
DTSTART:20190402T213000Z
DTEND:20190402T223000Z
LOCATION:Auditorio Fernando Castillo Velasco. Edificio ARQ (El Comendador 1
 936\, Providencia\, Región Metropolitana\, Chile)
SUMMARY:Conferencia inaugural MARQ | Estudio Macías Peredo
URL:https://fadeu-old.urantiacos.cl/agenda/evento/1827-conferencia-inaugura
 l-marq-estudio-macias-peredo
END:VEVENT
BEGIN:VEVENT
UID:20260420T045748UTC-7433M8gFN6@https://fadeu-old.urantiacos.cl/
DTSTAMP:20260420T045748Z
DESCRIPTION:\nEl proyecto&nbsp\;La Reconquista Peatonal&nbsp\;busca recolec
 tar experiencias de caminantes con el objetivo de visibilizar lo que ocurr
 e al moverse a pie por la ciudad. En 2018 arededor de 100 personas se apro
 piaron de un cuaderno que llevaron a sus caminatas durante aproximadamente
  3 semanas. Existieron dos versiones\; &laquo\;Ruta Cotidiana&raquo\; para
  el registro de recorridos diarios\, con un enfoque en el espacio f&iacute
 \;sico que da cuenta de la ciudad percibida y otra versi&oacute\;n\, &laqu
 o\;Las Caminantes&raquo\; dirigida solo a mujeres\, en la que se explora u
 n &aacute\;mbito m&aacute\;s experiencial de la ciudad. El material recole
 ctado es diverso y ha reforzado el car&aacute\;cter &uacute\;nico de cada 
 caminata. La Reconquista Peatonal es una invitaci&oacute\;n abierta a reco
 nquistar la caminata y la ciudad\, y as&iacute\; construir colectivamente 
 una visi&oacute\;n de lo urbano desde las experiencias individuales.\n\n\n
 \nToda caminata constituye\, en mayor o menor medida\, un ejercicio de la 
 libertad\, independiente del motivo\, el fin &uacute\;ltimo o las condicio
 nes en que se desarrolla. Y a su vez\, toda caminata implica una temporali
 dad asimilable por las personas\, una toma de conciencia. Con solo alterar
  el objetivo de la caminata &ndash\;desde el desprejuicio de la caminata r
 ecreativa hasta la mucho m&aacute\;s operativa rutina diaria de transporte
  hacia el trabajo&ndash\; cambia la percepci&oacute\;n del acto mismo.\nFo
 rmas de caminar&nbsp\;agrupa una serie de cuadernos con un motivo com&uacu
 te\;n\, en cinco formas de caminar. Cada una de estas formas agrupa el esp
 ectro total de posibles caminantes\, sin discriminaci&oacute\;n adicional 
 alguna. La selecci&oacute\;n de esta muestra no busca agotar posibilidades
 \, sino precisamente abrirlas. Estas formas de caminar son presentadas sol
 o como una de las m&uacute\;ltiples opciones de lectura de los cuadernos\,
  entendiendo que la versatilidad de los mismos constituye su principal for
 taleza.\nFecha_01 al 17 de abril de 2019Lugar_BibliotecaCampus Lo Contador
 El Comendador 1916\, ProvidenciaInvitan_La Reconquista PeatonalBibliotecas
  UCEscuela de Arquitectura UCPontificia Universidad Cat&oacute\;lica de Ch
 ile&nbsp\;NoticiasContacto:&nbsp\;redesarq@uc.cl&nbsp\;| +56 2 2354 7747ww
 w.arquitectura.uc.cl\n\n&nbsp\; https://fadeu-old.urantiacos.cl/agenda/eve
 nto/1828-exposicion-formas-de-caminar
DTSTART:20190401T030000Z
LOCATION:Biblioteca Lo Contador UC (El Comendador 1916)
SUMMARY:Exposición Formas de caminar
URL:https://fadeu-old.urantiacos.cl/agenda/evento/1828-exposicion-formas-de
 -caminar
END:VEVENT
END:VCALENDAR
