BEGIN:VCALENDAR
VERSION:2.0
PRODID:-//https://fadeu-old.urantiacos.cl///NONSGML kigkonsult.se iCalcreator 2.10.15//
METHOD:PUBLISH
BEGIN:VEVENT
UID:20260423T190622UTC-89972NIgvo@https://fadeu-old.urantiacos.cl/
DTSTAMP:20260423T190622Z
DESCRIPTION:El taller OCTAL busca crear una instancia real de Ciencia de Da
 tos Ciudadanos. En dicha experiencia a trav&eacute\;s del trabajo colabora
 tivo se identificar&aacute\; la problem&aacute\;tica a tratar\, se escoger
 &aacute\; un m&eacute\;todo y herramientas\; se recopilar&aacute\;n datos 
 a trav&eacute\;s de m&eacute\;todos de programaci&oacute\;n\; se har&aacut
 e\; un procesamiento de bases de datos\; y finalmente se visualizar&aacute
 \;n dichos datos.\n+ Evento gratuito\, cupos limitados (30 cupos).&nbsp\;I
 nscripciones aqu&iacute\;.\n&nbsp\;\n\n&nbsp\; https://fadeu-old.urantiaco
 s.cl/agenda/evento/849-workshop-taller-octal-ciencia-de-datos-ciudadanos
DTSTART:20170408T130000Z
DTEND:20170408T163000Z
LOCATION:Auditorio sur\, Campus Lo Contador (El Comendador 1916\, Providenc
 ia\, Región Metropolitana\, Chile)
SUMMARY:Workshop Taller Octal 'Ciencia de Datos Ciudadanos'
URL:https://fadeu-old.urantiacos.cl/agenda/evento/849-workshop-taller-octal
 -ciencia-de-datos-ciudadanos
END:VEVENT
BEGIN:VEVENT
UID:20260423T190622UTC-90019fvP2j@https://fadeu-old.urantiacos.cl/
DTSTAMP:20260423T190622Z
DESCRIPTION:En el marco del Taller de Instigaci&oacute\;n y Proyecto (TIP) 
 del Mag&iacute\;ster de Proyectos Urbanos UC impartido por los profesores 
 Margarita Greene y Humberto Eliash\, y con apoyo CEDEUS\, se invita al sem
 inario con 4 invitados externos respecto a la Densificacion con Equidad.\n
 &nbsp\;\n\n&nbsp\; https://fadeu-old.urantiacos.cl/agenda/evento/865-semin
 ario-densificacion-con-equidad-cuatro-miradas-complementarias
DTSTART:20170407T120000Z
DTEND:20170407T160000Z
LOCATION:Auditorio Arquitectura UC\, Campus Lo Contador (el comendador 1916
 \, providencia)
SUMMARY:Seminario 'Densificación con Equidad: Cuatro miradas complementaria
 s
URL:https://fadeu-old.urantiacos.cl/agenda/evento/865-seminario-densificaci
 on-con-equidad-cuatro-miradas-complementarias
END:VEVENT
BEGIN:VEVENT
UID:20260423T190622UTC-9005sBT8FE@https://fadeu-old.urantiacos.cl/
DTSTAMP:20260423T190622Z
DESCRIPTION:Diplomado en Planificaci&oacute\;n y Gesti&oacute\;n Urbana Int
 egrada&nbsp\;Jefe de programa: Roberto Moris\nEl Diplomado en Planificaci&
 oacute\;n y Gesti&oacute\;n Urbana Integrada proporciona una base conceptu
 al e instrumental de la planificaci&oacute\;n y gesti&oacute\;n urbana act
 ual y sus aplicaciones en nuestro pa&iacute\;s a trav&eacute\;s de la entr
 ega de conocimientos y el desarrollo de competencias y habilidades t&eacut
 e\;cnicas espec&iacute\;ficas. En su desarrollo se busca entender y relaci
 onar las distintas escalas de la planificaci&oacute\;n y gesti&oacute\;n u
 rbana: la ciudad\, los barrios y las viviendas. Para ello se pone especial
  &eacute\;nfasis en problem&aacute\;ticas y soluciones de sustentabilidad 
 social\, ambiental y econ&oacute\;mica para contribuir al desarrollo suste
 ntable de nuestras ciudades y a una mejora en la calidad de vida para todo
 s sus habitantes.\n+ M&aacute\;s informaci&oacute\;n y postulaciones aqu&i
 acute\;.\n&nbsp\;\n\n&nbsp\; https://fadeu-old.urantiacos.cl/agenda/evento
 /813-inicio-diplomado-en-planificacion-y-gestion-urbana-integrada
DTSTART:20170407T030000Z
LOCATION:Instituto de Estudios Urbanos y Territoriales UC\, Campus Lo Conta
 dor (El Comendador 1916\, Providencia\, Providencia\, Región Metropolitana
 \, Chile)
SUMMARY:Inicio Diplomado en Planificación y Gestión Urbana Integrada
URL:https://fadeu-old.urantiacos.cl/agenda/evento/813-inicio-diplomado-en-p
 lanificacion-y-gestion-urbana-integrada
END:VEVENT
BEGIN:VEVENT
UID:20260423T190622UTC-9009DX3WeJ@https://fadeu-old.urantiacos.cl/
DTSTAMP:20260423T190622Z
DESCRIPTION:+ Cupos limitados. Inscripciones con Loreto Villaroel: lvillarr
 @uc.cl\n&nbsp\;\n https://fadeu-old.urantiacos.cl/agenda/evento/827-la-ciu
 dad-y-las-palabras-por-philippe-garrel
DTSTART:20170406T213000Z
DTEND:20170406T230000Z
LOCATION:Auditorio FADEU\, Campus Lo Contador PUC (El Comendador 1916\, Pro
 videncia\, Providencia\, Región Metropolitana\, Chile)
SUMMARY:La Ciudad y Las Palabras\, por Philippe Garrel
URL:https://fadeu-old.urantiacos.cl/agenda/evento/827-la-ciudad-y-las-palab
 ras-por-philippe-garrel
END:VEVENT
BEGIN:VEVENT
UID:20260423T190622UTC-90128m6mrG@https://fadeu-old.urantiacos.cl/
DTSTAMP:20260423T190622Z
DESCRIPTION:Conversatorio organizado por el programa MADA UC sobre experien
 cias ganadoras en fondos concursables. Expondr&aacute\;n Jos&eacute\; Manu
 el Moller\, Rodrigo Gajardo y Marcos Calder&oacute\;n\, graduados y estudi
 ante MADA.\n+ Por favor confirmar asistencia a mariluz.soto@gmail.com\n&nb
 sp\;\n\n&nbsp\; https://fadeu-old.urantiacos.cl/agenda/evento/847-conversa
 torio-experiencias-y-recomendaciones-para-fondos-concursables
DTSTART:20170406T213000Z
DTEND:20170406T230000Z
LOCATION:Sala 103\, Campus Lo Contador (El Comendador 1916\, Providencia\, 
 Región Metropolitana\, Chile)
SUMMARY:Conversatorio 'Experiencias y recomendaciones para fondos concursab
 les'
URL:https://fadeu-old.urantiacos.cl/agenda/evento/847-conversatorio-experie
 ncias-y-recomendaciones-para-fondos-concursables
END:VEVENT
BEGIN:VEVENT
UID:20260423T190622UTC-9015ROVA2X@https://fadeu-old.urantiacos.cl/
DTSTAMP:20260423T190622Z
DESCRIPTION:Panel&nbsp\;'Revistas de Arquitectura: Difusi&oacute\;n\, Comun
 icaci&oacute\;n y Nuevos Formatos'\nEl panel contar&aacute\; con la presen
 taci&oacute\;n de editores nacionales de revistas\, como: Revista Materia\
 , Revista ARQ\, Revista de Urbanismo\, Revista 180\, Revista Arteoficio\, 
 Revista C/A\, Revista Planeo\, adem&aacute\;s del editor espa&ntilde\;ol A
 rturo Franco de la Revista Rita_.\nLa instancia propone ser un espacio de 
 exposici&oacute\;n de los distintos formatos y desaf&iacute\;os que plante
 a la publicaci&oacute\;n de Arquitectura.\n&nbsp\;\n https://fadeu-old.ura
 ntiacos.cl/agenda/evento/853-panel-revistas-de-arquitectura-difusion-comun
 icacion-y-nuevos-formatos
DTSTART:20170406T213000Z
DTEND:20170406T230000Z
LOCATION:Colegio de Arquitectos de Chile\, Alameda 115\, Santiago (Av Liber
 tador Bernardo O'Higgins 115\, Santiago\, Santiago\, Región Metropolitana\
 , Chile)
SUMMARY:Panel 'Revistas de Arquitectura: Difusión\, Comunicación y Nuevos F
 ormatos'
URL:https://fadeu-old.urantiacos.cl/agenda/evento/853-panel-revistas-de-arq
 uitectura-difusion-comunicacion-y-nuevos-formatos
END:VEVENT
BEGIN:VEVENT
UID:20260423T190622UTC-9019O9u3jo@https://fadeu-old.urantiacos.cl/
DTSTAMP:20260423T190622Z
DESCRIPTION:Te invitamos a participar de una conversaci&oacute\;n con Luis 
 Roblero\, sacerdote jesuita Capell&aacute\;n Nacional de Gendarmer&iacute\
 ;a\, en torno al tema 'El encuentro con la persona en las pol&iacute\;tica
 s p&uacute\;blicas'.\nVen a conversar sobre la dif&iacute\;cil realidad en
  las c&aacute\;rceles y el sistema penitenciario en Chile. Una realidad de
  pobreza\, injusticia y desigualdad. &iquest\;Qu&eacute\; rol juegan las p
 ol&iacute\;ticas p&uacute\;blicas en este contexto?\n+ Puedes conocer m&aa
 cute\;s del invitado en esta entrevista.\nD&oacute\;ndeTerraza Edificio Ar
 quitectura UC (4to piso)\, Campus Lo Contador.\n&nbsp\;\n&nbsp\;\n\n&nbsp\
 ;\n&nbsp\; https://fadeu-old.urantiacos.cl/agenda/evento/845-conversatorio
 -after-office-pastoral-uc-con-luis-roblero-sj
DTSTART:20170406T212000Z
DTEND:20170406T230000Z
LOCATION:Auditorio Arquitectura UC\, Campus Lo Contador (el comendador 1916
 \, providencia)
SUMMARY:Conversatorio: After Office Pastoral UC\, con Luis Roblero SJ
URL:https://fadeu-old.urantiacos.cl/agenda/evento/845-conversatorio-after-o
 ffice-pastoral-uc-con-luis-roblero-sj
END:VEVENT
BEGIN:VEVENT
UID:20260423T190622UTC-9023Tlbt9Z@https://fadeu-old.urantiacos.cl/
DTSTAMP:20260423T190622Z
DESCRIPTION:6&ordf\; sesi&oacute\;n del ciclo de discusi&oacute\;n organiza
 do por el MARQ UC\nEn la sexta versi&oacute\;n Alejandra Celed&oacute\;n\,
  Pedro Correa\, Francisco D&iacute\;az\, Max N&uacute\;&ntilde\;ez\, Crist
 i&aacute\;n Izquierdo y Nicol&aacute\;s Stutzin discutir&aacute\;n sobre l
 as &uacute\;ltimas dos versiones de los pabellones para YAP_Constructo: &l
 dquo\;Tu reflexi&oacute\;n&rdquo\; de los arquitectos Guillermo Hevia y Ni
 col&aacute\;s Urz&uacute\;a y &ldquo\;M&aacute\;s all&aacute\; del domo&rd
 quo\; de los arquitectos Claudio Torres\, Yuji Harada\, Clarita Reutter y 
 Emile Straub.\nInvitanMagister en Arquitectura UCArquitectura UC\n&nbsp\;
 \n https://fadeu-old.urantiacos.cl/agenda/evento/857-serie-discusion-y-cri
 tica-de-edificios-pabellones
DTSTART:20170404T213000Z
DTEND:20170404T230000Z
LOCATION:Auditorio Arquitectura UC\, Campus Lo Contador (el comendador 1916
 \, providencia)
SUMMARY:Serie Discusión y Crítica de Edificios 'Pabellones'
URL:https://fadeu-old.urantiacos.cl/agenda/evento/857-serie-discusion-y-cri
 tica-de-edificios-pabellones
END:VEVENT
BEGIN:VEVENT
UID:20260423T190622UTC-9027g5eD7u@https://fadeu-old.urantiacos.cl/
DTSTAMP:20260423T190622Z
DESCRIPTION:1º Versión Talleres de Articulación: Nuevas Oportunidades para 
 una SmartCity\nLa actividad desarrollada por la Pontificia Universidad Cat
 ólica de Chile\, País Digital\, Inria Chile y Corfo tiene como propósito q
 ue los participantes desarrollen técnicas e instrumentos para la identific
 ación de problemas y oportunidades\, la ideación de propuestas y su consol
 idación por medio de prototipado rápido.\nEl taller\, junto con las soluci
 ones generadas\, se enmarca en los tres ejes estratégicos del Programa: Se
 guridad\, Medio Ambiente y Movilidad y será impar do por académicos de la 
 Escuela de Diseño y la Escuela de Ingeniería UC.\nSe desarrollarán 6 talle
 res\, divididos en 2 por cada eje estratégico. Cada uno estará compuesto p
 or 8 horas cronológicas\, divididas en 2 sesiones.\nEJE SEGURIDAD\nSesión 
 1: “Detección de Problemas y Oportunidades”Miércoles 15 de marzo de 14.00 
 a 18.00 hrs.\nSesión 2: “Generación de Ideas y Prototipado”Martes 28 de ma
 rzo de 9.00 a 13.00 hrs.Lo Contador UC (Los Navegantes 1919)\nEJE MEDIO AM
 BIENTE\nSesión 1: “Detección de Problemas y Oportunidades”Jueves 16 de mar
 zo de 9.00 a 13.00 hrs.\nSesión 2: “Generación de Ideas y Prototipado”Mart
 es 28 de marzo de 14.00 a 18.00 hrs.Lo Contador UC (Los Navegantes 1919)\n
 EJE MOVILIDAD\nSesión 1: “Detección de Problemas y Oportunidades”Martes 21
  de marzo de 14.00 a 18.00 hrs.\nSesión 2: “Generación de Ideas y Prototip
 ado”Martes 03 de abril de 9.00 a 13.00 hrs.Inria Chile (Apoquindo 2827\, p
 iso 2)\n+ Inscripciones y más información aquí.\n&nbsp\;\n https://fadeu-o
 ld.urantiacos.cl/agenda/evento/783-talleres-de-articulacion-nuevas-oportun
 idades-para-una-smartcity
DTSTART:20170403T170000Z
DTEND:20170403T210000Z
LOCATION:Campus Lo Contador (El Comendador 1916\, Providencia\, Providencia
 \, Región Metropolitana\, Chile)
SUMMARY:Talleres de articulación 'Nuevas oportunidades para una SmartCity'
URL:https://fadeu-old.urantiacos.cl/agenda/evento/783-talleres-de-articulac
 ion-nuevas-oportunidades-para-una-smartcity
END:VEVENT
END:VCALENDAR
