BEGIN:VCALENDAR
VERSION:2.0
PRODID:-//https://fadeu-old.urantiacos.cl///NONSGML kigkonsult.se iCalcreator 2.10.15//
METHOD:PUBLISH
BEGIN:VEVENT
UID:20260423T190708UTC-3188Hg9EVO@https://fadeu-old.urantiacos.cl/
DTSTAMP:20260423T190708Z
DESCRIPTION:Presentaci&oacute\;n y estreno de la pel&iacute\;cula L'INDOMPT
 &Eacute\;E\n+ Cupos limitados. Inscripciones con Loreto Villarroal: livill
 arr@uc.cl\n&nbsp\;\n\n&nbsp\;\n&nbsp\; https://fadeu-old.urantiacos.cl/age
 nda/evento/855-la-ciudad-y-las-palabras-por-caroline-deruas
DTSTART:20170412T213000Z
DTEND:20170412T230000Z
LOCATION:Auditorio Arquitectura UC\, Campus Lo Contador (el comendador 1916
 \, providencia)
SUMMARY:La Ciudad y Las Palabras\, por Caroline Deruas
URL:https://fadeu-old.urantiacos.cl/agenda/evento/855-la-ciudad-y-las-palab
 ras-por-caroline-deruas
END:VEVENT
BEGIN:VEVENT
UID:20260423T190708UTC-3191SLswP0@https://fadeu-old.urantiacos.cl/
DTSTAMP:20260423T190708Z
DESCRIPTION:Los invitamos a asistir a la charla Light - Space - Perception\
 , dictada por Jan Blieske\, profesor de Aplicaci&oacute\;n de la Iluminaci
 &oacute\;n en la Arquitectura\, en la Universidad de Ciencias Aplicadas Wi
 smar\, Alemania.Organiza e invitaMag&iacute\;ster en Arquitectura Sustenta
 ble y Energ&iacute\;a\n&nbsp\;\n\n&nbsp\; https://fadeu-old.urantiacos.cl/
 agenda/evento/877-charla-light-space-perception-por-jan-blieske
DTSTART:20170411T170000Z
DTEND:20170411T183000Z
LOCATION:Salón Sergio Larraín\, Campus Lo Contador ()
SUMMARY:Charla Light - Space - Perception\, por Jan Blieske
URL:https://fadeu-old.urantiacos.cl/agenda/evento/877-charla-light-space-pe
 rception-por-jan-blieske
END:VEVENT
BEGIN:VEVENT
UID:20260423T190708UTC-3194nnH3iD@https://fadeu-old.urantiacos.cl/
DTSTAMP:20260423T190708Z
DESCRIPTION:El Centro de Desarrollo Urbano invita al Seminario &ldquo\;Los 
 desaf&iacute\;os del crecimiento de las ciudades intermedias en Chile: dia
 gn&oacute\;sticos y experiencias en planificaci&oacute\;n&rdquo\; a realiz
 arse el d&iacute\;a martes 11 de abril de 2017\, de 8:30 a 17:00 hrs en el
  Auditorio de Arquitectura. En la actividad\, se discutir&aacute\; acerca 
 de motores de crecimiento de ciudades intermedias\, algunas aproximaciones
  sobre inequidad y sustentabilidad\, adem&aacute\;s de profundizar en el d
 ebate sobre la coherencia entre din&aacute\;micas urbanas e instrumentos d
 e planificaci&oacute\;n territorial.\nEl seminario contar&aacute\; con la 
 presencia de Pablo Contrucci\, que desde su posici&oacute\;n como Jefe de 
 la Divisi&oacute\;n de Desarrollo Urbano del MINVU\, realizar&aacute\; una
  presentaci&oacute\;n acerca de la visiones y acciones institucionales fre
 nte a la planificaci&oacute\;n territorial de ciudades intermedias. Adem&a
 acute\;s\, se realizar&aacute\; un diagn&oacute\;stico de parte de los inv
 estigadores de CEDEUS Jonathan Barton\, Felipe Link y Antonio Daher. Por o
 tra parte\, contaremos con experiencias desde la gesti&oacute\;n local\, a
  cargo de Secretarios de Planificaci&oacute\;n Comunal y Asesores Urbanist
 as de Copiap&oacute\;\, La Serena\, Coquimbo y Padre las Casas. El evento 
 finalizar&aacute\; con una charla magistral del acad&eacute\;mico de la Un
 iversidad de Barcelona Iv&aacute\;n Mu&ntilde\;iz\, titulada 'Una valoraci
 &oacute\;n cr&iacute\;tica sobre los Enfoques de Ciudad Compacta y de Ciud
 ad Autosuficiente ante el impacto global de las ciudades'\n+ Descarga el p
 rograma completo aqu&iacute\;.+ Inscripciones aqu&iacute\;.&nbsp\;+ Consul
 tas: maramirezs@uc.cl\n&nbsp\;\n&nbsp\;\n https://fadeu-old.urantiacos.cl/
 agenda/evento/859-seminario-los-desafios-del-crecimiento-de-las-ciudades-i
 ntermedias-en-chile-diagnosticos-y-experiencias-en-planificacion
DTSTART:20170411T113000Z
DTEND:20170411T200000Z
LOCATION:Auditorio Arquitectura UC\, Campus Lo Contador (el comendador 1916
 \, providencia)
SUMMARY:Seminario “Los desafíos del crecimiento de las ciudades intermedias
  en Chile: diagnósticos y experiencias en planificación”
URL:https://fadeu-old.urantiacos.cl/agenda/evento/859-seminario-los-desafio
 s-del-crecimiento-de-las-ciudades-intermedias-en-chile-diagnosticos-y-expe
 riencias-en-planificacion
END:VEVENT
BEGIN:VEVENT
UID:20260423T190708UTC-3202N7G7Jk@https://fadeu-old.urantiacos.cl/
DTSTAMP:20260423T190708Z
DESCRIPTION:+ Cupos limitados. Inscripciones con Loreto Villaroel: lvillarr
 @uc.cl\n&nbsp\;\n https://fadeu-old.urantiacos.cl/agenda/evento/841-la-ciu
 dad-y-las-palabras-esperando-a-nanni-moretti-por-christian-ramirez-y-hecto
 r-soto
DTSTART:20170410T163000Z
DTEND:20170410T180000Z
LOCATION:Sala de Doctorado\, 2do piso\, Campus Lo Contador (El Comendador 1
 970\, Providencia\, Región Metropolitana\, Chile)
SUMMARY:La Ciudad y Las Palabras 'Esperando a Nanni Moretti'\, por Christia
 n Ramírez y Héctor Soto
URL:https://fadeu-old.urantiacos.cl/agenda/evento/841-la-ciudad-y-las-palab
 ras-esperando-a-nanni-moretti-por-christian-ramirez-y-hector-soto
END:VEVENT
END:VCALENDAR
