BEGIN:VCALENDAR
VERSION:2.0
PRODID:-//https://fadeu-old.urantiacos.cl///NONSGML kigkonsult.se iCalcreator 2.10.15//
METHOD:PUBLISH
BEGIN:VEVENT
UID:20260420T045916UTC-1139Gbm5lA@https://fadeu-old.urantiacos.cl/
DTSTAMP:20260420T045916Z
DESCRIPTION:Elvira P&eacute\;rez\, Jefa del programa de Mag&iacute\;ster en
  Patrimonio Cultural\, y Umberto Bonomo\, Director del Centro del Patrimon
 io Cultural de la Pontificia Universidad Cat&oacute\;lica de Chile\, invit
 an a la charla magistral 'La Sagrada Familia\, obra magna de Antoni Gaud&i
 acute\;' por Jos&eacute\; Manuel Almuzara.\nMi&eacute\;rcoles 17 de abril 
 de 2019\, 13.00 h.\, en el sal&oacute\;n Sergio Larra&iacute\;n\, del camp
 us Lo Contador\, El Comendador 1916\, Providencia.\nAntoni Gaud&iacute\; (
 1852-1926) &ldquo\;hizo algo que es una de las tareas m&aacute\;s importan
 tes hoy: superar la escisi&oacute\;n entre conciencia humana y conciencia 
 cristiana\, entre existencia en este mundo temporal y apertura a una vida 
 eterna\, entre belleza de las cosas y Dios como Belleza. Esto lo realiz&oa
 cute\; Antoni Gaud&iacute\; no con palabras sino con piedras\, trazos\, pl
 anos y cumbres&rdquo\;. Benedicto XVI.\nLa enfermedad le acompa&ntilde\;&o
 acute\; siempre\; descubri&oacute\; en la naturaleza a &ldquo\;su maestra&
 rdquo\;. A los 27 a&ntilde\;os hab&iacute\;a perdido a su madre y cuatro h
 ermanos. Cuid&oacute\; de su padre y su sobrina. Am&oacute\; la m&uacute\;
 sica\, el excursionismo\, la literatura\, la filosof&iacute\;a. Desde 1868
  vive en Barcelona\, en transformaci&oacute\;n urban&iacute\;stica\, socia
 l y pol&iacute\;tica. Trabaj&oacute\; para pagarse los estudios y se gradu
 &oacute\; en 1878. Eusebi G&uuml\;ell\, descubri&oacute\; a Gaud&iacute\; 
 a trav&eacute\;s de una vitrina en la Exposici&oacute\;n Universal de Par&
 iacute\;s de 1878. Este hecho cambi&oacute\; la vida profesional de Gaud&i
 acute\;.\nDec&iacute\;a Gaud&iacute\;: &ldquo\;Cada uno utiliza el don que
  Dios le ha dado. Su realizaci&oacute\;n es la m&aacute\;xima perfecci&oac
 ute\;n social&rdquo\;.\nJos&eacute\; Manuel Almuzara&nbsp\;es Arquitecto d
 esde 1977 en Barcelona. Conoci&oacute\; a Llu&iacute\;s Bonet Gar&iacute\;
  e Isidre Puig Boada\, arquitectos disc&iacute\;pulos de Gaud&iacute\;. De
 sde 1992 es presidente de la Asociaci&oacute\;n pro beatificaci&oacute\;n 
 de Gaud&iacute\;\, cuyo fin es la proyecci&oacute\;n de sus vertientes esp
 iritual y art&iacute\;stica a trav&eacute\;s de conferencias\, exposicione
 s y publicaciones. Desde 2007 a 2013 fue Secretario de la Asociaci&oacute\
 ;n Amigos de Gaud&iacute\;\, y hasta 2015 fue Vicepresidente. Ha participa
 do en la edici&oacute\;n de libros\, comisario en exposiciones e impartido
  conferencias.\nOrganizan_Mag&iacute\;ster en Patrimonio Cultural UC\nCent
 ro del Patrimonio Cultural UC\n&nbsp\;\nPatrocina_Universitat de Barcelona
 \, C&agrave\;tedra Antoni Gaud&iacute\;. The Gaud&iacute\; Research Instit
 ute\n&nbsp\;\n**Entrada liberada\, cupos limitados. Inscripciones al corre
 o&nbsp\;magisterpatrimonio@uc.cl\n&nbsp\;\n\n&nbsp\;\n&nbsp\;\nNoticias\nC
 ontacto:&nbsp\;redesarq@uc.cl&nbsp\;| +56 2 2354 7747www.arquitectura.uc.c
 l https://fadeu-old.urantiacos.cl/agenda/evento/1841-charla-magistral-la-s
 agrada-familia-obra-magna-de-antoni-gaudi-jose-manuel-almuzara
DTSTART:20190417T170000Z
DTEND:20190417T180000Z
LOCATION:Salón Sergio Larraín\, Campus Lo Contador ()
SUMMARY:Charla magistral 'La Sagrada Familia\, obra magna de Antoni Gaudí' 
 | José Manuel Almuzara
URL:https://fadeu-old.urantiacos.cl/agenda/evento/1841-charla-magistral-la-
 sagrada-familia-obra-magna-de-antoni-gaudi-jose-manuel-almuzara
END:VEVENT
BEGIN:VEVENT
UID:20260420T045916UTC-1149lVeIvM@https://fadeu-old.urantiacos.cl/
DTSTAMP:20260420T045916Z
DESCRIPTION:El Museo Hist&oacute\;rico y Militar en conjunto con el Equipo 
 de Investigaci&oacute\;n UC de los&nbsp\;Fuertes del Biob&iacute\;o le inv
 itan a la charla&nbsp\;&ldquo\;Piezas-Sistema-Paisaje. El valor&nbsp\;patr
 imonial de los Fuertes del Biob&iacute\;o&rdquo\;&nbsp\;&nbsp\;expuesta po
 r&nbsp\;Emilio de la Cerda\,&nbsp\;Subsecretario de Patrimonio. La charla 
 se enmarca dentro de la Exposici&oacute\;n&nbsp\;'Sistema de Fuertes del B
 iob&iacute\;o'\; que se exhibe en el mismo museo y que tambi&eacute\;n est
 &aacute\;n&nbsp\;cordialmente&nbsp\;invitados a visitar.&nbsp\;\nMi&eacute
 \;rcoles&nbsp\;17 de abril 11hrs.Avenida Blanco Encalada 1550Auditorio Mus
 eo Hist&oacute\;rico y Militar\n&nbsp\;\n https://fadeu-old.urantiacos.cl/
 agenda/evento/1840-charla-piezas-sistema-paisaje-el-valor-patrimonial-de-l
 os-fuertes-del-biobio
DTSTART:20190417T150000Z
DTEND:20190417T160000Z
LOCATION:Auditorio Museo Histórico y Militar (Av. Blanco Encalada 1550)
SUMMARY: Charla: Piezas-Sistema-Paisaje. El valor patrimonial de los Fuerte
 s del Biobío
URL:https://fadeu-old.urantiacos.cl/agenda/evento/1840-charla-piezas-sistem
 a-paisaje-el-valor-patrimonial-de-los-fuertes-del-biobio
END:VEVENT
BEGIN:VEVENT
UID:20260420T045916UTC-11532wtbzP@https://fadeu-old.urantiacos.cl/
DTSTAMP:20260420T045916Z
DESCRIPTION:En el marco del curso Dise&ntilde\;o e Impacto ambiental\,&nbsp
 \;Mark Minneboo\, Director Ejecutivo de&nbsp\;Plastic Oceans&nbsp\;Chile\,
  fundaci&oacute\;n Internacional que busca cambiar la relaci&oacute\;n que
  tiene el mundo con respecto al pl&aacute\;stico dentro de una generaci&oa
 cute\;n. En la charla se exhibir&aacute\; el aplaudido documental A Plasti
 c Oceans.\nFecha: 17 de abril\, 8.30 hrs.Lugar: Sala por confirmar\, Campu
 s Lo Contador\n&nbsp\;\n https://fadeu-old.urantiacos.cl/agenda/evento/183
 1-charla-plastic-oceans
DTSTART:20190417T123000Z
DTEND:20190417T133000Z
LOCATION:Sala Luis Moreno\, Escuela de Diseño UC\, Campus Lo Contador (El C
 omendador 1916\, Providencia\, Región Metropolitana\, Chile)
SUMMARY:Charla. Plastic Oceans
URL:https://fadeu-old.urantiacos.cl/agenda/evento/1831-charla-plastic-ocean
 s
END:VEVENT
BEGIN:VEVENT
UID:20260420T045916UTC-1156n1gO0B@https://fadeu-old.urantiacos.cl/
DTSTAMP:20260420T045916Z
DESCRIPTION:Taller: Ilustraci&oacute\;n de personajesDictado por la ex estu
 diante de Dise&ntilde\;o UC\,&nbsp\;Mar&iacute\;a Jes&uacute\;s Guarda\nLo
 s personajes son parte fundamental en el desarrollo de una historia. Por e
 sto\, al momento de narrar se debe conocer cabalmente los personajes tanto
  en su interior como exterior.Este taller se enfoca en el desarrollo de pe
 rsonajes ilustrados para narraciones visuales (Libro &Aacute\;lbum\, Novel
 a Gr&aacute\;fica\, etc) mediante ejercicios pr&aacute\;cticos que permite
 n familiarizarse con cada aspecto del personaje.\nTaller gratuito\, previa
  inscripci&oacute\;n.Inscripciones aqu&iacute\;&nbsp\;(15 cupos por orden 
 de inscripci&oacute\;n)\n*Requisitos: Los participantes del taller deben t
 ener alg&uacute\;n tipo de acercamiento/inter&eacute\;s por la ilustraci&o
 acute\;n.\n*Proyecto Financiado por el Fondo Nacional de Fomento del Libro
  y la Lectura\, 2017.\n&nbsp\;\n\n&nbsp\; https://fadeu-old.urantiacos.cl/
 agenda/evento/1830-taller-ilustracion-de-personajes
DTSTART:20190416T213000Z
DTEND:20190416T223000Z
LOCATION:Sala 201\, Segundo piso Edificio de Diseño (Los Navegantes 1919\, 
 Providencia)
SUMMARY:Taller: Ilustración de personajes
URL:https://fadeu-old.urantiacos.cl/agenda/evento/1830-taller-ilustracion-d
 e-personajes
END:VEVENT
BEGIN:VEVENT
UID:20260420T045916UTC-1160Ol24ED@https://fadeu-old.urantiacos.cl/
DTSTAMP:20260420T045916Z
DESCRIPTION:\nConversatorio en el que se hablar&aacute\; sobre&nbsp\;la exp
 eriencia de moverse a pie por la ciudad\, a desarrollarse en el marco de l
 a exposici&oacute\;n 'Formas de Caminar'&nbsp\;(01 -17 de abril\, Bibliote
 ca Lo contador) que agrupa cuadernos de caminantes y libros de la bibliote
 ca UC seleccionados por el equipo del proyecto 'La Reconquista Peatonal'\,
  investigaci&oacute\;n dirigida por Rosanna Forray\, Nicole Pumarino y Kar
 en Seaman.\n\n\nEl proyecto&nbsp\;La Reconquista Peatonal&nbsp\;busca reco
 lectar experiencias de caminantes con el objetivo de visibilizar lo que oc
 urre al moverse a pie por la ciudad. En 2018 arededor de 100 personas se a
 propiaron de un cuaderno que llevaron a sus caminatas durante aproximadame
 nte 3 semanas. Existieron dos versiones\; &laquo\;Ruta Cotidiana&raquo\; p
 ara el registro de recorridos diarios\, con un enfoque en el espacio f&iac
 ute\;sico que da cuenta de la ciudad percibida y otra versi&oacute\;n\, &l
 aquo\;Las Caminantes&raquo\; dirigida solo a mujeres\, en la que se explor
 a un &aacute\;mbito m&aacute\;s experiencial de la ciudad. El material rec
 olectado es diverso y ha reforzado el car&aacute\;cter &uacute\;nico de ca
 da caminata. La Reconquista Peatonal es una invitaci&oacute\;n abierta a r
 econquistar la caminata y la ciudad\, y as&iacute\; construir colectivamen
 te una visi&oacute\;n de lo urbano desde las experiencias individuales.\nT
 oda caminata constituye\, en mayor o menor medida\, un ejercicio de la lib
 ertad\, independiente del motivo\, el fin &uacute\;ltimo o las condiciones
  en que se desarrolla. Y a su vez\, toda caminata implica una temporalidad
  asimilable por las personas\, una toma de conciencia. Con solo alterar el
  objetivo de la caminata &ndash\;desde el desprejuicio de la caminata recr
 eativa hasta la mucho m&aacute\;s operativa rutina diaria de transporte ha
 cia el trabajo&ndash\; cambia la percepci&oacute\;n del acto mismo.\nFecha
 _15 de abril de 2019\, 18.30 h.Lugar_Biblioteca Lo ContadorEl Comendador 1
 916\, ProvidenciaInvitan_La Reconquista PeatonalBibliotecas UCEscuela de A
 rquitectura UCPontificia Universidad Cat&oacute\;lica de Chile&nbsp\;Notic
 iasContacto:&nbsp\;redesarq@uc.cl&nbsp\;| +56 2 2354 7747www.arquitectura.
 uc.cl\n\n&nbsp\; https://fadeu-old.urantiacos.cl/agenda/evento/1846-conver
 satorio-que-pasa-cuando-caminamos
DTSTART:20190415T223000Z
DTEND:20190415T233000Z
LOCATION:Biblioteca Lo Contador UC (El Comendador 1916)
SUMMARY:Conversatorio ¿Qué pasa cuando caminamos?
URL:https://fadeu-old.urantiacos.cl/agenda/evento/1846-conversatorio-que-pa
 sa-cuando-caminamos
END:VEVENT
END:VCALENDAR
