BEGIN:VCALENDAR
VERSION:2.0
PRODID:-//https://fadeu-old.urantiacos.cl///NONSGML kigkonsult.se iCalcreator 2.10.15//
METHOD:PUBLISH
BEGIN:VEVENT
UID:20260423T190707UTC-7132fM1CF9@https://fadeu-old.urantiacos.cl/
DTSTAMP:20260423T190707Z
DESCRIPTION:Diez a&ntilde\;os de di&aacute\;logo y trabajo compartidos con 
 tejedoras tradicionales del Noroeste Argentino.\nPresenta: Claudia Mazzola
 . Psic&oacute\;loga Social/Artista textil.\n+&nbsp\;Se vender&aacute\;n ej
 emplares del libro &ldquo\;Tejiendo una Nueva Vida&ordf\;\, Registro del P
 royecto.\n&nbsp\;\n https://fadeu-old.urantiacos.cl/agenda/evento/895-char
 la-tejiendo-una-nueva-vida-diez-anos-de-dialogos-y-trabajo-compartidos-con
 -tejedoras-tradicionales-del-noroeste-argentino
DTSTART:20170420T220000Z
DTEND:20170420T233000Z
LOCATION:Auditorio FADEU\, Campus Lo Contador PUC (El Comendador 1916\, Pro
 videncia\, Providencia\, Región Metropolitana\, Chile)
SUMMARY:Charla 'Tejiendo una Nueva Vida: Diez años de diálogos y trabajo co
 mpartidos con tejedoras tradicionales del Noroeste Argentino'
URL:https://fadeu-old.urantiacos.cl/agenda/evento/895-charla-tejiendo-una-n
 ueva-vida-diez-anos-de-dialogos-y-trabajo-compartidos-con-tejedoras-tradic
 ionales-del-noroeste-argentino
END:VEVENT
BEGIN:VEVENT
UID:20260423T190707UTC-7137vUZ0Vn@https://fadeu-old.urantiacos.cl/
DTSTAMP:20260423T190707Z
DESCRIPTION:Lanzamiento ARQDOCS Rodrigo Perez de ArceComenta Jonathan Sergi
 son\nRodrigo P&eacute\;rez de Arce profesor Arquitectura UC\, Diploma Arch
 itectural Association (1975)\, Doctor Arquitecto\, Universidad Central de 
 Venezuela (2011) realizar&aacute\; el pr&oacute\;ximo jueves una conferenc
 ia y presentar&aacute\; la segunda publicaci&oacute\;n de este 2017 de la 
 serie ARQDOCS\; 'Rodrigo P&eacute\;rez de Arce Hecho a Mano | Breve Histor
 ia de la Amnesia'.\nOrganizaEdiciones ARQArquitectura UC\n&nbsp\;\n https:
 //fadeu-old.urantiacos.cl/agenda/evento/885-lanzamiento-arqdocs
DTSTART:20170420T213000Z
DTEND:20170420T230000Z
LOCATION:Auditorio Arquitectura UC\, Campus Lo Contador (el comendador 1916
 \, providencia)
SUMMARY:Lanzamiento ARQDOCS
URL:https://fadeu-old.urantiacos.cl/agenda/evento/885-lanzamiento-arqdocs
END:VEVENT
BEGIN:VEVENT
UID:20260423T190707UTC-71404bgErP@https://fadeu-old.urantiacos.cl/
DTSTAMP:20260423T190707Z
DESCRIPTION:Frederic DruotArquitecto asociado en m&uacute\;ltiples proyecto
 s con Lacaton &amp\; Vassal\nOrganizaCentro de Desarrollo Urbano Sustentab
 le (CEDEUS)\n\n&nbsp\; https://fadeu-old.urantiacos.cl/agenda/evento/897-c
 onferencia-plus-vivienda-social-en-altura-la-transformacion-del-existente-
 por-frederic-druot
DTSTART:20170420T163000Z
DTEND:20170420T180000Z
LOCATION:Auditorio Arquitectura UC\, Campus Lo Contador (el comendador 1916
 \, providencia)
SUMMARY:Conferencia 'Plus: Vivienda Social en Altura. La transformación del
  existente'\, por Frederic Druot
URL:https://fadeu-old.urantiacos.cl/agenda/evento/897-conferencia-plus-vivi
 enda-social-en-altura-la-transformacion-del-existente-por-frederic-druot
END:VEVENT
BEGIN:VEVENT
UID:20260423T190707UTC-7143GM0PGh@https://fadeu-old.urantiacos.cl/
DTSTAMP:20260423T190707Z
DESCRIPTION:Conferencia Sergison Bates ArchitectsPor Jonathan Sergison\nLa 
 oficina fundada en Londres en 1996 por Stephen Bates y Jonathan Sergison (
 Profesor Invitado Arquitectura UC) que ha sido recientemente publicada por
  la revista monogr&aacute\;fica espa&ntilde\;ola El Croquis\, y que posee 
 un contundente portafolio de proyectos tanto p&uacute\;blicos como privado
 s\, en los que destaca el conjunto de vivienda colectiva en G&eacute\;nova
  (2011)\, la biblioteca p&uacute\;blica en Blankenberge (2011)\, las ofici
 nas Pudong en Shanghai (2014) har&aacute\; un repaso de sus obras y propue
 stas en el marco del workshop realizado por el MARQ UC.\nInvitanTaller de 
 Especialidad Magister en Arquitectura UCArquitectura UC\n&nbsp\;\n\n&nbsp\
 ;\n&nbsp\; https://fadeu-old.urantiacos.cl/agenda/evento/881-conferencia-j
 onathan-sergison
DTSTART:20170418T213000Z
DTEND:20170418T230000Z
LOCATION:Auditorio Arquitectura UC\, Campus Lo Contador (el comendador 1916
 \, providencia)
SUMMARY:Conferencia Jonathan Sergison
URL:https://fadeu-old.urantiacos.cl/agenda/evento/881-conferencia-jonathan-
 sergison
END:VEVENT
BEGIN:VEVENT
UID:20260423T190707UTC-7146aTBrb9@https://fadeu-old.urantiacos.cl/
DTSTAMP:20260423T190707Z
DESCRIPTION:Corporalidades en circulaci&oacute\;n. Una mirada etnogr&aacute
 \;fica al Transantiago y sus usuarios\nEn el marco del curso &ldquo\;Inves
 tigaci&oacute\;n etnogr&aacute\;fica y dise&ntilde\;o&rdquo\;\, dictado po
 r los profesores Martin Tiron y Gerardo Mora\, la Escuela de Dise&ntilde\;
 o UC tiene el agrado de invitarle a la conferencia Corporalidades en circu
 laci&oacute\;n: Una mirada etnogr&aacute\;fica al Transantiago y sus usuar
 ios\, que presentar&aacute\; Daniel Mu&ntilde\;oz\, soci&oacute\;logo espe
 cializado en estudios etnogr&aacute\;ficos sobre movilidad en la ciudad.\n
 Sobre la charla\nLa presentaci&oacute\;n discute los desaf&iacute\;os meto
 dol&oacute\;gicos de un estudio que busca describir la interacci&oacute\;n
  cotidiana que existe entre el sistema de transporte p&uacute\;blico de Sa
 ntiago y sus usuarios\, poniendo particular &eacute\;nfasis en la material
 idad y corporalidad de dicha relaci&oacute\;n.\nLa aproximaci&oacute\;n et
 nogr&aacute\;fica se presenta como un camino v&aacute\;lido para dejar que
  los conocimientos no verbales (ritmos\, equilibrios\, orientaciones\, fue
 rzas\, afectos) y los agentes no humanos (bastones\, sillas de ruedas\, an
 dadores\, ascensores\, torniquetes\, rampas) encuentren una voz. Asimismo\
 , la sensibilidad que ofrece esta mirada entrega al etn&oacute\;grafo la o
 portunidad de comprenderse como un agente corp&oacute\;reo privilegiado\, 
 generando conocimiento desde el reconocimiento de la diferencia y de las a
 simetr&iacute\;as ocultas en el dise&ntilde\;o de nuestros sistemas de tra
 nsporte p&uacute\;blico\nDaniel Mu&ntilde\;oz Zech\nSoci&oacute\;logo y Ma
 g&iacute\;ster en Desarrollo Urbano (Pontificia Universidad Cat&oacute\;li
 ca de Chile).&nbsp\;Se ha especializado en estudios cualitativos sobre mov
 ilidad urbana\, ha participado en diversas investigaciones en terreno con 
 usuarios del transporte p&uacute\;blico en la ciudad de Santiago. Actualme
 nte\, realiza su investigaci&oacute\;n doctoral Embodied social exclusion 
 in the public transport: The case of Transantiago\, in Chile al alero de l
 a Escuela de Geociencias de la Universidad de Edinburgh (Escocia) y es pro
 fesor del Instituto de Estudios Urbanos y Territoriales de nuestra univers
 idad.\n&nbsp\;\n&nbsp\;\n\n&nbsp\; https://fadeu-old.urantiacos.cl/agenda/
 evento/861-charla-corporalidades-en-circulacion-una-mirada-etnografica-al-
 transantiago-y-sus-usuarios-por-daniel-munoz-zech
DTSTART:20170418T130000Z
DTEND:20170418T143000Z
LOCATION:Auditorio sur\, Campus Lo Contador (El Comendador 1916\, Providenc
 ia\, Región Metropolitana\, Chile)
SUMMARY:Charla 'Corporalidades en Circulación. Una mirada etnográfica al Tr
 ansantiago y sus usuarios'\, por Daniel Muñoz Zech
URL:https://fadeu-old.urantiacos.cl/agenda/evento/861-charla-corporalidades
 -en-circulacion-una-mirada-etnografica-al-transantiago-y-sus-usuarios-por-
 daniel-munoz-zech
END:VEVENT
BEGIN:VEVENT
UID:20260423T190707UTC-7154vpLaiJ@https://fadeu-old.urantiacos.cl/
DTSTAMP:20260423T190707Z
DESCRIPTION:Diplomado en Gesti&oacute\;n InmobiliariaJefe de programa: Fran
 cisco Traverso\nEl Diplomado espera contribuir en la b&uacute\;squeda e id
 entificaci&oacute\;n de nuevos espacios de oportunidad y\, bajo m&uacute\;
 ltiples perspectivas y disciplinas\, entregar un fundamento s&oacute\;lido
  para concretizar y abrir nuevos escenarios de desarrollo urbano/inmobilia
 rio. La aproximaci&oacute\;n a la gesti&oacute\;n inmobiliaria se hace des
 de una visi&oacute\;n amplia desde su contexto urbano y territorial\, su a
 mbiente jur&iacute\;dico\, las perspectivas sociales\, econ&oacute\;micas 
 y pol&iacute\;ticas en las que se enmarca.\nInteresa capacitar a profesion
 ales en una visi&oacute\;n amplia de la actividad inmobiliaria en la cual 
 desarrollar capacidades para innovar y captar tendencias y nuevos desaf&ia
 cute\;os que enriquezcan la actividad edificatoria de la ciudad.\n+ M&aacu
 te\;s informaci&oacute\;n y postulaciones aqu&iacute\;.\n&nbsp\;\n https:/
 /fadeu-old.urantiacos.cl/agenda/evento/815-inicio-diplomado-en-gestion-inm
 obiliaria
DTSTART:20170418T030000Z
LOCATION:Instituto de Estudios Urbanos y Territoriales UC\, Campus Lo Conta
 dor (El Comendador 1916\, Providencia\, Providencia\, Región Metropolitana
 \, Chile)
SUMMARY:Inicio Diplomado en Gestión Inmobiliaria
URL:https://fadeu-old.urantiacos.cl/agenda/evento/815-inicio-diplomado-en-g
 estion-inmobiliaria
END:VEVENT
BEGIN:VEVENT
UID:20260423T190707UTC-7159iI4cH8@https://fadeu-old.urantiacos.cl/
DTSTAMP:20260423T190707Z
DESCRIPTION:+ Cupos limitados. Inscripciones con Loreto Villaroel: lvillarr
 @uc.cl\n&nbsp\;\n https://fadeu-old.urantiacos.cl/agenda/evento/843-la-ciu
 dad-y-las-palabras-por-nanni-moretti
DTSTART:20170417T213000Z
DTEND:20170417T230000Z
LOCATION:Auditorio FADEU\, Campus Lo Contador PUC (El Comendador 1916\, Pro
 videncia\, Providencia\, Región Metropolitana\, Chile)
SUMMARY:La Ciudad y Las Palabras\, por Nanni Moretti
URL:https://fadeu-old.urantiacos.cl/agenda/evento/843-la-ciudad-y-las-palab
 ras-por-nanni-moretti
END:VEVENT
BEGIN:VEVENT
UID:20260423T190707UTC-7161w10Hxo@https://fadeu-old.urantiacos.cl/
DTSTAMP:20260423T190707Z
DESCRIPTION:En el marco del mes de la sustentabilidad y tras la inquietante
  situaci&oacute\;n que est&aacute\; viviendo nuestro planeta en cuanto a l
 a inmensurable cantidad de desechos que estamos produciendo\, tenemos el a
 grado de invitarlos a la charla 'BASURA: Un Error De Dise&ntilde\;o&rdquo\
 ;.\nLa invitaci&oacute\;n es a escuchar y opinar sobre el tema\, finalizan
 do con un c&oacute\;ctel. Quien guiar&aacute\; la conversaci&oacute\;n ser
 &aacute\; el ex alumno de nuestra universidad y actual miembro de TRICICLO
 S\, Tomas Garc&iacute\;a. Tom&aacute\;s es ingeniero en biotecnolog&iacute
 \;a ambiental UC y promotor de los puntos limpios en San Joaqu&iacute\;n.&
 nbsp\;\n+ Inscripciones con cigonzalez4@uc.cl\n&nbsp\;\n\n&nbsp\; https://
 fadeu-old.urantiacos.cl/agenda/evento/887-charla-basura-un-error-de-diseno
DTSTART:20170417T160000Z
DTEND:20170417T173000Z
LOCATION:Sala 17 Casona\, Campus Lo Contador (El Comendador 1916\, Providen
 cia\, Región Metropolitana\, Chile)
SUMMARY:Charla 'BASURA: Un Error De Diseño”
URL:https://fadeu-old.urantiacos.cl/agenda/evento/887-charla-basura-un-erro
 r-de-diseno
END:VEVENT
BEGIN:VEVENT
UID:20260423T190707UTC-7165HuRgsS@https://fadeu-old.urantiacos.cl/
DTSTAMP:20260423T190707Z
DESCRIPTION:Diplomado en Tasaci&oacute\;n InmobiliariaJefe de programa: Kat
 herine Yates\nEl vertiginoso desarrollo de las ciudades hace cada vez m&aa
 cute\;s complejo el proceso de valorizaci&oacute\;n de bienes y proyectos 
 inmobiliarios dado que intervienen en ellos m&uacute\;ltiples variables as
 ociadas a los procesos urbanos y econ&oacute\;micos\, como lo son la incor
 poraci&oacute\;n de nuevas &aacute\;reas de expansi&oacute\;n\, cambios no
 rmativos\, tendencias en la demanda\, fluctuaciones del ciclo econ&oacute\
 ;mico nacional\, entre otras. Por tanto\, se requieren profesionales con u
 n amplio criterio\, capaces de enfrentar e identificar estas variables par
 a llevarlas a efectos de mercado con la capacidad de emitir juicios fundam
 entados en informaciones diversas y destreza t&eacute\;cnica.\nEs por esto
  que nace la necesidad de un profesional interesado en explorar en este ca
 mpo que adquiera el manejo de un conjunto de conocimientos\, no s&oacute\;
 lo t&eacute\;cnicos sino adem&aacute\;s de la actualidad contingente del s
 ector y su cultura espec&iacute\;fica\, que le permitan ser capaz de emiti
 r juicios fundamentados y opiniones con criterio a la hora de valorar un b
 ien.\n+ M&aacute\;s informaci&oacute\;n y postulaciones aqu&iacute\;.\n&nb
 sp\;\n https://fadeu-old.urantiacos.cl/agenda/evento/817-inicio-diplomado-
 en-tasacion-inmobiliaria
DTSTART:20170417T030000Z
LOCATION:Instituto de Estudios Urbanos y Territoriales UC\, Campus Lo Conta
 dor (El Comendador 1916\, Providencia\, Providencia\, Región Metropolitana
 \, Chile)
SUMMARY:Inicio Diplomado en Tasación Inmobiliaria
URL:https://fadeu-old.urantiacos.cl/agenda/evento/817-inicio-diplomado-en-t
 asacion-inmobiliaria
END:VEVENT
END:VCALENDAR
