BEGIN:VCALENDAR
VERSION:2.0
PRODID:-//https://fadeu-old.urantiacos.cl///NONSGML kigkonsult.se iCalcreator 2.10.15//
METHOD:PUBLISH
BEGIN:VEVENT
UID:20260420T045857UTC-1236tZGOFJ@https://fadeu-old.urantiacos.cl/
DTSTAMP:20260420T045857Z
DESCRIPTION: https://fadeu-old.urantiacos.cl/agenda/evento/1838-premiacion-
 concurso-dutch-design-made-in-chile
DTSTART:20190426T040000Z
LOCATION:Centro Cultural Estación Mapocho (Presidente Balmaceda s/n)
SUMMARY:Premiación concurso 'Dutch Design. Made in Chile'
URL:https://fadeu-old.urantiacos.cl/agenda/evento/1838-premiacion-concurso-
 dutch-design-made-in-chile
END:VEVENT
BEGIN:VEVENT
UID:20260420T045857UTC-1238UlV48I@https://fadeu-old.urantiacos.cl/
DTSTAMP:20260420T045857Z
DESCRIPTION:La exposici&oacute\;n\, y el coloquio que la inaugura\, abordan
  momentos claves en la historia de 'primer a&ntilde\;o' de la Escuela de A
 rquitectura UC. Articulando un ejercicio de &ldquo\;mallas comparadas&rdqu
 o\; a trav&eacute\;s de una l&iacute\;nea de tiempo\, la muestra presenta 
 el material recabado por el cluster &ldquo\;Iniciaci&oacute\;n a la Arquit
 ectura&rdquo\;\, acompa&ntilde\;ado de una serie de entrevistas a actores 
 relevantes.\nEl proyecto\, llevado adelante por el cluster 'Iniciaci&oacut
 e\;n a la Arquitectura' gracias al financiamiento del Fondo Semilla EARQ-U
 C 2018\, se centra en el conjunto de cursos iniciales de Proyecto\, Repres
 entaci&oacute\;n\, y Teor&iacute\;a e Historia\, dictados en el primer sem
 estre de la carrera de Arquitectura de la Pontificia Universidad Cat&oacut
 e\;lica de Chile\, entre el amplio periodo que va de 1949 a 2019. A trav&e
 acute\;s de la construcci&oacute\;n de una l&iacute\;nea de tiempo y el ej
 ercicio de 'mallas comparadas'\, la investigaci&oacute\;n ha tenido por ob
 jeto evidenciar los cambios y persistencias de forma y fondo que se han pr
 oducido hist&oacute\;ricamente en estas asignaturas\, comprendiendo los po
 sibles tipos de v&iacute\;nculo que han existido entre ellas y otros curso
 s de la malla\, en el contexto de los programas de estudio globales de la 
 carrera. Tambi&eacute\;n ha sido importante iluminar la relaci&oacute\;n d
 e los cursos de iniciaci&oacute\;n y las circunstancias sociales\, hist&oa
 cute\;ricas\, culturales y universitarias espec&iacute\;ficas en que se in
 scribieron.\nFecha y lugar_\nExposici&oacute\;n: 26 de abril al 10 de mayo
 \, hall edificio ARQ UC.&nbsp\;El Comendador 1936\, ProvidenciaColoquio: 2
 6 de abril\, 15.00 h\, auditorio FADEU.&nbsp\;El Comendador 1916\, Provide
 ncia\n&nbsp\;\nOrganizan_\nCluster 'Iniciaci&oacute\;n a la Arquitectura' 
 +&nbsp\;Fondo Semilla 2018 EARQ UC\nCurso Introducci&oacute\;n a la Arquit
 ectura EARQ UC\n&nbsp\;\n\n&nbsp\;\nNoticiasContacto:&nbsp\;redesarq@uc.cl
 &nbsp\;| +56 2 2354 7747www.arquitectura.uc.cl https://fadeu-old.urantiaco
 s.cl/agenda/evento/1849-exposicion-y-conversatorio-iniciacion-a-la-arquite
 ctura-en-la-escuela-de-arquitectura-uc-1949-2019
DTSTART:20190426T040000Z
LOCATION:Hall Arquitectura UC (El Comendador 1936\, Providencia\, Región Me
 tropolitana\, Chile)
SUMMARY:Exposición y conversatorio 'Iniciación a la arquitectura en la Escu
 ela de Arquitectura UC 1949-2019'
URL:https://fadeu-old.urantiacos.cl/agenda/evento/1849-exposicion-y-convers
 atorio-iniciacion-a-la-arquitectura-en-la-escuela-de-arquitectura-uc-1949-
 2019
END:VEVENT
BEGIN:VEVENT
UID:20260420T045857UTC-1246JSL657@https://fadeu-old.urantiacos.cl/
DTSTAMP:20260420T045857Z
DESCRIPTION:Charlas magistrales dictadas en el marco del 'Taller integrado 
 de vivienda colectiva: regeneraci&oacute\;n barrial a escala humana' desar
 rollado entre la Escuela de Arquitectura UC y la Facultad de Arquitectura 
 y Urbanismo de la Universidad de Chile durante el primer semestre de 2019.
 \n&nbsp\;\nMiguel Lawner: &ldquo\;La construcci&oacute\;n de un sue&ntilde
 \;o urbano&rdquo\;\n&nbsp\;\n\nArquitecto de la Facultad de Arquitectura y
  Urbanismo del Universidad de Chile y ex director ejecutivo de la Corporac
 i&oacute\;n de Mejoramiento Urbano (CORMU). En su charla expondr&aacute\; 
 sobre la segregaci&oacute\;n de las ciudades\, las acciones realizadas por
  la CORMU\, las condiciones de habitabilidad\, el deterioro y el allegamie
 nto. Enfatizando en el tejido social existente para rescatar los valores y
  modos de habitar que hoy son de alto valor patrimonial.\nOrlando Sep&uacu
 te\;lveda: &ldquo\;El proyecto de la CORVI&rdquo\;\nAcad&eacute\;mico del 
 Instituto del Vivienda de la Facultad de Arquitectura y Urbanismo del Univ
 ersidad de Chile y ex dise&ntilde\;ador de la CORVI\, autor de tipolog&iac
 ute\;as emblem&aacute\;ticas como los prototipos racionalizados 10101 y 10
 20\, expondr&aacute\; acerca de los fundamentos que gu&iacute\;an las prop
 uestas de dise&ntilde\;o del proyecto residencial de la Corporaci&oacute\;
 n de la Vivienda\, los que van desde la localizaci&oacute\;n del proyecto\
 , la idea de integridad de las &aacute\;reas residenciales\, hasta el dise
 &ntilde\;o y racionalizaci&oacute\;n de la construcci&oacute\;n alcanzando
  la estandarizaci&oacute\;n y econom&iacute\;a de la producci&oacute\;n ha
 bitacional colectiva.\n\n&nbsp\;\nFecha_\nJueves 25 de abril de 2019\, 17.
 00 a 19.00 h.&nbsp\;\n&nbsp\;\nLugar_\nAuditorio FCV. El Comendador 1936\,
  Providencia\n&nbsp\;\nOrganizan_\nEscuela de Arquitectura\, Facultad&nbsp
 \;de Arquitectura\, Dise&ntilde\;o y Estudios Urbanos UC\nCarrera de Arqui
 tectura\, Facultad de Arquitectura y Urbanismo de la Universidad de Chile
 \nInstituto de la Vivienda&nbsp\;Universidad de Chile\n&nbsp\;\n\n&nbsp\;
 \nNoticiasContacto:&nbsp\;redesarq@uc.cl&nbsp\;| +56 2 2354 7747www.arquit
 ectura.uc.cl https://fadeu-old.urantiacos.cl/agenda/evento/1836-charla-mag
 istral-miguel-lawner-orlando-sepulveda-earq-uc-fau-uch
DTSTART:20190425T210000Z
DTEND:20190425T230000Z
LOCATION:Auditorio Fernando Castillo Velasco. Edificio ARQ (El Comendador 1
 936\, Providencia\, Región Metropolitana\, Chile)
SUMMARY:Charla magistral Miguel Lawner + Orlando Sepúlveda | EARQ UC + FAU 
 UCh
URL:https://fadeu-old.urantiacos.cl/agenda/evento/1836-charla-magistral-mig
 uel-lawner-orlando-sepulveda-earq-uc-fau-uch
END:VEVENT
BEGIN:VEVENT
UID:20260420T045857UTC-12538TE2lz@https://fadeu-old.urantiacos.cl/
DTSTAMP:20260420T045857Z
DESCRIPTION:\nSeminario que se enmarca en el curso OPR &ldquo\;Espacios p&u
 acute\;blicos e infraestructuras para el cambio clim&aacute\;tico&rdquo\; 
 a cargo de los profesores Macarena Gaete y Tom&aacute\;s G&oacute\;mez. Cu
 enta con el apoyo de los programas de Mag&iacute\;ster en Arquitectura Sus
 tentable y Energ&iacute\;a (MASE)\, Mag&iacute\;ster en Arquitectura del P
 aisaje (MAPA)\, Mag&iacute\;ster en Proyecto Urbano (MPUR). Colabora el La
 boratorio de Ciudad y Movilidad UC - C&amp\;Mlab UC.\n\n\nEl cambio clim&a
 acute\;tico exige un vuelco en el dise&ntilde\;o de nuestros espacios p&ua
 cute\;blicos e infraestructuras. El seminario pretende cuestionar el rol d
 el dise&ntilde\;o en las definiciones del entorno construido para comprend
 erlo como facilitador y l&iacute\;der de la inter/trans-disciplina en la g
 eneraci&oacute\;n de proyectos integrados (entre s&iacute\;)\, con la natu
 raleza\, y con la sociedad.Este nuevo paradigma implica la inclusi&oacute\
 ;n de lo din&aacute\;mico\, los flujos y los procesos\, en un dise&ntilde\
 ;o que modifica la dimension f&iacute\;sica de los espacios\, de acuerdo a
  las funciones sociales\, urbanas y ecosist&eacute\;micas. Se trata de una
  modificaci&oacute\;n del paisaje\, para la adaptaci&oacute\;n frente al C
 C\, como para la mitigaci&oacute\;n de sus causas.\nAs&iacute\; mismo\, el
  CC nos confronta con problem&aacute\;ticas urbanas estructurales como la 
 desigual distribuci&oacute\;n de espacios p&uacute\;blicos e infraestructu
 ra dentro de las ciudades\, la falta de acceso a servicios b&aacute\;sicos
 \, la vulnerabilidad de los grupos socioecon&oacute\;micos m&aacute\;s baj
 os ante eventos clim&aacute\;ticos extremos\, la fragmentaci&oacute\;n de 
 las ciudades y la desconexi&oacute\;n de nuestras sociedades con el medio 
 natural.\nInvitados_Sergio Baeriswyl |&nbsp\;Presidente del Consejo Nacion
 al de Desarrollo Urbano&nbsp\;\nArquitecto UC y Doctor en Urbanismo Univer
 sidad de Karlsruhe\, en Alemania. Premio Nacional de Urbanismo de Chile\, 
 premio Alfredo Johnson del Colegio de Arquitectos de Chile\, Premio Munici
 pal de Ciencias Sociales otorgado por el Municipio de Concepci&oacute\;n.&
 nbsp\;Presidente del Consejo Nacional de Desarrollo Urbano y Director de l
 a Facultad de Arquitectura\, Construcci&oacute\;n y Dise&ntilde\;o de la U
 niversidad del B&iacute\;o-B&iacute\;o. Fundador y coordinador general del
  Observatorio Metropolitano del Gran Concepci&oacute\;n. Fue coordinador g
 eneral del Plan de Reconstrucci&oacute\;n Urbana del Borde Costero de la R
 egi&oacute\;n del Biob&iacute\;o.\nNicolas Sep&uacute\;lveda |&nbsp\;Jefe 
 de la Divisi&oacute\;n de Planificacion y Desarrollo Urbano\, Gobierno Reg
 ional Antofagasta\nArquitecto de la Pontificia Universidad Cat&oacute\;lic
 a de Chile con vasta experiencia en planificaci&oacute\;n urbana. Actualme
 nte es Jefe de la Divisi&oacute\;n de Planificaci&oacute\;n y Desarrollo R
 egional del Gobierno Regional de Antofagasta. Fue Jefe de Proyectos en el 
 Plan CREO Antofagasta a cargo de las iniciativas de borde costeros y espac
 ios p&uacute\;blicos\, arquitecto en la misma Divisi&oacute\;n de Planific
 aci&oacute\;n y Desarrollo Regional del Gobierno Regional de Antofagasta\,
  y como arquitecto en la C&aacute\;mara Chilena de la Construcci&oacute\;n
 .\nDr. Paola Alfaro D&acute\;Alencon |&nbsp\;Profesora e investigadora\, U
 niversidad T&eacute\;cnica de Berlin\nDoctora urbanista de TU-Berlin\, doc
 torado en Estudios Urbanos y Arquitectura de la UC. Cuenta con 15 a&ntilde
 \;os de experiencia internacional en investigaci&oacute\;n\, ense&ntilde\;
 anza\, consultor&iacute\;a\, planificaci&oacute\;n y dise&ntilde\;o urbano
 \, con base en un profundo conocimiento en desarrollo urbano sustentable\,
  asociado a proyectos de cambio clim&aacute\;tico y renovaci&oacute\;n urb
 ana.&nbsp\;Es socia fundadora de la oficina u Lab Studio f&uuml\;r Stadt u
 nd Raumprozesse en Berlin\, adem&aacute\;s del Laboratorio Urbando de la U
 niversida T&eacute\;cnica de Berlin y galardonada con el Label &ldquo\;Pro
 jekt der Nationale Stadtentwicklung&rdquo\;. Ha sido investigadora y profe
 sora en la Technische Universit&auml\;t Berlin\, profesora invitada en Cor
 nell University\, New York y Dipartimento di Scienze per l&rsquo\;Architet
 tura\, Universit&agrave\; degli Studi di Genova\, el IHS en la Erasmus Uni
 versity en Rotterdam e investigadora asociada en CEDEUS UC.\nPrograma_9.30
  h | Palabras de bienvenidaLuis Eduardo Bresciani L. |&nbsp\;Director Escu
 ela de Arquitectura UC9.45 h | Apertura SeminarioTom&aacute\;s G&oacute\;m
 ez F. |&nbsp\;Profesor&nbsp\;Escuela de Arquitectura UC10.00 h | Presentac
 i&oacute\;nDr. Paola Alfaro D&acute\;Alencon |&nbsp\;Profesora e investiga
 dora\, Universidad T&eacute\;cnica de Berl&iacute\;n\n10.30 h | Presentaci
 &oacute\;nNicol&aacute\;s Sep&uacute\;lveda |Jefe de la Divisi&oacute\;n d
 e Planificaci&oacute\;n y Desarrollo Urbano\, Gobierno Regional Antofagast
 a\n11.00 h | Presentaci&oacute\;nSergio Baeriswyl&nbsp\;|&nbsp\;Presidente
  del Consejo Nacional de Desarrollo Urbano\n11.30 h | Apertura mesa redond
 aMacarena Gaete C. |&nbsp\;Profesora&nbsp\;Escuela de Arquitectura UC\n11.
 50 h &ndash\; 12.50 hMesa redonda y preguntas del p&uacute\;blico\nFecha_2
 5 de abril de 2019\, 9.30 a 13.00 hLugar_Auditorio FCV\,&nbsp\;Escuela de 
 Arquitectura UCEl Comendador 1936\, Providencia&nbsp\;Organizan_Curso Opta
 tivo de Profundizaci&oacute\;n &ldquo\;Espacios p&uacute\;blicos e infraes
 tructuras para el cambio clim&aacute\;tico&rdquo\;Colaboran_Mag&iacute\;st
 er en Arquitectura Sustentable y Energ&iacute\;a - MASEMag&iacute\;ster en
  Arquitectura del Paisaje - MAPAMag&iacute\;ster en Proyecto Urbano - MPUR
 Laboratorio de Ciudad y Movilidad UC - C&amp\;Mlab UCNoticiasContacto:&nbs
 p\;redesarq@uc.cl&nbsp\;| +56 2 2354 7747www.arquitectura.uc.cl\n\n&nbsp\;
  https://fadeu-old.urantiacos.cl/agenda/evento/1850-seminario-diseno-para-
 el-cambio-climatico-espacios-de-adaptacion-y-proyectos-de-naturaleza
DTSTART:20190425T133000Z
DTEND:20190425T170000Z
LOCATION:Auditorio Fernando Castillo Velasco. Edificio ARQ (El Comendador 1
 936\, Providencia\, Región Metropolitana\, Chile)
SUMMARY:Seminario 'Diseño para el cambio climático: espacios de adaptación 
 y proyectos de naturaleza'
URL:https://fadeu-old.urantiacos.cl/agenda/evento/1850-seminario-diseno-par
 a-el-cambio-climatico-espacios-de-adaptacion-y-proyectos-de-naturaleza
END:VEVENT
BEGIN:VEVENT
UID:20260420T045857UTC-1269dpM2Iw@https://fadeu-old.urantiacos.cl/
DTSTAMP:20260420T045857Z
DESCRIPTION:&nbsp\;\nPresentaci&oacute\;n de los mejores proyectos de t&iac
 ute\;tulo del mundo en&nbsp\;las carreras de arquitectura\, urbanismo y di
 se&ntilde\;o del paisaje que participaron&nbsp\;en la d&eacute\;cima versi
 &oacute\;n del concurso Archiprix Internacional.&nbsp\;Esta actividad form
 a parte del programa del workshop internacional asociado al concurso\, lid
 erado por la Escuela de Arquitectura de la Pontiﬁcia Universidad Cat&oacut
 e\;lica de Chile y la Facultad de Arquitectura y Urbanismo de la Universid
 ad de Chile\, y que&nbsp\;se centrar&aacute\; en el barrio Matadero-Frankl
 in de Santiago como caso de estudio:&nbsp\;un territorio en disputa entre 
 el mercado y las fuerzas sociales.\n&nbsp\;\n&nbsp\;\nARCHIPRIX INTERNACIO
 NAL\n&nbsp\;\n&nbsp\;\n\nArchiprix es un concurso de car&aacute\;cter naci
 onal e internacional que cada dos a&ntilde\;os convoca a las universidades
  del mundo a presentar sus proyectos m&aacute\;s destacados de graduaci&oa
 cute\;n en las carreras de arquitectura\, urbanismo y dise&ntilde\;o del p
 aisaje.\nTras sus exitosas ediciones anteriores\, que incluyen Rotterdam (
 2001)\, Shangh&aacute\;i (2007)\, Mosc&uacute\; (2013) y Ahmedabad (2017)\
 , s&oacute\;lo por nombrar algunas\, la d&eacute\;cima versi&oacute\;n de 
 Archiprix International se realizar&aacute\; en Santiago de Chile\, entre 
 el 22 de abril y el 3 de mayo\, con el apoyo y participaci&oacute\;n de la
  Escuela de Arquitectura de la Pontiﬁcia Universidad Cat&oacute\;lica de C
 hile y la Facultad de Arquitectura y Urbanismo de la Universidad de Chile\
 , instituciones que coorganizan las actividades de la edici&oacute\;n 2019
 .\nArchiprix 2019 incluir&aacute\;&nbsp\;un workshop internacional que se 
 centrar&aacute\; en el barrio Matadero-Franklin de Santiago\,&nbsp\;una pr
 emiaci&oacute\;n local con los mejores proyectos de graduaci&oacute\;n de 
 escuelas de arquitectura chilenas\, una premiaci&oacute\;n y exhibici&oacu
 te\;n internacional de los 321 proyectos de diversas universidades del mun
 do que participaron de la convocatoria en su d&eacute\;cima versi&oacute\;
 n y las charlas magistrales abiertas a todo p&uacute\;blico de los arquite
 cto internacionales Arna Mackic (Studio L A)\, Arjen Oosterman (Volume Mag
 azine) y Jacob van Rijs (MVRDV).&nbsp\;\n\nFecha conversatorios_\n24 y 25 
 de abril de 2019\, 18.00 a 20.00 h.\n&nbsp\;\nLugar_\n\nFacultad de&nbsp\;
 Arquitectura y Urbanismo\, Universidad de Chile\n\n&nbsp\;\nCo-organizan_
 \nEscuela de Arquitectura\, Facultad de Arquitectura\, Dise&ntilde\;o y Es
 tudios Urbanos UC\nFacultad de&nbsp\;Arquitectura y Urbanismo\, Universida
 d de Chile\n&nbsp\;\n&nbsp\;\nPatrocina_\nCentro Cultural Estaci&oacute\;n
  Mapocho\n&nbsp\;\n&nbsp\;\nAuspicia_\nHunter Douglas\n&nbsp\;\n&nbsp\;\nC
 olaboran_&nbsp\;\nMinisterio de las Culturas\, las Artes y el Patrimonio\n
 Reino de los Pa&iacute\;ses Bajos\n&nbsp\;\nDescarga el comunicado en este
 &nbsp\;link\n&nbsp\;\n\n&nbsp\;\n&nbsp\;\nNoticiasContacto:&nbsp\;redesarq
 @uc.cl&nbsp\;| +56 2 2354 7747www.arquitectura.uc.cl https://fadeu-old.ura
 ntiacos.cl/agenda/evento/1842-conversatorios-lightning-round-archiprix-fau
 -uch-earq-uc
DTSTART:20190424T220000Z
DTEND:20190425T000000Z
LOCATION:Facultad de Arquitectura Universidad de Chile (Portugal 84)
SUMMARY:Conversatorios 'Lightning Round' | Archiprix + FAU UCh + EARQ UC
URL:https://fadeu-old.urantiacos.cl/agenda/evento/1842-conversatorios-light
 ning-round-archiprix-fau-uch-earq-uc
END:VEVENT
BEGIN:VEVENT
UID:20260420T045857UTC-12798M6uhZ@https://fadeu-old.urantiacos.cl/
DTSTAMP:20260420T045857Z
DESCRIPTION: https://fadeu-old.urantiacos.cl/agenda/evento/1847-charla-ana-
 albano-arquitecto-sergio-bernardes
DTSTART:20190424T220000Z
DTEND:20190424T230000Z
LOCATION:Sala 2 Piso Doctorado (El comendador 1970)
SUMMARY:Charla Ana Albano_Arquitecto Sergio Bernardes
URL:https://fadeu-old.urantiacos.cl/agenda/evento/1847-charla-ana-albano-ar
 quitecto-sergio-bernardes
END:VEVENT
BEGIN:VEVENT
UID:20260420T045857UTC-1281TB1STn@https://fadeu-old.urantiacos.cl/
DTSTAMP:20260420T045857Z
DESCRIPTION:\n\nNieves Peinado\,&nbsp\;Arquitecta especializada en accesibi
 lidad del&nbsp\;Centro de Referencia Estatal de Autonom&iacute\;a Personal
  y Ayudas T&eacute\;cnicas (CEAPAT) de Espa&ntilde\;a.\nCon experiencia en
  Dise&ntilde\;o para Todos\, Accesibilidad Universal y Tecnolog&iacute\;as
  de apoyo aplicados al entorno construido\, Nieves Peinado&nbsp\; preside 
 el Comit&eacute\; T&eacute\;cnico de Normalizaci&oacute\;n de AENOR. AEN C
 TN 41/SC 7: &ldquo\;Accesibilidad en la edificaci&oacute\;n y el Urbanismo
 &rdquo\;\, donde en el &uacute\;ltimo a&ntilde\;o se ha &nbsp\;publicado l
 a norma UNE 41531 IN &ldquo\;Accesibilidad al Patrimonio Cultural Inmueble
 . Criterios generales y metodolog&iacute\;a&rdquo\;. Tambi&eacute\;n en el
  marco internacional de normalizaci&oacute\;n\, preside el Comit&eacute\; 
 T&eacute\;cnico de ISO\, ISO TC59 SC16\, donde actualmente se est&aacute\;
  revisando la norma ISO 21542 &ldquo\;Accesibility and usability of the bu
 ild envionment&rdquo\;.\n\nDentro de sus publicaciones destaca&nbsp\; &ldq
 uo\;Manual de accesibilidad en instalaciones deportivas&rdquo\; (MAUID)\, 
 realizado bajo la coordinaci&oacute\;n del Comit&eacute\; Ol&iacute\;mpico
  Espa&ntilde\;ol.\n&nbsp\;\n https://fadeu-old.urantiacos.cl/agenda/evento
 /1832-accesibilidad-al-entorno-construido-accesibilidad-de-lo-cotidiano
DTSTART:20190424T143000Z
DTEND:20190424T153000Z
LOCATION:Sala 102\, Edificio de Diseño\, Campus Lo Contador (El Comendador 
 1916\, Providencia\, Región Metropolitana\, Chile)
SUMMARY:Accesibilidad al entorno construido: Accesibilidad de lo cotidiano
URL:https://fadeu-old.urantiacos.cl/agenda/evento/1832-accesibilidad-al-ent
 orno-construido-accesibilidad-de-lo-cotidiano
END:VEVENT
BEGIN:VEVENT
UID:20260420T045857UTC-1286pelVfL@https://fadeu-old.urantiacos.cl/
DTSTAMP:20260420T045857Z
DESCRIPTION:\nEl 23 de abril se inaugura Archiprix Internacional 2019\, oca
 si&oacute\;n en la que se premiar&aacute\; la versi&oacute\;n local del co
 ncurso\, en el que participaron 24 escuelas chilenas de arquitectura con s
 us mejores proyectos de graduaci&oacute\;n\, adem&aacute\;s de la inaugura
 ci&oacute\;n de la exposici&oacute\;n internacional que incluye&nbsp\;m&aa
 cute\;s de 300 de los mejores proyectos de graduaci&oacute\;n del mundo&nb
 sp\;en las &aacute\;reas de arquitectura\, urbanismo y dise&ntilde\;o del 
 paisaje. El evento se celebrar&aacute\; en el Centro Cultural Estaci&oacut
 e\;n Mapocho y tendr&aacute\; como invitado al equipo del&nbsp\;Grupo Talc
 a.\n\n\nARCHIPRIX INTERNACIONAL\nArchiprix es un concurso de car&aacute\;c
 ter nacional e internacional que cada dos a&ntilde\;os convoca a las unive
 rsidades del mundo a presentar sus proyectos m&aacute\;s destacados de gra
 duaci&oacute\;n en las carreras de arquitectura\, urbanismo y dise&ntilde\
 ;o del paisaje.\nTras sus exitosas ediciones anteriores\, que incluyen Rot
 terdam (2001)\, Shangh&aacute\;i (2007)\, Mosc&uacute\; (2013) y Ahmedabad
  (2017)\, s&oacute\;lo por nombrar algunas\, la d&eacute\;cima versi&oacut
 e\;n de Archiprix International se realizar&aacute\; en Santiago de Chile\
 , entre el 22 de abril y el 3 de mayo\, con el apoyo y participaci&oacute\
 ;n de la Escuela de Arquitectura de la Pontiﬁcia Universidad Cat&oacute\;l
 ica de Chile y la Facultad de Arquitectura y Urbanismo de la Universidad d
 e Chile\, instituciones que coorganizan las actividades de la edici&oacute
 \;n 2019.\nArchiprix 2019 incluir&aacute\;&nbsp\;un workshop internacional
  que se centrar&aacute\; en el barrio Matadero-Franklin de Santiago\,&nbsp
 \;una premiaci&oacute\;n local con los mejores proyectos de graduaci&oacut
 e\;n de escuelas de arquitectura chilenas\, una premiaci&oacute\;n y exhib
 ici&oacute\;n internacional de los 321 proyectos de diversas universidades
  del mundo que participaron de la convocatoria en su d&eacute\;cima versi&
 oacute\;n y las charlas magistrales abiertas a todo p&uacute\;blico de los
  arquitecto internacionales Arna Mackic (Studio L A)\, Arjen Oosterman (Vo
 lume Magazine) y Jacob van Rijs (MVRDV).\nFecha_23 de abril de 2019\, 18.3
 0 a 20.00 h.Lugar_Centro Cultural Estaci&oacute\;n MapochoCo-organizan_Esc
 uela de Arquitectura\, Facultad de Arquitectura\, Dise&ntilde\;o y Estudio
 s Urbanos UCFacultad de&nbsp\;Arquitectura y Urbanismo\, Universidad de Ch
 ilePatrocina_Centro Cultural Estaci&oacute\;n MapochoAuspicia_Hunter Dougl
 asColaboran_&nbsp\;Ministerio de las Culturas\, las Artes y el PatrimonioR
 eino de los Pa&iacute\;ses BajosDescarga el comunicado en este&nbsp\;linkN
 oticiasContacto:&nbsp\;redesarq@uc.cl&nbsp\;| +56 2 2354 7747www.arquitect
 ura.uc.cl\n\n&nbsp\; https://fadeu-old.urantiacos.cl/agenda/evento/1851-pr
 emiacion-archiprix-chile-inauguracion-exposicion-archiprix-internacional-2
 019
DTSTART:20190423T223000Z
DTEND:20190424T000000Z
LOCATION:Centro Cultural Estación Mapocho (Presidente Balmaceda s/n)
SUMMARY:Premiación Archiprix Chile + Inauguración exposición Archiprix Inte
 rnacional 2019
URL:https://fadeu-old.urantiacos.cl/agenda/evento/1851-premiacion-archiprix
 -chile-inauguracion-exposicion-archiprix-internacional-2019
END:VEVENT
BEGIN:VEVENT
UID:20260420T045857UTC-1295ahIkSu@https://fadeu-old.urantiacos.cl/
DTSTAMP:20260420T045857Z
DESCRIPTION:Tenemos el agrado de invitarlos(as) al&nbsp\;Seminario | La vid
 a despu&eacute\;s del campamento: Aprendizajes y desaf&iacute\;os para la 
 integraci&oacute\;n social\,&nbsp\;el&nbsp\;martes 23 de abril&nbsp\;de 9:
 00 a 13:00 hrs.\nEl seminario se realizar&aacute\; en el Auditorio Fernand
 o Castillo Velasco (4to piso Edificio Arquitectura) Facultad de Arquitectu
 ra\, Dise&ntilde\;o y Estudios Urbanos\, PUC\, Lo Contador.\nDescarga el p
 rograma&nbsp\;aqu&iacute\;\nInscr&iacute\;bete&nbsp\;aqu&iacute\;\n https:
 //fadeu-old.urantiacos.cl/agenda/evento/1839-seminario-la-vida-despues-del
 -campamento-aprendizajes-y-desafios-para-la-integracion-social
DTSTART:20190423T130000Z
DTEND:20190423T170000Z
LOCATION:Auditorio Fernando Castillo Velasco. Edificio ARQ (El Comendador 1
 936\, Providencia\, Región Metropolitana\, Chile)
SUMMARY:Seminario: La vida después del campamento: Aprendizajes y desafíos 
 para la integración social
URL:https://fadeu-old.urantiacos.cl/agenda/evento/1839-seminario-la-vida-de
 spues-del-campamento-aprendizajes-y-desafios-para-la-integracion-social
END:VEVENT
END:VCALENDAR
