BEGIN:VCALENDAR
VERSION:2.0
PRODID:-//https://fadeu-old.urantiacos.cl///NONSGML kigkonsult.se iCalcreator 2.10.15//
METHOD:PUBLISH
BEGIN:VEVENT
UID:20260421T001024UTC-16674OSb2v@https://fadeu-old.urantiacos.cl/
DTSTAMP:20260421T001024Z
DESCRIPTION:A cargo del dise&ntilde\;ador Gonzalo Morales\, su Charla se ba
 sa en su investigaci&oacute\;n sobre la historia de la Infograf&iacute\;a 
 en Chile en soportes gr&aacute\;ficos impresos desde 1945 hasta la actuali
 dad\, vinculados al &aacute\;mbito educacional y el desarrollo de la indus
 tria\, el transporte y el turismo en el pa&iacute\;s.\nSu visi&oacute\;n b
 usca contribuir a la disponibilidad de material te&oacute\;rico y visual d
 e relevancia para agentes involucrados en investigaciones y proyectos de d
 ise&ntilde\;o con el fin de tener acceso a una bibliograf&iacute\;a m&iacu
 te\;nima que fomente una reflexi&oacute\;n m&aacute\;s concreta sobre esta
  materia.\nCu&aacute\;ndo: jueves 26 de abril\, 19:00 hrs.\nD&oacute\;nde:
  Sal&oacute\;n Sergio Larra&iacute\;n\, Campus Lo Contador\n&nbsp\;\n http
 s://fadeu-old.urantiacos.cl/agenda/evento/1497-charla-historia-de-la-infog
 rafia-en-chile-1945-2015
DTSTART:20180426T220000Z
DTEND:20180426T230000Z
LOCATION:Salón Sergio Larraín\, Campus Lo Contador ()
SUMMARY:Charla 'Historia de la infografía en Chile (1945-2015)
URL:https://fadeu-old.urantiacos.cl/agenda/evento/1497-charla-historia-de-l
 a-infografia-en-chile-1945-2015
END:VEVENT
BEGIN:VEVENT
UID:20260421T001024UTC-1672iDE0pI@https://fadeu-old.urantiacos.cl/
DTSTAMP:20260421T001024Z
DESCRIPTION:A cargo de Jos&eacute\; Rafael Mirabal\,&nbsp\;consultor expert
 o\, conferencista internacional y CEO de Mirabal &amp\; Partners\, consult
 ora regional especializada en precios\, su charla abarcar&aacute\;la captu
 ra de valor mediante estrategias de precios que generan escenarios win-win
  para ambos clientes y empresa dentro del &aacute\;mbito del dise&ntilde\;
 o. Organizada por ChileDise&ntilde\;o\, es parte del ciclo Morning Meeting
  que difunden tem&aacute\;ticas asociadas a la disciplina y que busca pote
 nciar su enfoque estrat&eacute\;gico en la ecosistema de la innovaci&oacut
 e\;n local.\nJueves 26 de abril\, 9:00 hrs. En el Auditorio Arquitectura\,
  Campus Lo Contador\nPresenta Jos&eacute\; Rafael Mirabal\n&nbsp\;\n\n&nbs
 p\;\n&nbsp\; https://fadeu-old.urantiacos.cl/agenda/evento/1498-morning-me
 eting-estrategia-de-precios-en-diseno
DTSTART:20180426T220000Z
DTEND:20180426T230000Z
LOCATION:Auditorio Fernando Castillo Velasco. Edificio ARQ (El Comendador 1
 936\, Providencia\, Región Metropolitana\, Chile)
SUMMARY:Morning Meeting: 'Estrategia de precios en diseño'
URL:https://fadeu-old.urantiacos.cl/agenda/evento/1498-morning-meeting-estr
 ategia-de-precios-en-diseno
END:VEVENT
BEGIN:VEVENT
UID:20260421T001024UTC-1676GoVw19@https://fadeu-old.urantiacos.cl/
DTSTAMP:20260421T001024Z
DESCRIPTION:Lanzamiento del Atlas Visual&nbsp\;Patrimonio del Paisaje Ferro
 viario.&nbsp\;Ruta Verde Maipo 60 x 60\,&nbsp\;que propone a trav&eacute\;
 s de mapas y&nbsp\;un cuaderno del patrimonio\,&nbsp\;la puesta en valor e
 n torno al ex Ferrocarril Militar del Caj&oacute\;n del Maipo. (es un proy
 ecto&nbsp\;de investigaci&oacute\;n financiado por el Ministerio de las Cu
 lturas\, las Artes y el Patrimonio a&nbsp\;trav&eacute\;s de Fondart\, Con
 vocatoria 2017).\n&nbsp\;\n https://fadeu-old.urantiacos.cl/agenda/evento/
 1516-lanzamiento-atlas-visual-patrimonio-del-paisaje-ferroviario-maipo-60-
 x60
DTSTART:20180426T220000Z
DTEND:20180426T230000Z
LOCATION:Auditorio FADEU\, Campus Lo Contador PUC (El Comendador 1916\, Pro
 videncia\, Providencia\, Región Metropolitana\, Chile)
SUMMARY:Lanzamiento Atlas Visual_Patrimonio del Paisaje Ferroviario Maipo 6
 0 x60
URL:https://fadeu-old.urantiacos.cl/agenda/evento/1516-lanzamiento-atlas-vi
 sual-patrimonio-del-paisaje-ferroviario-maipo-60-x60
END:VEVENT
BEGIN:VEVENT
UID:20260421T001024UTC-1680kIzOu6@https://fadeu-old.urantiacos.cl/
DTSTAMP:20260421T001024Z
DESCRIPTION:Ciclo 'Di&aacute\;logo Permanente con la Arquitectura' #4 / Lui
 s Barrag&aacute\;n (Osvaldo Larra&iacute\;n) &amp\; Robert Venturi + Denis
 e Scott Brown (Gabriela Garc&iacute\;a de Cort&aacute\;zar)\nEl jueves 26 
 de abril se llevar&aacute\; a cabo la cuarta versi&oacute\;n del nuevo cic
 lo de charlas titulado 'Di&aacute\;logo Permanente con la Arquitectura'. L
 as dos exposiciones estar&aacute\;n a cargo de los arquitectos&nbsp\;Osval
 do Larra&iacute\;n&nbsp\;y&nbsp\;Gabriela Garc&iacute\;a de Cort&aacute\;z
 ar\, quienes presentar&aacute\;n respectivamente a&nbsp\;Luis Barrag&aacut
 e\;n&nbsp\;y&nbsp\;Robert Venturi + Denise Scott Brown.\nEl nuevo ciclo de
 l &aacute\;rea de Extensi&oacute\;n de la Escuela de Arquitectura UC\, nac
 e de la publicaci&oacute\;n del libro titulado 'Un di&aacute\;logo permane
 nte con la arquitectura'\, lanzado en el marco de la XX Bienal de Arquitec
 tura y Urbanismo ''Di&aacute\;logos Impostergables'\, el pasado 4 de novie
 mbre de 2017. En la publicaci&oacute\;n de Ediciones ARQ participaron m&aa
 cute\;s de 100 profesores\, reuniendo a trav&eacute\;s de texto e im&aacut
 e\;genes\, un di&aacute\;logo con la arquitectura como pr&aacute\;ctica re
 flexiva y expresi&oacute\;n de cultura. ''Articulando distintas personas y
  tiempos\, se busca contribuir a que nuestra disciplina tenga mayor peso e
 n las decisiones que afectan a lo p&uacute\;blico. En esa tarea\, sin emba
 rgo\, lo fundamental es no olvidar que ni la urgencia por responder a las 
 preguntas ni la necesaria capacidad de escuchar al entorno pueden soslayar
  una condici&oacute\;n realmente impostergable: que antes de entrar en un 
 di&aacute\;logo\, tenemos que saber bien qu&eacute\; decir''.\nEl formato 
 del ciclo ser&aacute\; una conversaci&oacute\;n distendida entre exponente
 s y aistentes\, a realizarse en los per&iacute\;odos de almuerzo\, de 13.3
 0 - 15:00 hrs. Cada versi&oacute\;n contar&aacute\; con dos invitados\, qu
 ienes presentar&aacute\;n por separado obras y/o personajes notables en la
  Arquitectura\, sirviendo dichas presentaciones de plataformas para abrir 
 la discusi&oacute\;n sobre diferentes tem&aacute\;ticas que no deben dejar
  de ser permanentes en la discusi&oacute\;n de nuestra disciplina y en su 
 rol en la cultura\, di&aacute\;logos que sean capaces de seguir informando
  las decisiones del presente y de abrir escenarios futuros.\nFecha: Jueves
  26 de abril de 2018\, 13.30 - 15.00 hrs.\nLugar: Auditorio FCV. Campus Lo
  Contador. El Comendador 1936\, Providencia.\nOrganizan:\nEARQ UC + Estudi
 o Com&uacute\;n\n&nbsp\;\n https://fadeu-old.urantiacos.cl/agenda/evento/1
 521-ciclo-dialogo-permanente-con-la-arquitectura-4
DTSTART:20180426T163000Z
DTEND:20180426T180000Z
LOCATION:Auditorio Fernando Castillo Velasco. Edificio ARQ (El Comendador 1
 936\, Providencia\, Región Metropolitana\, Chile)
SUMMARY:Ciclo 'Diálogo Permanente con la Arquitectura' #4
URL:https://fadeu-old.urantiacos.cl/agenda/evento/1521-ciclo-dialogo-perman
 ente-con-la-arquitectura-4
END:VEVENT
BEGIN:VEVENT
UID:20260421T001024UTC-1688Hjh40B@https://fadeu-old.urantiacos.cl/
DTSTAMP:20260421T001024Z
DESCRIPTION:Elvira P&eacute\;rez\, Jefa del programa de Mag&iacute\;ster en
  Patrimonio Cultural de la Pontificia Universidad Cat&oacute\;lica de Chil
 e\, invita a la Charla Magistral&nbsp\;'RESTAURACI&Oacute\;N ASCENSORES DE
  VALPARA&Iacute\;SO: Concepci&oacute\;n\, Cordillera y Esp&iacute\;ritu Sa
 nto'&nbsp\;con el arquitecto y profesor&nbsp\;Crist&oacute\;bal Tirado.\nC
 rist&oacute\;bal Tirado&nbsp\;es&nbsp\;Arquitecto PUC 2005 y M&aacute\;ste
 r en Arquitectura UPC 2010. Durante 2006 y 2009\, reside en Barcelona dond
 e trabaja y estudia. El 2010 se radica en Chile y establece su estudio de 
 arquitectura\, desarrollando especialmente proyectos de car&aacute\;cter p
 &uacute\;blico\, de diversas escalas y programas. En 2014 es premiado por 
 el Colegio de Arquitectos de Chile\, como el mejor arquitecto chileno meno
 r de 35 a&ntilde\;os. Desde 2010 es docente en los cursos de taller de Arq
 uitectura de la PUC.\nFecha: Mi&eacute\;rcoles 25 de abril de 2018Hora: 18
 :30 hrs.Luchar: Sal&oacute\;n Sergio Larra&iacute\;n del campus Lo Contado
 r\, El Comendador 1916.Entrada liberada\, cupos limitados. Inscripci&oacut
 e\;n al correo&nbsp\;magisterpatrimonio@uc.cl&nbsp\;\n&nbsp\;\n https://fa
 deu-old.urantiacos.cl/agenda/evento/1508-charla-magistral-restauracion-asc
 ensores-de-valparaiso-concepcion-cordillera-y-espiritu-santo-por-cristobal
 -tirado
DTSTART:20180425T213000Z
DTEND:20180425T223000Z
LOCATION:Salón Sergio Larraín\, Campus Lo Contador ()
SUMMARY:Charla Magistral 'RESTAURACIÓN ASCENSORES DE VALPARAÍSO: Concepción
 \, Cordillera y Espíritu Santo'. Por Cristóbal Tirado.
URL:https://fadeu-old.urantiacos.cl/agenda/evento/1508-charla-magistral-res
 tauracion-ascensores-de-valparaiso-concepcion-cordillera-y-espiritu-santo-
 por-cristobal-tirado
END:VEVENT
BEGIN:VEVENT
UID:20260421T001024UTC-1694v3hS97@https://fadeu-old.urantiacos.cl/
DTSTAMP:20260421T001024Z
DESCRIPTION:Segunda edici&oacute\;n 2018 del ciclo tradicional de 'Discusi&
 oacute\;n y Cr&iacute\;tica de Edificios'\, organizado por el Mag&iacute\;
 ster en Arquitectura UC. En la sesi&oacute\;n n&uacute\;mero #17 titulada 
 &ldquo\;CASAS&rdquo\;\, el Director del Magister de Arquitectura Max Nu&nt
 ilde\;ez\, junto a Diego Grass\, nos presentan dos casas chilenas dise&nti
 lde\;adas por dos premios Pritzker japoneses. Los casos a discutir ser&aac
 ute\;n la Casa White O\, de Toyo Ito\, y la Casa Ochoquebradas\, de Ryue N
 ishizawa\, ambas construidas en el marco del proyecto Ochoalcubo en el lit
 oral central nacional. La discusi&oacute\;n contar&aacute\; con un panel d
 e comentaristas compuesto por Pedro Correa\, Nicolas Stutzin\, Francisco D
 &iacute\;az y Gabriela Garc&iacute\;a de Cortazar.\nFecha: Mi&eacute\;rcol
 es 25 de abril de 2018. 18.30 hrs.\nLugar: Auditorio Fernando Castillo Vel
 asco\, Campus Lo Contador. El Comendador 1936\, Providencia.\nInvitan:MARQ
  UCArquitectura UC\n&nbsp\;\n https://fadeu-old.urantiacos.cl/agenda/event
 o/1520-sesion-17-ciclo-discusion-y-critica-de-edificios-marq-uc
DTSTART:20180425T213000Z
DTEND:20180425T223000Z
LOCATION:Auditorio Fernando Castillo Velasco. Edificio ARQ (El Comendador 1
 936\, Providencia\, Región Metropolitana\, Chile)
SUMMARY:sesión #17 ciclo 'Discusión y Crítica de Edificios' / MARQ UC
URL:https://fadeu-old.urantiacos.cl/agenda/evento/1520-sesion-17-ciclo-disc
 usion-y-critica-de-edificios-marq-uc
END:VEVENT
BEGIN:VEVENT
UID:20260421T001024UTC-1699mVgFTe@https://fadeu-old.urantiacos.cl/
DTSTAMP:20260421T001024Z
DESCRIPTION:William McDonough\, uno de los creadores del concepto de Econom
 &iacute\;a Circular y dise&ntilde\;o Cradle2Cradle\, se presentar&aacute\;
  en el marco del Seminario en Econom&iacute\;a Circular organizado por Tri
 ciclos y apoyado por la Escuela de Dise&ntilde\;o UC.\nEl seminario centra
  su foco en c&oacute\;mo la Econom&iacute\;a Circular es una herramienta p
 ara ofrecer soluciones aguas arriba al problema de los residuos en el mund
 o.\nTambi&eacute\;n participar&aacute\;n del Seminario\, Rodrigo Benitez\,
  Subsecretario de Medio Ambiente que abordar&aacute\; la econom&iacute\;a 
 circular y la Ley de Fomento al Reciclaje\, adem&aacute\;s\, &nbsp\;un pan
 el de expertos reflexionar&aacute\;n en torno a la aplicaci&oacute\;n de l
 a econom&iacute\;a circular en Chile y sus proyecciones futuras.\n&nbsp\;
 \n https://fadeu-old.urantiacos.cl/agenda/evento/1522-seminario-de-economi
 a-circular
DTSTART:20180425T113000Z
DTEND:20180425T153000Z
LOCATION:Centro de Extensión UC (Av Libertador Bernardo O'Higgins 390\, San
 tiago\, Región Metropolitana\, Chile)
SUMMARY: Seminario de Economía Circular
URL:https://fadeu-old.urantiacos.cl/agenda/evento/1522-seminario-de-economi
 a-circular
END:VEVENT
BEGIN:VEVENT
UID:20260421T001024UTC-17031UtlWI@https://fadeu-old.urantiacos.cl/
DTSTAMP:20260421T001024Z
DESCRIPTION:Los dejamos cordialmente invitados a la visita de la segunda ob
 ra en construcci&oacute\;n seleccionada en el marco del nuevo ciclo de Ext
 ensi&oacute\;n ARQ UC\, titulado 'Visita de Obra'\, que tiene por objetivo
  principal conocer de primera mano algunos procesos fundamentales en el de
 sarrollo de un proyecto de arquitectura\, incluyendo su construcci&oacute\
 ;n. Para esto\, hemos trabajado con una serie de profesores\, autores e in
 stituciones que generosamente nos permitir&aacute\;n conocer el proceso &i
 acute\;ntimo de sus obras. Se trata de una instancia privilegiada tanto pa
 ra estudiantes como profesores.\n&nbsp\;\n&nbsp\;\nEl segundo caso ser&aac
 ute\; el proyecto de restauraci&oacute\;n del&nbsp\;'Palacio Pereira'\, a 
 cargo de Cecilia Puga\, Paula Velasco y Alberto Moletto. Se contar&aacute\
 ; con dos fechas de visitas:&nbsp\;el&nbsp\;mi&eacute\;rcoles 25&nbsp\;gui
 ada por&nbsp\;Paula Velasco&nbsp\;y el&nbsp\;viernes 27&nbsp\;de Abril gui
 ada por&nbsp\;Cecilia Puga\, ambas&nbsp\;a las 13.00 horas. El recorrido d
 urar&aacute\; 1 hora.\n&nbsp\;\n&nbsp\;\nHay&nbsp\;40 cupos disponibles en
  total para las dos fechas\, 20 para profesores y 20 para estudiantes de l
 a escuela. Estos se completar&aacute\;n por orden de inscripci&oacute\;n\,
  indicando a qu&eacute\; fecha se adhieren.\n&nbsp\;\n&nbsp\;\n- Estudiant
 es interesados deben inscribirse a la fecha que les acomode enviando un co
 rreo de solicitud&nbsp\;a&nbsp\;cpchait@uc.cl&nbsp\; (Catalina Chait\, Vic
 epresidente Cearq 2018)\n&nbsp\;\n- Profesores interesados deben inscribir
 se a la fecha que les acomode enviando un correo de solicitud&nbsp\;a&nbsp
 \;felipeldgg@uc.cl&nbsp\;&nbsp\;(Felipe Ladr&oacute\;n de Guevara\, Asiste
 nte de Extensi&oacute\;n y Comunicaciones EARQ UC)\n&nbsp\;\n&nbsp\;\nEn a
 mbas fechas nos juntaremos&nbsp\;puntualmente a las 12 hrs. en el patio de
  la Administraci&oacute\;n de la Facultad&nbsp\;(acceso Sal&oacute\;n SLGM
 ) para salir de la Escuela en el Bus FADEU.&nbsp\;\n&nbsp\;\n&nbsp\;\n*Los
  asistentes deber&aacute\;n contar con ZAPATOS DE SEGURIDAD\, CASCO y ANTI
 PARRAS\, de otra forma no podr&aacute\;n ingresar a la obra.\n&nbsp\;\n&nb
 sp\;\nFecha: Mi&eacute\;rcoles 25 de abril\, Viernes 27 de abril\, 12.00 h
 rs.\n&nbsp\;\n&nbsp\;\nLugar: Patio de la Administraci&oacute\;n\, FADEU\n
 &nbsp\;\n&nbsp\;\nOrganizan:EARQ UCEstudio Com&uacute\;nFADEU\n&nbsp\;\n h
 ttps://fadeu-old.urantiacos.cl/agenda/evento/1519-visita-de-obra-palacio-p
 ereira
DTSTART:20180425T030000Z
LOCATION:Patio Administración (El Comendador 1916\, Providencia\, Región Me
 tropolitana\, Chile)
SUMMARY:Visita de Obra / Palacio Pereira
URL:https://fadeu-old.urantiacos.cl/agenda/evento/1519-visita-de-obra-palac
 io-pereira
END:VEVENT
BEGIN:VEVENT
UID:20260421T001024UTC-1710DuxZ3Z@https://fadeu-old.urantiacos.cl/
DTSTAMP:20260421T001024Z
DESCRIPTION:El estudio de espec&iacute\;menes tipogr&aacute\;ficos en s&iac
 ute\; mismos y como fuentes complementarias para el conocimiento de la cul
 tura impresa\, la historia del libro\, la imprenta y la tipograf&iacute\;a
  es un campo pr&aacute\;cticamente inexplorado en Am&eacute\;rica Latina. 
 Aunque a la fecha no tenemos una idea aproximada del n&uacute\;mero de mue
 stras que se realizaron en la regi&oacute\;n\, es un hecho que varios pa&i
 acute\;ses las produjeron. En la presente charla se presentan algunos de l
 os documentos que he localizado a lo largo de una d&eacute\;cada de trabaj
 o en esta materia\, la mayor&iacute\;a de los cu&aacute\;les eran desconoc
 idos. Esta informaci&oacute\;n y el modo en que se debe estudiar estas fue
 ntes\, sin duda contribuir&aacute\;n al esclarecimiento de una parte de la
  historia del dise&ntilde\;o y la tipograf&iacute\;a regional. Se har&aacu
 te\; especial &eacute\;nfasis en las muestras mexicanas\, por ser el conju
 nto m&aacute\;s numeroso de piezas localizadas hasta el momento.\nPresenta
 : MARINA GARONE GRAVIER&nbsp\;es Dise&ntilde\;adora por la Universidad Aut
 &oacute\;noma Metropolitana\, Maestra en historia y teor&iacute\;a del dis
 e&ntilde\;o por la Facultad de Arquitectura de la Universidad Nacional Aut
 &oacute\;noma de M&eacute\;xico (UNAM)\, Doctora en Historia del Arte por 
 la Facultad de Filosof&iacute\;a y Letras de la misma universidad\, y real
 iz&oacute\; estudios de dise&ntilde\;o y tipograf&iacute\;a en la Escuela 
 de Dise&ntilde\;o en Basilea\, Suiza. Es investigadora titular definitiva 
 del Instituto de Investigaciones Bibliogr&aacute\;ficas (UNAM) desde 2009\
 ; en 2012 fund&oacute\; y desde entonces coordina el Seminario Interdiscip
 linario de Bibliolog&iacute\;a. Fue coordinadora de la Hemeroteca Nacional
  de M&eacute\;xico (2012-2016). Es miembro del Sistema Nacional de Investi
 gadores de M&eacute\;xico (desde 2010)\; investigadora correspondiente del
  Instituto de Arte Americano e Investigaciones Est&eacute\;ticas (FADU-UBA
 \, desde 2014) y delegada mexicana de la Society for the History of Author
 ship\, Reading and Publishing (SHARP). Sus l&iacute\;neas de investigaci&o
 acute\;n son: historia del libro\, la edici&oacute\;n y la tipograf&iacute
 \;a latinoamericanas\; la cultura impresa en lenguas ind&iacute\;genas y l
 as relaciones entre dise&ntilde\;o y g&eacute\;nero. Esautora de m&aacute\
 ;s de diez libros entre los que cabe mencionar:&nbsp\;Historia en cubierta
 . El Fondo de Cultura Econ&oacute\;mica a trav&eacute\;s de sus portadas (
 1934-2009)\,&nbsp\;publicado por el FCE en 2011\;&nbsp\;Historia de la tip
 ograf&iacute\;a colonial para lenguas ind&iacute\;genas\,&nbsp\;M&eacute\;
 xico\, CIESAS-Universidad Veracruzana\, 2014\;La tipograf&iacute\;a en M&e
 acute\;xico. Ensayos hist&oacute\;ricos (siglos XVI-XIX)\,&nbsp\;M&eacute\
 ;xico\, Facultad de Artes y Dise&ntilde\;o-UNAM\, con dos ediciones 2012 y
  2015.\n&nbsp\;\n https://fadeu-old.urantiacos.cl/agenda/evento/1496-charl
 a-historia-de-los-especimenes-tipograficos-latinoamericanos-siglos-xviii-x
 x-marina-garone
DTSTART:20180424T210000Z
DTEND:20180424T220000Z
LOCATION:Sala 201\, Segundo piso Edificio de Diseño (Los Navegantes 1919\, 
 Providencia)
SUMMARY:Charla 'Historia de los especímenes tipográficos latinoamericanos (
 siglos XVIII-XX) - Marina Garone
URL:https://fadeu-old.urantiacos.cl/agenda/evento/1496-charla-historia-de-l
 os-especimenes-tipograficos-latinoamericanos-siglos-xviii-xx-marina-garone
END:VEVENT
BEGIN:VEVENT
UID:20260421T001024UTC-1720zl3eTR@https://fadeu-old.urantiacos.cl/
DTSTAMP:20260421T001024Z
DESCRIPTION:En el marco del comienzo de las actividades de&nbsp\;El.Taller 
 Dise&ntilde\;o UC Low-Tech &amp\; Ciencia&nbsp\;con la Fundaci&oacute\;n E
 coscience y GMTO (Giant Magellan Telescope)\, este lunes 23 de Abril a las
  18:00 horas en el auditorio norte de nuestra facultad\, el doctor en f&ia
 cute\;sica de la Universidad de Chile y representante del proyecto Giant M
 agellan Telescope\, Miguel Roth\, dictar&aacute\; una charla sobre la astr
 onom&iacute\;a actual\, el proyecto GMTO y su impacto en la ciencia nacion
 al.Como cierre de la actividad\, los estudiantes de ElTaller presentar&aac
 ute\;n una serie de proyecciones de gran escala sobre la fachada del edifi
 cio\, como medio de divulgar conceptos de la astronom&iacute\;a &ndash\; e
 .g. ondas gravitacionales\, curvatura tiempo-espacio\, entre otros.\n&nbsp
 \;\n https://fadeu-old.urantiacos.cl/agenda/evento/1523-mapping-charla-mig
 uel-roth
DTSTART:20180423T210000Z
DTEND:20180423T220000Z
LOCATION:Auditorio Norte\, Campus Lo Contador UC (El Comendador 1916\, Prov
 idencia\, Región Metropolitana\, Chile)
SUMMARY:Mapping & Charla Miguel Roth
URL:https://fadeu-old.urantiacos.cl/agenda/evento/1523-mapping-charla-migue
 l-roth
END:VEVENT
BEGIN:VEVENT
UID:20260421T001024UTC-1724cMfSLT@https://fadeu-old.urantiacos.cl/
DTSTAMP:20260421T001024Z
DESCRIPTION:Los talleres textiles de Dise&ntilde\;o UC se tomar&aacute\;n e
 l Patio los d&iacute\;as 23 y 24 de abril en el marco de la activaci&oacut
 e\;n de Reciclaje Textil apoyados por el&nbsp\;WORN WEAR TOUR de Patagonia
 .\nUna actividad que busca poner en valor la reutilizaci&oacute\;n textil 
 a trav&eacute\;s de dos clases abiertas\, que sacar&aacute\;n sus conocimi
 entos al patio para abordar diferentes t&eacute\;cnicas y acercamientos al
  textil.\nLos Talleres Superiores Textiles a cargo de Rosario S&aacute\;nc
 hez y Paola Moreno\,&nbsp\;se tomar&aacute\;n el patio y estar&aacute\;n a
 compa&ntilde\;ados del&nbsp\;WORN WEAR TOUR de Patagonia\, que permanecer&
 aacute\; todo el d&iacute\;a arreglando ropa de manera gratuita (menos cie
 rres) y mostrando las diferentes intervenciones que se pueden hacer.\nTe e
 speramos desde las&nbsp\;10:00 y hasta las 17:00 hrs.\nCampus Lo Contador:
 &nbsp\;a un costado del Edificio de Dise&ntilde\;o (entre el patio de made
 ra y la salida a Los Navegantes)\nFecha:&nbsp\;23 y 24 de abril https://fa
 deu-old.urantiacos.cl/agenda/evento/1495-dialogos-reciclaje-textil-area-te
 xtil-diseno-uc-patagonia
DTSTART:20180423T130000Z
DTEND:20180424T130000Z
LOCATION:Campus Lo Contador (El Comendador 1916\, Providencia\, Providencia
 \, Región Metropolitana\, Chile)
SUMMARY:Diálogos 'Reciclaje textil' - Área Textil Diseño UC + Patagonia
URL:https://fadeu-old.urantiacos.cl/agenda/evento/1495-dialogos-reciclaje-t
 extil-area-textil-diseno-uc-patagonia
END:VEVENT
BEGIN:VEVENT
UID:20260421T001024UTC-1729cEj2ai@https://fadeu-old.urantiacos.cl/
DTSTAMP:20260421T001024Z
DESCRIPTION:Segunda versi&oacute\;n de la exposici&oacute\;n 'Feria de Pr&e
 acute\;stamos' organizada por el equipo de la Biblioteca Lo Contador\, se 
 exhibir&aacute\;n 500 nuevas publicaciones disponibles.\nCon motivo del D&
 iacute\;a del Libro\, a celebrarse el lunes 23 de abril\, el equipo de la 
 Biblioteca Lo Contador invita cordialmente a estudiantes y profesores a un
 a exposici&oacute\;n titulada 'Feria de Pr&eacute\;stamos' donde se expond
 r&aacute\;n las adquisiciones recientes\, incluyendo revistas y libros. Se
  presentar&aacute\;n en sociedad cerca de 500 nuevas publicaciones disponi
 bles para consulta y pr&eacute\;stamo.\nEn su segunda versi&oacute\;n\, &l
 dquo\;Feria de Pr&eacute\;stamos&rdquo\; busca reunir\, visibilizar y pone
 r en circulaci&oacute\;n esta bibliograf&iacute\;a\, proponiendo lecturas 
 y cruces entre algunos de los principales campos de conocimiento que infor
 man nuestra disciplina.\nFecha: Desde el Lunes 23 al s&aacute\;bado 28 de 
 abril de 2018\nLugar: Biblioteca Campus Lo Contador\n&nbsp\;\n\nOrganizan:
  Biblioteca Campus Lo Contador https://fadeu-old.urantiacos.cl/agenda/even
 to/1518-exposicion-feria-de-prestamos-en-biblioteca-de-lo-contador
DTSTART:20180423T030000Z
LOCATION:Biblioteca Lo Contador (El Comendador 1916\, Providencia\, Región 
 Metropolitana\, Chile)
SUMMARY:Exposición 'Feria de Préstamos' en Biblioteca de Lo Contador
URL:https://fadeu-old.urantiacos.cl/agenda/evento/1518-exposicion-feria-de-
 prestamos-en-biblioteca-de-lo-contador
END:VEVENT
END:VCALENDAR
