BEGIN:VCALENDAR
VERSION:2.0
PRODID:-//https://fadeu-old.urantiacos.cl///NONSGML kigkonsult.se iCalcreator 2.10.15//
METHOD:PUBLISH
BEGIN:VEVENT
UID:20260420T032121UTC-7553hDD7bT@https://fadeu-old.urantiacos.cl/
DTSTAMP:20260420T032121Z
DESCRIPTION:\nEl 03 de mayo se celebrar&aacute\; la ceremonia de premiaci&o
 acute\;n de&nbsp\;Archiprix Internacional 2019\, ocasi&oacute\;n en la que
  se presentar&aacute\;n los resultados del workshop y se lanzar&aacute\; e
 l libro de la d&eacute\;cima versi&oacute\;n del concurso\, incluyendo&nbs
 p\;m&aacute\;s de 300 de los mejores proyectos de graduaci&oacute\;n del m
 undo&nbsp\;en las &aacute\;reas de arquitectura\, urbanismo y dise&ntilde\
 ;o del paisaje. El evento se llevar&aacute\; a cabo en el Centro Cultural 
 Estaci&oacute\;n Mapocho.\n\n\nARCHIPRIX INTERNACIONAL\nArchiprix es un co
 ncurso de car&aacute\;cter nacional e internacional que cada dos a&ntilde\
 ;os convoca a las universidades del mundo a presentar sus proyectos m&aacu
 te\;s destacados de graduaci&oacute\;n en las carreras de arquitectura\, u
 rbanismo y dise&ntilde\;o del paisaje.\nTras sus exitosas ediciones anteri
 ores\, que incluyen Rotterdam (2001)\, Shangh&aacute\;i (2007)\, Mosc&uacu
 te\; (2013) y Ahmedabad (2017)\, s&oacute\;lo por nombrar algunas\, la d&e
 acute\;cima versi&oacute\;n de Archiprix International se realizar&aacute\
 ; en Santiago de Chile\, entre el 22 de abril y el 3 de mayo\, con el apoy
 o y participaci&oacute\;n de la Escuela de Arquitectura de la Pontiﬁcia Un
 iversidad Cat&oacute\;lica de Chile y la Facultad de Arquitectura y Urbani
 smo de la Universidad de Chile\, instituciones que coorganizan las activid
 ades de la edici&oacute\;n 2019.\nArchiprix 2019 incluir&aacute\;&nbsp\;un
  workshop internacional que se centrar&aacute\; en el barrio Matadero-Fran
 klin de Santiago\,&nbsp\;una premiaci&oacute\;n local con los mejores proy
 ectos de graduaci&oacute\;n de escuelas de arquitectura chilenas\, una pre
 miaci&oacute\;n y exhibici&oacute\;n internacional de los 321 proyectos de
  diversas universidades del mundo que participaron de la convocatoria en s
 u d&eacute\;cima versi&oacute\;n y las charlas magistrales abiertas a todo
  p&uacute\;blico de los arquitecto internacionales Arna Mackic (Studio L A
 )\, Arjen Oosterman (Volume Magazine) y Jacob van Rijs (MVRDV).\nFecha con
 versatorios_03 de mayo de 2019\, 15.00 - 18.00 h15.15 h - Presentaci&oacut
 e\;n resultados del workshop por Arna Mackic16.00 h - Ceremonia de premiac
 i&oacute\;n Archiprix International17.00 h - Lanzamiento publicaci&oacute\
 ;n Archiprix InternationalLugar_Centro Cultural Estaci&oacute\;n MapochoCo
 -organizan_Escuela de Arquitectura\, Facultad de Arquitectura\, Dise&ntild
 e\;o y Estudios Urbanos UCFacultad de&nbsp\;Arquitectura y Urbanismo\, Uni
 versidad de ChilePatrocina_Centro Cultural Estaci&oacute\;n MapochoAuspici
 a_Hunter DouglasColaboran_&nbsp\;Ministerio de las Culturas\, las Artes y 
 el PatrimonioReino de los Pa&iacute\;ses BajosDescarga el comunicado en es
 te&nbsp\;linkNoticiasContacto:&nbsp\;redesarq@uc.cl&nbsp\;| +56 2 2354 774
 7www.arquitectura.uc.cl\n\n&nbsp\; https://fadeu-old.urantiacos.cl/agenda/
 evento/1848-premiacion-archiprix-internacional-chile-2019
DTSTART:20190503T190000Z
DTEND:20190503T220000Z
LOCATION:Centro Cultural Estación Mapocho (Presidente Balmaceda s/n)
SUMMARY:Premiación Archiprix Internacional | Chile 2019
URL:https://fadeu-old.urantiacos.cl/agenda/evento/1848-premiacion-archiprix
 -internacional-chile-2019
END:VEVENT
BEGIN:VEVENT
UID:20260420T032121UTC-7564FkHsna@https://fadeu-old.urantiacos.cl/
DTSTAMP:20260420T032121Z
DESCRIPTION:Conferencia abierta a todo p&uacute\;blico del arquitecto holan
 des&nbsp\;Jacob van Rijs\,&nbsp\;cofundador del estudio MVRDV\,&nbsp\;en e
 l marco del cierre del workshop internacional&nbsp\;Archiprix 2019. La pon
 encia se llevar&aacute\; a cabo posterior a las presentaciones finales de 
 los participantes del workshop.\n&nbsp\;\n&nbsp\;\n\nJacob van Rijs&nbsp\;
 es cofundador y arquitecto principal de MVRDV\, un estudio interdisciplina
 rio que trabaja en la intersecci&oacute\;n de la arquitectura y el urbanis
 mo. La galardonada pr&aacute\;ctica holandesa fue establecida por Van Rijs
  junto con Winy Maas y Nathalie de Vries en 1993 y ha establecido una iden
 tidad internacional con una amplia variedad de tipolog&iacute\;as de const
 rucci&oacute\;n y escalas que son autogeneradas\, innovadoras\, experiment
 ales y te&oacute\;ricas. Sus dise&ntilde\;os combinan ideas y conceptos au
 daces con un enfoque humanista y de f&aacute\;cil uso. En los &uacute\;lti
 mos 25 a&ntilde\;os\, Van Rijs ha dirigido una gran variedad de proyectos\
 , que incluyen el Museo de Rock Dan&eacute\;s\, el centro comunitario KU.B
 E y Fr&oslash\;silo en Dinamarca\, el Centro Cultural Matsudai en Jap&oacu
 te\;n\, la vivienda social Mirador en Madrid\, Espa&ntilde\;a y la Casa Kw
 antes en Schiedam\, Pa&iacute\;ses Bajos.\n\n&nbsp\;\nARCHIPRIX INTERNACIO
 NAL\n&nbsp\;\n&nbsp\;\n\nArchiprix es un concurso de car&aacute\;cter naci
 onal e internacional que cada dos a&ntilde\;os convoca a las universidades
  del mundo a presentar sus proyectos m&aacute\;s destacados de graduaci&oa
 cute\;n en las carreras de arquitectura\, urbanismo y dise&ntilde\;o del p
 aisaje.\nTras sus exitosas ediciones anteriores\, que incluyen Rotterdam (
 2001)\, Shangh&aacute\;i (2007)\, Mosc&uacute\; (2013) y Ahmedabad (2017)\
 , s&oacute\;lo por nombrar algunas\, la d&eacute\;cima versi&oacute\;n de 
 Archiprix International se realizar&aacute\; en Santiago de Chile\, entre 
 el 22 de abril y el 3 de mayo\, con el apoyo y participaci&oacute\;n de la
  Escuela de Arquitectura de la Pontiﬁcia Universidad Cat&oacute\;lica de C
 hile y la Facultad de Arquitectura y Urbanismo de la Universidad de Chile\
 , instituciones que coorganizan las actividades de la edici&oacute\;n 2019
 .\nArchiprix 2019 incluir&aacute\;&nbsp\;un workshop internacional que se 
 centrar&aacute\; en el barrio Matadero-Franklin de Santiago\,&nbsp\;una pr
 emiaci&oacute\;n local con los mejores proyectos de graduaci&oacute\;n de 
 escuelas de arquitectura chilenas\, una premiaci&oacute\;n y exhibici&oacu
 te\;n internacional de los 321 proyectos de diversas universidades del mun
 do que participaron de la convocatoria en su d&eacute\;cima versi&oacute\;
 n y las charlas magistrales abiertas a todo p&uacute\;blico de los arquite
 cto internacionales Arna Mackic (Studio L A)\, Arjen Oosterman (Volume Mag
 azine) y Jacob van Rijs (MVRDV).&nbsp\;\n\nFecha_\nJueves 02 de mayo de 20
 19\, 19.00 h.\n&nbsp\;\nLugar_\nAudtorio FADEU\, Campus Lo Contador. El Co
 mendador 1916\, Providencia\n&nbsp\;\nCo-organizan_\nEscuela de Arquitectu
 ra\, Facultad de Arquitectura\, Dise&ntilde\;o y Estudios Urbanos UC\nFacu
 ltad de&nbsp\;Arquitectura y Urbanismo\, Universidad de Chile\n&nbsp\;\n&n
 bsp\;\nPatrocina_\nCentro Cultural Estaci&oacute\;n Mapocho\n&nbsp\;\n&nbs
 p\;\nAuspicia_\nHunter Douglas\n&nbsp\;\n&nbsp\;\nColaboran_&nbsp\;\nMinis
 terio de las Culturas\, las Artes y el Patrimonio\nReino de los Pa&iacute\
 ;ses Bajos\n&nbsp\;\nDescarga el comunicado del evento completo en este&nb
 sp\;link\n&nbsp\;\n\n&nbsp\;\nNoticiasContacto:&nbsp\;redesarq@uc.cl&nbsp\
 ;| +56 2 2354 7747www.arquitectura.uc.cl https://fadeu-old.urantiacos.cl/a
 genda/evento/1845-conferencia-jacob-van-rijs-mvrdv-archiprix-fau-uch-earq-
 uc
DTSTART:20190502T230000Z
DTEND:20190503T000000Z
LOCATION:Auditorio FADEU\, Campus Lo Contador PUC (El Comendador 1916\, Pro
 videncia\, Providencia\, Región Metropolitana\, Chile)
SUMMARY:Conferencia Jacob van Rijs - MVRDV | Archiprix + FAU UCh + EARQ UC
URL:https://fadeu-old.urantiacos.cl/agenda/evento/1845-conferencia-jacob-va
 n-rijs-mvrdv-archiprix-fau-uch-earq-uc
END:VEVENT
BEGIN:VEVENT
UID:20260420T032121UTC-7577gU9pVm@https://fadeu-old.urantiacos.cl/
DTSTAMP:20260420T032121Z
DESCRIPTION:\nConferencia abierta a todo p&uacute\;blico del&nbsp\;editor e
 n jefe de&nbsp\;Volume Magazine\,&nbsp\;Arjen Oosterman\,&nbsp\;en el marc
 o del workshop internacional&nbsp\;Archiprix 2019.\n\n\n\nArjen Oosterman&
 nbsp\;cr&iacute\;tico\, curador\, historiador de la arquitectura y acad&ea
 cute\;mico\, es editor en jefe de&nbsp\;Volume Magazine\, una de las m&aac
 ute\;s prestigiosas de la disciplina. Oosterman ha contribuido en diferent
 es medios y plataformas de arquitectura\, particip&oacute\; en conferencia
 s internacionales y ense&ntilde\;&oacute\; historia de la arquitectura en 
 varias instituciones en los Pa&iacute\;ses Bajos\, como la Academia de Arq
 uitectura de &Aacute\;msterdam\, la Academia de Arquitectura de Groningen 
 y la Escuela Superior de Arte Visual y Dise&ntilde\;o de Utrecht. Ha escri
 to y editado numerosos libros sobre arquitectos y arquitectura contempor&a
 acute\;nea.\nARCHIPRIX INTERNACIONAL\nArchiprix es un concurso de car&aacu
 te\;cter nacional e internacional que cada dos a&ntilde\;os convoca a las 
 universidades del mundo a presentar sus proyectos m&aacute\;s destacados d
 e graduaci&oacute\;n en las carreras de arquitectura\, urbanismo y dise&nt
 ilde\;o del paisaje.\nTras sus exitosas ediciones anteriores\, que incluye
 n Rotterdam (2001)\, Shangh&aacute\;i (2007)\, Mosc&uacute\; (2013) y Ahme
 dabad (2017)\, s&oacute\;lo por nombrar algunas\, la d&eacute\;cima versi&
 oacute\;n de Archiprix International se realizar&aacute\; en Santiago de C
 hile\, entre el 22 de abril y el 3 de mayo\, con el apoyo y participaci&oa
 cute\;n de la Escuela de Arquitectura de la Pontiﬁcia Universidad Cat&oacu
 te\;lica de Chile y la Facultad de Arquitectura y Urbanismo de la Universi
 dad de Chile\, instituciones que coorganizan las actividades de la edici&o
 acute\;n 2019.\nArchiprix 2019 incluir&aacute\;&nbsp\;un workshop internac
 ional que se centrar&aacute\; en el barrio Matadero-Franklin de Santiago\,
 &nbsp\;una premiaci&oacute\;n local con los mejores proyectos de graduaci&
 oacute\;n de escuelas de arquitectura chilenas\, una premiaci&oacute\;n y 
 exhibici&oacute\;n internacional de los 321 proyectos de diversas universi
 dades del mundo que participaron de la convocatoria en su d&eacute\;cima v
 ersi&oacute\;n y las charlas magistrales abiertas a todo p&uacute\;blico d
 e los arquitecto internacionales Arna Mackic (Studio L A)\, Arjen Oosterma
 n (Volume Magazine) y Jacob van Rijs (MVRDV).\nFecha_Martes 30 de abril de
  2019\, 19.00 h.Lugar_Audtorio FADEU\, Campus Lo Contador. El Comendador 1
 916\, ProvidenciaCo-organizan_Escuela de Arquitectura\, Facultad de Arquit
 ectura\, Dise&ntilde\;o y Estudios Urbanos UCFacultad de&nbsp\;Arquitectur
 a y Urbanismo\, Universidad de ChilePatrocina_Centro Cultural Estaci&oacut
 e\;n MapochoAuspicia_Hunter DouglasColaboran_&nbsp\;Ministerio de las Cult
 uras\, las Artes y el PatrimonioReino de los Pa&iacute\;ses BajosDescarga 
 el comunicado del evento completo en este&nbsp\;linkNoticiasContacto:&nbsp
 \;redesarq@uc.cl&nbsp\;| +56 2 2354 7747www.arquitectura.uc.cl\n\n\n\n&nbs
 p\; https://fadeu-old.urantiacos.cl/agenda/evento/1844-conferencia-arjen-o
 osterman-volume-magazine-archiprix-fau-uch-earq-uc
DTSTART:20190430T230000Z
DTEND:20190501T000000Z
LOCATION:Auditorio FADEU\, Campus Lo Contador PUC (El Comendador 1916\, Pro
 videncia\, Providencia\, Región Metropolitana\, Chile)
SUMMARY:Conferencia Arjen Oosterman - VOLUME MAGAZINE | Archiprix + FAU UCh
  + EARQ UC
URL:https://fadeu-old.urantiacos.cl/agenda/evento/1844-conferencia-arjen-oo
 sterman-volume-magazine-archiprix-fau-uch-earq-uc
END:VEVENT
BEGIN:VEVENT
UID:20260420T032121UTC-75880jv0u3@https://fadeu-old.urantiacos.cl/
DTSTAMP:20260420T032121Z
DESCRIPTION:\nEl martes 30 de abril se realizar&aacute\; la primera sesi&oa
 cute\;n de la&nbsp\;Serie: Jornadas de Investigaci&oacute\;n en el Institu
 to - 2019.&nbsp\;\nEn esta ocasi&oacute\;n el acad&eacute\;mico del Instit
 uto de Estudios Urbanos y Territoriales\,&nbsp\;Nicol&aacute\;s Larco\,&nb
 sp\;dictar&aacute\; la charla:&nbsp\;Urbanism Next: Los impactos de la nue
 va movilidad y el comercio electr&oacute\;nico en las ciudades.\nCupos lim
 itados e inscripciones&nbsp\;aqu&iacute\;.Se compartir&aacute\; un almuerz
 o liviano con los asistentes\, previa inscripci&oacute\;n&nbsp\;hasta el l
 unes 29 de abril.\nHora: 13:00 horasLugar: Sal&oacute\;n Sergio Larra&iacu
 te\;n.&nbsp\;El Comendador 1916\, Providencia.Organiza: Instituto de Estud
 ios Urbanos y Territoriales UC\n\n\n https://fadeu-old.urantiacos.cl/agend
 a/evento/1855-charla-urbanism-next-los-impactos-de-la-nueva-movilidad-y-el
 -comercio-electronico-en-las-ciudades
DTSTART:20190430T170000Z
DTEND:20190430T180000Z
LOCATION:Salón Sergio Larraín\, Campus Lo Contador ()
SUMMARY:Charla: Urbanism Next: Los impactos de la nueva movilidad y el come
 rcio electrónico en las ciudades
URL:https://fadeu-old.urantiacos.cl/agenda/evento/1855-charla-urbanism-next
 -los-impactos-de-la-nueva-movilidad-y-el-comercio-electronico-en-las-ciuda
 des
END:VEVENT
BEGIN:VEVENT
UID:20260420T032121UTC-7593CwKC47@https://fadeu-old.urantiacos.cl/
DTSTAMP:20260420T032121Z
DESCRIPTION:Conferencia abierta a todo p&uacute\;blico de la arquitecta hol
 andesa Arna Mackic (Studio LA) en el marco del workshop internacional&nbsp
 \;Archiprix 2019.\n&nbsp\;\n&nbsp\;\n\nArna Mackic&nbsp\;es arquitecta y f
 undadora de Studio L A\, adem&aacute\;s de jefa de dise&ntilde\;o arquitec
 t&oacute\;nico en la Academia Gerrit Rietveld (Holanda). Es autora del lib
 ro Ciudades mortales y monumentos olvidados (Park Books\, 2016). Mackic in
 vestiga los problemas sociales actuales\, la b&uacute\;squeda de identidad
 \, las contradicciones entre poblaciones\, los mecanismos de exclusi&oacut
 e\;n y exclusi&oacute\;n y los refugiados\, y reﬂexiona sobre ellos en pal
 abras\, escritos y proyectos arquitect&oacute\;nicos.\nTrabajando en la in
 tersecci&oacute\;n entre arquitectura\, arte y ﬁlosof&iacute\;a\, fue cata
 logada por el jurado del 'Maaskantprijs' para Young Architects de 2017 com
 o: 'una voz uniﬁcadora\, que cura las heridas del pasado\, sin pasar por a
 lto la cicatrices'.&nbsp\;\n\n&nbsp\;\nARCHIPRIX INTERNACIONAL\n&nbsp\;\n&
 nbsp\;\n\nArchiprix es un concurso de car&aacute\;cter nacional e internac
 ional que cada dos a&ntilde\;os convoca a las universidades del mundo a pr
 esentar sus proyectos m&aacute\;s destacados de graduaci&oacute\;n en las 
 carreras de arquitectura\, urbanismo y dise&ntilde\;o del paisaje.\nTras s
 us exitosas ediciones anteriores\, que incluyen Rotterdam (2001)\, Shangh&
 aacute\;i (2007)\, Mosc&uacute\; (2013) y Ahmedabad (2017)\, s&oacute\;lo 
 por nombrar algunas\, la d&eacute\;cima versi&oacute\;n de Archiprix Inter
 national se realizar&aacute\; en Santiago de Chile\, entre el 22 de abril 
 y el 3 de mayo\, con el apoyo y participaci&oacute\;n de la Escuela de Arq
 uitectura de la Pontiﬁcia Universidad Cat&oacute\;lica de Chile y la Facul
 tad de Arquitectura y Urbanismo de la Universidad de Chile\, instituciones
  que coorganizan las actividades de la edici&oacute\;n 2019.\nArchiprix 20
 19 incluir&aacute\;&nbsp\;un workshop internacional que se centrar&aacute\
 ; en el barrio Matadero-Franklin de Santiago\,&nbsp\;una premiaci&oacute\;
 n local con los mejores proyectos de graduaci&oacute\;n de escuelas de arq
 uitectura chilenas\, una premiaci&oacute\;n y exhibici&oacute\;n internaci
 onal de los 321 proyectos de diversas universidades del mundo que particip
 aron de la convocatoria en su d&eacute\;cima versi&oacute\;n y las charlas
  magistrales abiertas a todo p&uacute\;blico de los arquitecto internacion
 ales Arna Mackic (Studio L A)\, Arjen Oosterman (Volume Magazine) y Jacob 
 van Rijs (MVRDV).&nbsp\;\n\nFecha_\nLunes 29 de abril de 2019\, 19.00 h.\n
 &nbsp\;\nLugar_\nAudtorio FADEU\, Campus Lo Contador. El Comendador 1916\,
  Providencia\n&nbsp\;\nCo-organizan_\nEscuela de Arquitectura\, Facultad d
 e Arquitectura\, Dise&ntilde\;o y Estudios Urbanos UC\nFacultad de&nbsp\;A
 rquitectura y Urbanismo\, Universidad de Chile\n&nbsp\;\n&nbsp\;\nPatrocin
 a_\nCentro Cultural Estaci&oacute\;n Mapocho\n&nbsp\;\n&nbsp\;\nAuspicia_
 \nHunter Douglas\n&nbsp\;\n&nbsp\;\nColaboran_&nbsp\;\nMinisterio de las C
 ulturas\, las Artes y el Patrimonio\nReino de los Pa&iacute\;ses Bajos\n&n
 bsp\;\nDescarga el comunicado del evento completo en este&nbsp\;link\n&nbs
 p\;\n&nbsp\;\nNoticiasContacto:&nbsp\;redesarq@uc.cl&nbsp\;| +56 2 2354 77
 47www.arquitectura.uc.cl https://fadeu-old.urantiacos.cl/agenda/evento/184
 3-conferencia-arna-mackic-studio-l-a-archiprix-fau-uch-earq-uc
DTSTART:20190429T230000Z
DTEND:20190430T000000Z
LOCATION:Auditorio FADEU\, Campus Lo Contador PUC (El Comendador 1916\, Pro
 videncia\, Providencia\, Región Metropolitana\, Chile)
SUMMARY:Conferencia Arna Mackic - Studio L A | Archiprix + FAU UCh + EARQ U
 C
URL:https://fadeu-old.urantiacos.cl/agenda/evento/1843-conferencia-arna-mac
 kic-studio-l-a-archiprix-fau-uch-earq-uc
END:VEVENT
BEGIN:VEVENT
UID:20260420T032121UTC-7605hSveAu@https://fadeu-old.urantiacos.cl/
DTSTAMP:20260420T032121Z
DESCRIPTION:En el marco del Fondecyt Regular N&ordm\; 1180062 se est&aacute
 \; organizando el Seminario Sociedad\, Dise&ntilde\;o y Tecnolog&iacute\;a
  (SDT) #6 denominado: 'RELACIONES HUMANO-ANIMAL CON DEPREDADORES PROTEGIDO
 S EN &Aacute\;REAS PRECORDILLERANAS DEL SUR DE LA ARAUCAN&Iacute\;A'.Expon
 e: Pelayo Benavides MedinaComenta: Felipe Palma Irarr&aacute\;zabal\n\nLa 
 investigaci&oacute\;n se centr&oacute\; en la relaci&oacute\;n de varios a
 ctores con animales silvestres\, espec&iacute\;ficamente depredadores silv
 estres protegidos por ley\, en &aacute\;reas rurales y protegidas del cent
 ro-sur de Chile (IX Regi&oacute\;n de la Araucan&iacute\;a).\nLos principa
 les elementos te&oacute\;ricos propuestos son que las relaciones entre hum
 anos y animales est&aacute\;n inscritas en un enfoque ambiental m&aacute\;
 s amplio de clasificaciones sobre el mundo &lsquo\;natural&rsquo\; y el lu
 gar que ocupa la humanidad al respecto.\nLunes 29 de abril | 17.00 hrs | B
 iblioteca Sergio Larra&iacute\;n\n&nbsp\;\n\n https://fadeu-old.urantiacos
 .cl/agenda/evento/1852-seminario-sociedad-diseno-y-tecnologia-sdt-6-denomi
 nado-relaciones-humano-animal-con-depredadores-protegidos-en-areas-precord
 illeranas-del-sur-de-la-araucania
DTSTART:20190429T210000Z
DTEND:20190429T220000Z
LOCATION:Salón Sergio Larraín\, Campus Lo Contador ()
SUMMARY: Seminario Sociedad\, Diseño y Tecnología (SDT) #6 denominado: 'Rel
 aciones Humano-Animal con Depredadores Protegidos en áreas precordillerana
 s del sur de la Araucanía'
URL:https://fadeu-old.urantiacos.cl/agenda/evento/1852-seminario-sociedad-d
 iseno-y-tecnologia-sdt-6-denominado-relaciones-humano-animal-con-depredado
 res-protegidos-en-areas-precordilleranas-del-sur-de-la-araucania
END:VEVENT
BEGIN:VEVENT
UID:20260420T032121UTC-7611Ag3WVz@https://fadeu-old.urantiacos.cl/
DTSTAMP:20260420T032121Z
DESCRIPTION:Junto con saludarlos\, los invitamos a la presentaci&oacute\;n 
 que dar&aacute\; la Unidad&nbsp\;de Prevenci&oacute\;n y Apoyo a V&iacute\
 ;ctimas de Violencia Sexual de nuestra Universidad.&nbsp\;\nLa Unidad de P
 revenci&oacute\;n y Apoyo a V&iacute\;ctimas de Violencia Sexual\, se ha a
 bocado en contactar y visitar las distintas facultades\, a fin de presenta
 r y discutir los principales lineamientos de la pol&iacute\;tica y sus pro
 tocolos. La convocatoria es abierta a todos los miembros de cada Facultad 
 (acad&eacute\;micos-funcionarios-alumnos de pre y postgrado) y tiene como 
 objetivo entregar una visi&oacute\;n global de las acciones que se han emp
 rendido y se espera emprender en torno a esta tem&aacute\;tica por parte d
 e la Universidad\, adem&aacute\;s de entablar un di&aacute\;logo con los a
 sistentes con el objeto de resolver dudas y recoger impresiones.\n&nbsp\;
 \nEsta actividad se realizar&aacute\; el d&iacute\;a&nbsp\;el&nbsp\;29 de 
 abril a las 13.00 hrs\, en el sal&oacute\;n Sergio Larra&iacute\;n.\n&nbsp
 \;\n*Previa Inscripci&oacute\;n&nbsp\;aqui. https://fadeu-old.urantiacos.c
 l/agenda/evento/1853-presentacion-unidad-de-prevencion-y-apoyo-a-victimas-
 de-violencia-sexual
DTSTART:20190429T170000Z
DTEND:20190429T180000Z
LOCATION:Salón Sergio Larraín\, Campus Lo Contador ()
SUMMARY:Presentación Unidad de Prevención y Apoyo a Víctimas de Violencia S
 exual
URL:https://fadeu-old.urantiacos.cl/agenda/evento/1853-presentacion-unidad-
 de-prevencion-y-apoyo-a-victimas-de-violencia-sexual
END:VEVENT
END:VCALENDAR
