BEGIN:VCALENDAR
VERSION:2.0
PRODID:-//https://fadeu-old.urantiacos.cl///NONSGML kigkonsult.se iCalcreator 2.10.15//
METHOD:PUBLISH
BEGIN:VEVENT
UID:20260420T222503UTC-7102gtMRHu@https://fadeu-old.urantiacos.cl/
DTSTAMP:20260420T222503Z
DESCRIPTION:Ciclo 'Di&aacute\;logo Permanente con la Arquitectura' #5 / Luc
 io Costa (Horacio Torrent) &amp\; Joao Vilanova Artigas (Sebasti&aacute\;n
  Paredes)\nEl mi&eacute\;rcoles 02 de mayo se llevar&aacute\; a cabo la qu
 inta versi&oacute\;n del nuevo ciclo de charlas titulado 'Di&aacute\;logo 
 Permanente con la Arquitectura'. Las dos exposiciones estar&aacute\;n a ca
 rgo de los arquitectos Horacio Torrent y Sebasti&aacute\;n Paredes\, quien
 es presentar&aacute\;n respectivamente a Lucio Costa y Joao Vilanova Artig
 as.\nEl nuevo ciclo del &aacute\;rea de Extensi&oacute\;n de la Escuela de
  Arquitectura UC\, nace de la publicaci&oacute\;n del libro titulado 'Un d
 i&aacute\;logo permanente con la arquitectura'\, lanzado en el marco de la
  XX Bienal de Arquitectura y Urbanismo ''Di&aacute\;logos Impostergables'\
 , el pasado 4 de noviembre de 2017. En la publicaci&oacute\;n de Ediciones
  ARQ participaron m&aacute\;s de 100 profesores\, reuniendo a trav&eacute\
 ;s de texto e im&aacute\;genes\, un di&aacute\;logo con la arquitectura co
 mo pr&aacute\;ctica reflexiva y expresi&oacute\;n de cultura. ''Articuland
 o distintas personas y tiempos\, se busca contribuir a que nuestra discipl
 ina tenga mayor peso en las decisiones que afectan a lo p&uacute\;blico. E
 n esa tarea\, sin embargo\, lo fundamental es no olvidar que ni la urgenci
 a por responder a las preguntas ni la necesaria capacidad de escuchar al e
 ntorno pueden soslayar una condici&oacute\;n realmente impostergable: que 
 antes de entrar en un di&aacute\;logo\, tenemos que saber bien qu&eacute\;
  decir''.\nEl formato del ciclo es una conversaci&oacute\;n distendida ent
 re exponentes y aistentes\, la cual se realiza en los per&iacute\;odos de 
 almuerzo\, de 13.30 - 15:00 hrs. Cada versi&oacute\;n cuenta con dos invit
 ados\, quienes presentan por separado obras y/o personajes notables en la 
 Arquitectura\, sirviendo dichas presentaciones de plataformas para abrir l
 a discusi&oacute\;n sobre diferentes tem&aacute\;ticas que no deben dejar 
 de ser permanentes en la discusi&oacute\;n de nuestra disciplina y en su r
 ol en la cultura\, di&aacute\;logos que sean capaces de seguir informando 
 las decisiones del presente y de abrir escenarios futuros.\nFecha_\nMi&eac
 ute\;rcoles 02 de Mayo de 2018\, 13.30 - 15.00 hrs.\nLugar_\nAuditorio FCV
 . Campus Lo Contador. El Comendador 1936\, Providencia.\nOrganizan_\nEARQ 
 UC + Estudio Com&uacute\;n\n&nbsp\;\n https://fadeu-old.urantiacos.cl/agen
 da/evento/1525-ciclo-dialogo-permanente-con-la-arquitectura-5
DTSTART:20180502T163000Z
DTEND:20180502T173000Z
LOCATION:Auditorio Fernando Castillo Velasco. Edificio ARQ (El Comendador 1
 936\, Providencia\, Región Metropolitana\, Chile)
SUMMARY:Ciclo 'Diálogo Permanente con la Arquitectura' #5
URL:https://fadeu-old.urantiacos.cl/agenda/evento/1525-ciclo-dialogo-perman
 ente-con-la-arquitectura-5
END:VEVENT
END:VCALENDAR
