BEGIN:VCALENDAR
VERSION:2.0
PRODID:-//https://fadeu-old.urantiacos.cl///NONSGML kigkonsult.se iCalcreator 2.10.15//
METHOD:PUBLISH
BEGIN:VEVENT
UID:20260423T173712UTC-0969KBUnNM@https://fadeu-old.urantiacos.cl/
DTSTAMP:20260423T173712Z
DESCRIPTION:Sketch es el programa l&iacute\;der en la industria para el di
 se&ntilde\;o de interfaces. Ac&eacute\;rcate a &eacute\;l con esta introdu
 cci&oacute\;n pr&aacute\;ctica de 3 horas y profundiza en el dise&ntilde\;
 o de interacci&oacute\;n con el curso Introducci&oacute\;n al Dise&ntilde
 \;o de Apps.\nRequisitosMacBook con macOS 10.11 o superior. Este es un req
 uisito del programa. Lamentablemente\, no funciona en Windows. Los MacBook
 s del 2009 en adelante son compatibles.\nPresentado porDise&ntilde\;o UCIn
 troducci&oacute\;n al Dise&ntilde\;o de Apps con Radu Dutzan\n+ Entrada li
 berada previa inscripci&oacute\;n. Cupos limitados.&nbsp\;Inscripciones aq
 u&iacute\;.\n&nbsp\;\n https://fadeu-old.urantiacos.cl/agenda/evento/923-w
 orkshop-introduccion-a-sketch
DTSTART:20170506T130000Z
DTEND:20170506T160000Z
LOCATION:Auditorio Norte\, Campus Lo Contador UC (El Comendador 1916\, Prov
 idencia\, Región Metropolitana\, Chile)
SUMMARY:Workshop: Introducción a Sketch
URL:https://fadeu-old.urantiacos.cl/agenda/evento/923-workshop-introduccion
 -a-sketch
END:VEVENT
BEGIN:VEVENT
UID:20260423T173712UTC-0973MaOJ7l@https://fadeu-old.urantiacos.cl/
DTSTAMP:20260423T173712Z
DESCRIPTION:El programa ofrece una perspectiva completa del dise&ntilde\;o 
 estrat&eacute\;gico de la colecci&oacute\;n de moda y su proyecci&oacute\;
 n a lo largo de toda la cadena de negocio\, desde la construcci&oacute\;n 
 de la marca\, la evoluci&oacute\;n del portafolio comercial\, las compras 
 y la venta en tienda. Estas competencias facilitan la adquisici&oacute\;n 
 de solvencia en uno de los campos que m&aacute\;s inciden en la competitiv
 idad de marcas y empresas.\nFechasDel 05 de mayo al 05 de agosto de 2017\n
 Horarios de claseViernes 16:00 a 20:30 hrs. y sabado 9:00 a 18:00 hrs\n+ P
 ostulaciones y m&aacute\;s informaciones aqu&iacute\;.\n&nbsp\;\n\n&nbsp\;
  https://fadeu-old.urantiacos.cl/agenda/evento/927-inicio-diplomado-en-dis
 eno-estrategico-de-colecciones
DTSTART:20170505T190000Z
DTEND:20170505T233000Z
LOCATION:Escuela de Diseño UC\, Campus Lo Contador (El Comendador\, Provide
 ncia\, Providencia\, Región Metropolitana\, Chile)
SUMMARY:Inicio Diplomado en Diseño Estratégico de Colecciones
URL:https://fadeu-old.urantiacos.cl/agenda/evento/927-inicio-diplomado-en-d
 iseno-estrategico-de-colecciones
END:VEVENT
BEGIN:VEVENT
UID:20260423T173712UTC-0977AcbGxd@https://fadeu-old.urantiacos.cl/
DTSTAMP:20260423T173712Z
DESCRIPTION:Informamos a toda la comunidad el lanzamiento del 25&deg\; Conc
 urso DIRIP Primer Semestre 2017 de &ldquo\;Apoyo a la participaci&oacute\;
 n en Congresos Internacionales&rdquo\;.\nEste concurso constituye un apoyo
  econ&oacute\;mico para que acad&eacute\;micos/as de la Facultad de Arquit
 ectura\, Dise&ntilde\;o y Estudios Urbanos y estudiantes del Programa de D
 octorado en Arquitectura y Estudios Urbanos socialicen resultados de sus i
 nvestigaciones en congresos internacionales de relevancia disciplinar. Se 
 busca principalmente apoyar a investigadores/as que est&eacute\;n inici&aa
 cute\;ndose en la investigaci&oacute\;n\, con propuestas que puedan repres
 entar un impacto relevante para su propia formaci&oacute\;n y para el desa
 rrollo de la investigaci&oacute\;n en sus unidades acad&eacute\;micas o pr
 ograma de Doctorado.\nEn esta oportunidad\, el concurso beneficiar&aacute\
 ; a un m&aacute\;ximo de 10 postulantes con un aporte econ&oacute\;mico pa
 ra concepto de pasajes\, estad&iacute\;a y/o inscripci&oacute\;n al congre
 so.\nLas postulaciones se recibir&aacute\;n hasta el d&iacute\;a viernes 5
  de mayo de 2017 a las 16:00 hrs. en la oficina de la Secretaria del Decan
 ato (con Patricia Pe&ntilde\;aloza).\n+ Descarga las bases y el formulario
  de postulaci&oacute\;n en p&aacute\;gina web de la DIRIP.\n&nbsp\;\n\n&nb
 sp\; https://fadeu-old.urantiacos.cl/agenda/evento/891-cierre-25-concurso-
 dirip-apoyo-a-la-participacion-en-congresos-internacionales
DTSTART:20170505T030000Z
DTEND:20170505T190000Z
LOCATION:DIRIP FADEU UC (El Comendador 1916\, Providencia\, Región Metropol
 itana\, Chile)
SUMMARY:Cierre 25° concurso DIRIP: Apoyo a la participación en Congresos In
 ternacionales
URL:https://fadeu-old.urantiacos.cl/agenda/evento/891-cierre-25-concurso-di
 rip-apoyo-a-la-participacion-en-congresos-internacionales
END:VEVENT
BEGIN:VEVENT
UID:20260423T173712UTC-0983zxx9rc@https://fadeu-old.urantiacos.cl/
DTSTAMP:20260423T173712Z
DESCRIPTION:Fundaci&oacute\;n Museo Casa de la Acuarela tiene el grado de i
 nvitar al lanzamiento de su Programa 2017\, el que incluir&aacute\; la pre
 sentaci&oacute\;n de 'Agua y Espacio\, Arquitectos Acuarelistas' y un rema
 te solidario de acuarelas de destacados artistas chilenos.\nInvitaMuseo Ca
 sa de la Acuarela\nPatrocinanAsociaci&oacute\;n de Oficinas de Arquitectur
 a AOAFacultad de Arquitectura\, Dise&ntilde\;o y Estudios Urbanos FADEU UC
 Facultad de Arquitectura y Urbanismo FAU U. ChileFacultad de Derecho U. Ch
 ileUniversidad de TalcaColegio de Arquitectos de ChileFundaci&oacute\;n Cl
 aro VialCoorporaci&oacute\;n de Ciegos\n\n&nbsp\; https://fadeu-old.uranti
 acos.cl/agenda/evento/915-ciclo-agua-y-espacio-arquitectos-acuarelistas-de
 -chile
DTSTART:20170504T220000Z
DTEND:20170505T000000Z
LOCATION:Sede AOA. Juan de Dios Vial Correa 1351\, Providencia (Juan de Dio
 s Vial Correa 1351\, Providencia\, Región Metropolitana\, Chile)
SUMMARY:Ciclo 'Agua y espacio: arquitectos acuarelistas de Chile”
URL:https://fadeu-old.urantiacos.cl/agenda/evento/915-ciclo-agua-y-espacio-
 arquitectos-acuarelistas-de-chile
END:VEVENT
BEGIN:VEVENT
UID:20260423T173712UTC-0987VuHVlW@https://fadeu-old.urantiacos.cl/
DTSTAMP:20260423T173712Z
DESCRIPTION:Para esta sesi&oacute\;n\, los presentadores invitados son:\nRi
 cardo Vega M.\, dise&ntilde\;ador y artista\, con estudios en Visualizaci&
 oacute\;n de Informaci&oacute\;n (IDEC &ndash\; Pompeu Fabra) y MFA Dise&n
 tilde\;o y Tecnolog&iacute\;a (Parsons\, La Nueva Escuela). Ricardo Desarr
 olla proyectos en la intersecci&oacute\;n entre visualizaci&oacute\;n\, gr
 &aacute\;ficos\, programaci&oacute\;n\, arte y dise&ntilde\;o. Algunos de 
 sus intereses se basan en comprender las implicaciones sociales\, cultural
 es y art&iacute\;sticas de la tecnolog&iacute\;a. Es el fundador del proye
 cto C80.cl\, proyecto para ayudar a la gente a leer y entender el texto de
  la Constituci&oacute\;n chilena de 1980 y hacer v&iacute\;nculos con los 
 problemas actuales del pa&iacute\;s. Actualmente ense&ntilde\;a en la Escu
 ela de Dise&ntilde\;o y la Escuela de Ingenier&iacute\;a\, ambas en la Uni
 versidad Cat&oacute\;lica. La presentaci&oacute\;n de Ricardo ser&aacute\;
  en ingl&eacute\;s.\nMartin Goycoolea se gradu&oacute\; del MIT en BSc F&i
 acute\;sica\, Ciencias Nucleares e Ingenieria\, y trabaj&oacute\; luego co
 mo cient&iacute\;fico de datos. Ahora est&aacute\; liderando el desarrollo
  de productos en CivicBrain\, donde cambia la forma en que los gobiernos s
 e conectan con las comunidades. Hablar&aacute\; acerca de la visualizaci&o
 acute\;n de datos en la creaci&oacute\;n y dise&ntilde\;o de aplicaciones\
 ; C&oacute\;mo crear productos de datos que agreguen valor. La charla de M
 art&iacute\;n ser&aacute\; en ingl&eacute\;s\nSobre Meetup Santiago Data V
 isualizationSantiago Data Visualization es un lugar donde se puede mostrar
  y aprender sobre la visualizaci&oacute\;n de datos. Este encuentro est&aa
 cute\; dirigido a cient&iacute\;ficos de datos\, dise&ntilde\;adores\, per
 iodistas de datos\, desarrolladores y cualquier persona que quiera aprende
 r m&aacute\;s sobre la entrega de conocimientos e historias a trav&eacute\
 ;s de datos de forma simple y hermosa. La reuni&oacute\;n presentar&aacute
 \; Show &amp\; Tells (donde diferentes personas comparten sus historias de
  hacer visualizaciones de datos)\, charlas o demos. Usted no tiene que ser
  un gur&uacute\; de los datos. Este es un ambiente relajado donde todo el 
 mundo es bienvenido &ndash\; para asistir\, para conocer gente nueva\, y p
 ara compartir su trabajo! &iexcl\;P&oacute\;ngase en contacto con nosotros
  si desea hablar en una de nuestras reuniones!\n&nbsp\;\n\n&nbsp\; https:/
 /fadeu-old.urantiacos.cl/agenda/evento/919-charla-meetup-santiago-data-vis
 ualization
DTSTART:20170504T220000Z
DTEND:20170504T233000Z
LOCATION:Sala Luis Moreno\, Escuela de Diseño UC\, Campus Lo Contador (El C
 omendador 1916\, Providencia\, Región Metropolitana\, Chile)
SUMMARY:Charla 'Meetup Santiago Data Visualization'
URL:https://fadeu-old.urantiacos.cl/agenda/evento/919-charla-meetup-santiag
 o-data-visualization
END:VEVENT
BEGIN:VEVENT
UID:20260423T173712UTC-0995BRRX6S@https://fadeu-old.urantiacos.cl/
DTSTAMP:20260423T173712Z
DESCRIPTION:\nM&aacute\;s informaci&oacute\;n aqu&iacute\; https://fadeu-ol
 d.urantiacos.cl/agenda/evento/921-lanzamiento-zurita-co
DTSTART:20170504T220000Z
DTEND:20170505T000000Z
LOCATION:Sala Lámpara\, Escuela de Diseño\, Campus Lo Contador (El Comendad
 or 1912-1974\, Providencia\, Región Metropolitana\, Chile)
SUMMARY:Lanzamiento ZURITA.CO
URL:https://fadeu-old.urantiacos.cl/agenda/evento/921-lanzamiento-zurita-co
END:VEVENT
BEGIN:VEVENT
UID:20260423T173712UTC-0997zEZWI9@https://fadeu-old.urantiacos.cl/
DTSTAMP:20260423T173712Z
DESCRIPTION:EnsayosSerie Discusi&oacute\;n y Cr&iacute\;tica de Edificios\n
 En la s&eacute\;ptima versi&oacute\;n del ciclo de discusi&oacute\;n organ
 izado por el MArqUC\, Alejandra Celed&oacute\;n\, Pedro Correa\, Francisco
  D&iacute\;az\, Max N&uacute\;&ntilde\;ez\, Cristi&aacute\;n Izquierdo y N
 icol&aacute\;s Stutzin discutir&aacute\;n sobre Casa Cien de Pezo von Ellr
 ichshausen y la  Tienda Ger&oacute\;nimo de Alderete de Amun&aacute\;tegui
  Vald&eacute\;s.\nInvitanMag&iacute\;ster en Arquitectura UCEscuela de Arq
 uitectura UC\nTransmiteRadio ARCADA\n&nbsp\;\n https://fadeu-old.urantiaco
 s.cl/agenda/evento/933-serie-de-discusion-y-critica-de-edificios-ensayos
DTSTART:20170504T213000Z
DTEND:20170504T230000Z
LOCATION:Auditorio FADEU\, Campus Lo Contador PUC (El Comendador 1916\, Pro
 videncia\, Providencia\, Región Metropolitana\, Chile)
SUMMARY:Serie de discusión y critica de edificios: Ensayos 
URL:https://fadeu-old.urantiacos.cl/agenda/evento/933-serie-de-discusion-y-
 critica-de-edificios-ensayos
END:VEVENT
BEGIN:VEVENT
UID:20260423T173712UTC-1001l8r69J@https://fadeu-old.urantiacos.cl/
DTSTAMP:20260423T173712Z
DESCRIPTION:El mi&eacute\;rcoles 3 de mayo se realizar&aacute\; el lanzamie
 nto &ldquo\;Relaciones de g&eacute\;nero en la pr&aacute\;ctica laboral de
  teatro en Chile&rdquo\; de la investigaci&oacute\;n realizada por Pablo C
 isternas junto a Constanza Mu&ntilde\;oz\, Camilo Araneda\, Pascuala Migon
 e y Catalina Yazigi. En este evento se presentar&aacute\;n los principales
  resultados de la investigaci&oacute\;n\, la cual explora la realidad labo
 ral las actrices y actores afiliados a Sidarte.\n&nbsp\;\n https://fadeu-o
 ld.urantiacos.cl/agenda/evento/903-lanzamiento-investigacion-relaciones-de
 -genero-en-la-practica-laboral-de-teatro-en-chile
DTSTART:20170503T220000Z
DTEND:20170503T233000Z
LOCATION:Sala de conferencia\, Centro Cultural Gabriela Mistral (GAM) (Av L
 ibertador Bernardo O'Higgins 227\, Santiago\, Región Metropolitana\, Chile
 )
SUMMARY:Lanzamiento investigación 'Relaciones de género en la práctica labo
 ral de teatro en Chile'
URL:https://fadeu-old.urantiacos.cl/agenda/evento/903-lanzamiento-investiga
 cion-relaciones-de-genero-en-la-practica-laboral-de-teatro-en-chile
END:VEVENT
BEGIN:VEVENT
UID:20260423T173712UTC-1005MeuCkg@https://fadeu-old.urantiacos.cl/
DTSTAMP:20260423T173712Z
DESCRIPTION:Mediante la presente queremos invitarlos al Homenaje 'Mujeres P
 ioneras de la Arquitectura del Paisaje&rdquo\;\, donde se destacar&aacute\
 ; la trayectoria de las profesoras Marta Viveros y Cristina Felsenhardt. A
 mbas han formado parte importante de nuestra comunidad acad&eacute\;mica\,
  especialmente en sus roles docentes vinculados con la ense&ntilde\;anza d
 el Paisaje\, tanto en la formaci&oacute\;n de pregrado\, como a nivel de e
 specializaci&oacute\;n y postgrado.\nOrganizanMag&iacute\;ster en Arquitec
 tura del Paisaje MAPA UCEx alumnos Post&iacute\;tulo en Arquitectura y Man
 ejo del Paisaje&nbsp\;\nInvitaFacultad de Arquitectura Dise&ntilde\;o y Es
 tudios Urbanos FADEU UC\n+ Inscripciones con Laura Quezado: lquezado@uc.cl
 \n&nbsp\;\n\n https://fadeu-old.urantiacos.cl/agenda/evento/911-homenaje-m
 ujeres-pioneras-de-la-arquitectura-del-paisaje
DTSTART:20170503T220000Z
DTEND:20170504T000000Z
LOCATION:Auditorio FADEU\, Campus Lo Contador PUC (El Comendador 1916\, Pro
 videncia\, Providencia\, Región Metropolitana\, Chile)
SUMMARY:Homenaje 'Mujeres Pioneras de la Arquitectura del Paisaje'
URL:https://fadeu-old.urantiacos.cl/agenda/evento/911-homenaje-mujeres-pion
 eras-de-la-arquitectura-del-paisaje
END:VEVENT
BEGIN:VEVENT
UID:20260423T173712UTC-1009AgO9Zd@https://fadeu-old.urantiacos.cl/
DTSTAMP:20260423T173712Z
DESCRIPTION:Design governance. The need for proactive tools in urban design
 Matthew Carmona\nMatthew Carmona\, Professor at the Bartlett School\, Univ
 ersity College London\, is a Registered Architect and a Chartered Planner 
 and has previously lectured at the University of Nottingham and before tha
 t worked as a researcher at Strathclyde and Reading Universities and as an
  architect in both public and private practice. His research has focused o
 n processes of design governance and on the design and management of publi
 c space\, having worked on a range of research projects examining: design 
 policies and guidance\; design coding\; residential design and development
  processes\; the value of urban design\; measuring quality in planning\; p
 ublic space design and management\; London's streets and spaces\; The gove
 rnance of design. Matthew is Chair of the Place Alliance\, a cross-sector 
 collaborative alliance for place quality\, see: https://www.bartlett.ucl.a
 c.uk/placealliance and was recently Specialist Advisor to the House of Lor
 ds Select Committee on the Built Environment. In 2015\, he won the RTPI Ac
 ademic Award for Research Excellence and in 2016 the RTPI Sir Peter Hall A
 ward for Wider Engagement. Matthew is European Associate Editor for the &l
 squo\;Journal of Urban Design&rsquo\;. He is a regular advisor to governme
 nt and government agencies both in the UK and overseas and lectures intern
 ationally\, and is a Design Council CABE &lsquo\;Built Environment Expert&
 rsquo\;. He writes a column for Town &amp\; Country Planning\, the journal
  of the Town &amp\; Country Planning Association and writes a blog: https:
 //matthew-carmona.com.\nConferencia organizada por el Laboratorio de Ciuda
 d y Movilidad FADEU\, con el aporte del Magister en Proyecto Urbano de la 
 Escuela de Arquitectura\, en el contexto del workshop Streets\, multilayer
 ed places\, del Taller de Investigaci&oacute\;n y Proyecto del MPUR.\n&nbs
 p\;\n&nbsp\;\n\n&nbsp\; https://fadeu-old.urantiacos.cl/agenda/evento/931-
 conferencia-mathew-carmona
DTSTART:20170503T213000Z
DTEND:20170503T230000Z
LOCATION:Auditorio FADEU\, Campus Lo Contador PUC (El Comendador 1916\, Pro
 videncia\, Providencia\, Región Metropolitana\, Chile)
SUMMARY:Conferencia Mathew Carmona
URL:https://fadeu-old.urantiacos.cl/agenda/evento/931-conferencia-mathew-ca
 rmona
END:VEVENT
END:VCALENDAR
