BEGIN:VCALENDAR
VERSION:2.0
PRODID:-//https://fadeu-old.urantiacos.cl///NONSGML kigkonsult.se iCalcreator 2.10.15//
METHOD:PUBLISH
BEGIN:VEVENT
UID:20260420T222458UTC-707810pdB7@https://fadeu-old.urantiacos.cl/
DTSTAMP:20260420T222458Z
DESCRIPTION:El pr&oacute\;ximo viernes&nbsp\;11&nbsp\;de mayo&nbsp\;se llev
 ar&aacute\; a cabo la segunda sesi&oacute\;n de 'Paisajes Proyectados: Cic
 lo de di&aacute\;logos de Arquitectura del Paisaje'\, en celebraci&oacute\
 ;n a los&nbsp\;10 a&ntilde\;os del Magister en Arquitectura del Paisaje UC
 . La charla ser&aacute\; dictada por la oficina de arquitectura&nbsp\;Lyon
  &amp\; Bosch.\n&nbsp\;\nEn el marco de la celebraci&oacute\;n de los 10 a
 &ntilde\;os del&nbsp\;Mag&iacute\;ster en Arquitectura del Paisaje UC\, el
  Ciclo&nbsp\;Paisajes Proyectados re&uacute\;ne&nbsp\;10 visiones discipli
 nares&nbsp\;a partir de conversaciones con arquitectos del&nbsp\;paisaje&n
 bsp\;relacionadas con su producci&oacute\;n profesional y&nbsp\;acad&eacut
 e\;mica\, constituyendo una vitrina actualizada del&nbsp\;quehacer naciona
 l en materia de planificaci&oacute\;n y&nbsp\;dise&ntilde\;o del Paisaje e
 n Chile. Cada sesi&oacute\;n del Ciclo&nbsp\;promueve un&nbsp\;encuentro e
 ntre el autor\, parte de su&nbsp\;obra y el p&uacute\;blico asistente\, en
  una din&aacute\;mica&nbsp\;transversal y cercana de interacci&oacute\;n.
 \n&nbsp\;\n&nbsp\;\nLos 10 exponentes son_\n&nbsp\;\n- TEODORO FERNANDEZ- 
 DANILO MARTIC- OSVALDO MORENO- CLAUDIA ILLANES- ANDREW HARRIS- ARTURO LYON
 - ALEJANDRA BOSCH- TOMAS FOLCH- PAULA LIVINGSTONE\n- SANDRA ITURRIAGA\n&nb
 sp\;\n&nbsp\;\nLa segunda sesi&oacute\;n\, a cargo de&nbsp\;Lyon &amp\; Bo
 sch\, se titula&nbsp\;'Arquitectura del Paisaje'.\n&nbsp\;\nArturo Lyon\nP
 rofesor de la Facultad de Arquitectura\, Dise&ntilde\;o y Estudios Urbanos
  de la UC en las &aacute\;reas de taller\, tecnolog&iacute\;a y paisaje. H
 a realizado clases e investigaciones en la UC\, la Architectural Associati
 on y en diversos workshops dictados en Chile\, Argentina\, M&eacute\;xico 
 y el Reino Unido.\n&nbsp\;\nAlejandra Bosch\nProfesora Asistente Adjunta d
 e la UC en el &aacute\;rea de taller y representaci&oacute\;n tanto en pre
 grado como en el postgrado de Arquitectura del Paisaje (MAPA). Ha trabajad
 o en proyectos de Arquitectura del paisaje\, urbanismo y arquitectura en C
 hile\, China\, Dubai\, Qatar\, Reino Unido\, destac&aacute\;ndose el proye
 cto de Longgang City en China para Groundlab.\n&nbsp\;\n&nbsp\;\nFecha_\nV
 iernes 11 de mayo\,&nbsp\;13:15 hrs a 14:30 hrs.\n&nbsp\;\nLugar_\nSal&oac
 ute\;n Sergio Larra&iacute\;n. Campus Lo Contador. El Comendador 1936\, Pr
 ovidencia.&nbsp\;\n&nbsp\;\nOrganiza_\nMag&iacute\;ster en Arquitectura de
 l Paisaje UC.&nbsp\;\n&nbsp\;\nPatrocina_\nICHAP&nbsp\;(Instituto Chileno 
 de Arquitectos Paisajistas)\n&nbsp\;\nMedia Partner_\nPlataforma Arquitect
 ura&nbsp\;\n&nbsp\;\nIngreso libre\, previa inscripci&oacute\;n_magisterma
 pa@uc.cl\nInformaciones_\nmagistermapa@uc.cl\n&nbsp\;\n\n https://fadeu-ol
 d.urantiacos.cl/agenda/evento/1528-ciclo-paisaje-proyectado-lyon-bosch
DTSTART:20180511T161500Z
DTEND:20180511T171500Z
LOCATION:Salón Sergio Larraín\, Campus Lo Contador ()
SUMMARY: Ciclo 'Paisaje Proyectado' / Lyon - Bosch
URL:https://fadeu-old.urantiacos.cl/agenda/evento/1528-ciclo-paisaje-proyec
 tado-lyon-bosch
END:VEVENT
BEGIN:VEVENT
UID:20260420T222458UTC-7087WpzVUT@https://fadeu-old.urantiacos.cl/
DTSTAMP:20260420T222458Z
DESCRIPTION:Segunda versi&oacute\;n 2018 del afamado ciclo 'La Ciudad y Las
  Palabras'\, en el cual el escritor Andr&eacute\;s Neuman presentar&aacute
 \; su nueva novela 'Fractura'. Comentan los escritores Mat&iacute\;as Cele
 d&oacute\;n y Andrea Jeftanovic.\n&nbsp\;\nAndr&eacute\;s Neuman\n&nbsp\;
 \nAndr&eacute\;s Neuman&nbsp\;(1977) naci&oacute\; y pas&oacute\; su infan
 cia en Buenos Aires. Hijo de m&uacute\;sicos argentinos\, termin&oacute\; 
 de criarse en Granada\, en cuya universidad fue profesor de literatura lat
 inoamericana. Mediante una votaci&oacute\;n convocada por el Hay Festival\
 , form&oacute\; parte de la lista Bogot&aacute\;-39 entre los nuevos autor
 es m&aacute\;s destacados de Latinoam&eacute\;rica\, y fue seleccionado po
 r la revista brit&aacute\;nica Granta entre Los 22 mejores narradores j&oa
 cute\;venes en espa&ntilde\;ol. Escribe regularmente en su blog Microrr&ea
 cute\;plicas\, considerado uno de los mejores blogs literarios en castella
 no seg&uacute\;n una encuesta de El Cultural. Sus libros est&aacute\;n tra
 ducidos a 23 idiomas.\nAutor de 'El viajero del siglo' (Alfaguara\, 2009)\
 , que obtuvo el Premio Alfaguara\, el Premio Tormenta y el Premio de la Cr
 &iacute\;tica\, otorgado por la Asociaci&oacute\;n Espa&ntilde\;ola de Cr&
 iacute\;ticos Literarios. Esta novela fue seleccionada entre las mejores d
 el a&ntilde\;o por los cr&iacute\;ticos de El Pa&iacute\;s\, El Mundo\, Th
 e Guardian\, The Independent\, Financial Times y los diarios holandeses NR
 C Handelsblad y De Volkskrant\; obtuvo la Menci&oacute\;n Especial del jur
 ado del Independent Foreign Fiction Prize\; qued&oacute\; finalista del Pr
 emio R&oacute\;mulo Gallegos\; y alcanz&oacute\; la shortlist del Internat
 ional IMPAC Dublin Literary Award. Su novela 'Hablar solos' (Alfaguara\, 2
 012)\, fue elegida entre los mejores libros del a&ntilde\;o por el diario 
 La Vanguardia\; nominada al International IMPAC Dublin Literary Award\, al
  Best Translated Book Award y al Oxford-Weidenfeld Translation Prize\; y s
 eleccionada como n&uacute\;mero 1 entre los 20 mejores libros del a&ntilde
 \;o por Typographical Era.\n&nbsp\;\nAndr&eacute\;s Neuman regresa a la li
 teratura con 'Fractura'\, novela que presentar&aacute\; este jueves 10 de 
 mayo en el contexto del afamado ciclo 'La Ciudad y Las Palabras'. El prota
 gonista de 'Fractura' es un anciano llamado Watanabe\, superviviente direc
 to del desastre de Hiroshima\, en el cual muri&oacute\; su padre\, y de Na
 gasaki\, donde perdi&oacute\; al resto de su familia. El accidente nuclear
  de Fukushima\, ocurrido en 2011 y generado por el terremoto y tsunami de 
 Jap&oacute\;n oriental\, reactiva su herida y el recuerdo doloroso de su p
 asado.\n&nbsp\;\nInscripciones_\nLa entrada es liberada\, con cupos limita
 dos y previa inscripci&oacute\;n al correo&nbsp\;lvillarr@uc.cl\n&nbsp\;\n
 Fecha_\nJueves 10 de Mayo de 2018\, 19.00 hrs.\n&nbsp\;\n&nbsp\;\nLugar_\n
 Auditorio FADEU. Campus Lo Contador. El Comendador 1916\, Providencia.\n&n
 bsp\;\n&nbsp\;\nInvitan_Doctorado en Arquitectura y Estudios Urbanos UC.\n
 &nbsp\;\n&nbsp\;\nOrganizan_\nAngloAmericanLa TerceraTironi AsociadosIMELL
 ibrer&iacute\;as UC\n&nbsp\;\n https://fadeu-old.urantiacos.cl/agenda/even
 to/1527-la-ciudad-y-las-palabras-fractura-andres-neuman
DTSTART:20180510T220000Z
DTEND:20180510T230000Z
LOCATION:Auditorio FADEU\, Campus Lo Contador PUC (El Comendador 1916\, Pro
 videncia\, Providencia\, Región Metropolitana\, Chile)
SUMMARY:La Ciudad y Las Palabras / 'Fractura'\, Andrés Neuman
URL:https://fadeu-old.urantiacos.cl/agenda/evento/1527-la-ciudad-y-las-pala
 bras-fractura-andres-neuman
END:VEVENT
BEGIN:VEVENT
UID:20260420T222458UTC-7098M005Te@https://fadeu-old.urantiacos.cl/
DTSTAMP:20260420T222458Z
DESCRIPTION:Sebasti&aacute\;n Adamo\, socio fundador de Adamo-Faiden Arquit
 ectos\, liderar&aacute\; durante&nbsp\;abril y mayo uno de los Workshops T
 ES 2018. &Eacute\;ste finalizar&aacute\; con una charla&nbsp\;magistral ab
 ierta a todo p&uacute\;blico.\n&nbsp\;\nWorkshop 2 W2Mis cosas &iquest\;Mi
  casa?Cultura material\, domesticidad e indeterminaci&oacute\;n en la ciud
 ad contempor&aacute\;nea&nbsp\;Sebasti&aacute\;n Adamo - Adamo Faiden\, Ar
 gentina.\n&nbsp\;\nHip&oacute\;tesisTenemos bastante claro que libros\, mu
 ebles o prendas nos acompa&ntilde\;ar&aacute\;n el resto&nbsp\;de nuestros
  d&iacute\;as pero no podemos determinar con certeza d&oacute\;nde ni c&oa
 cute\;mo lo&nbsp\;har&aacute\;n... La indeterminaci&oacute\;n\, precisamen
 te\, ha ido avanzando lentamente sobre&nbsp\;todo aquello que ten&iacute\;
 amos aprendido sobre el espacio dom&eacute\;stico. La velocidad con&nbsp\;
 la que nuestro sistema de objetos experimenta cambios de formato sin prese
 ncia&nbsp\;f&iacute\;sica nos obliga a imaginar nuevos escenarios habitabl
 es. La imagen asociada a la&nbsp\;vivienda o su correlato tipol&oacute\;gi
 co ha perdido peso al mismo tiempo que las&nbsp\;actividades que contiene 
 se han diversificado. Su organizaci&oacute\;n ha dejado de&nbsp\;responder
  a un&nbsp\; programa funcional ahora desbordado e inestable y su proyecci
 &oacute\;n&nbsp\;en el tiempo se ha relativizado al momento que tener una 
 casa para toda la vida ya&nbsp\;no resulta tan tranquilizador como sol&iac
 ute\;a serlo.\n&nbsp\;\nSebasti&aacute\;n Adamo\nNaci&oacute\; en Buenos A
 ires en el a&ntilde\;o 1977. Realiz&oacute\; sus estudios de grado en la F
 acultad de Arquitectura\, Dise&ntilde\;o y Urbanismo de la&nbsp\;Universid
 ad de Buenos Aires (FADU-UBA) y de posgrado en la Escuela T&eacute\;cnica 
 Superior de Arquitectura de Barcelona de la&nbsp\;Universidad Polit&eacute
 \;cnica de Catalunya (ETSAB-UPC). Fue profesor de proyectos en la FADU-UBA
  y en la Universidad Torcuato Di&nbsp\;Tella. Fue invitado a brindar curso
 s y conferencias en numerosas instituciones\, incluyendo el Royal Institut
 e of British&nbsp\;Architects en Londres\, el Illinois Institute of Techno
 logy College of Architecture de Chicago\, la &Eacute\;cole Polytechnique F
 &eacute\;d&eacute\;rale de&nbsp\;Lausanne\, la Fondazione dell&acute\;Ordi
 ne degli Architetti de Milan\, la Escuela T&eacute\;cnica Superior de Arqu
 itectura de Madrid y la&nbsp\;Pontificia Universidad Cat&oacute\;lica de C
 hile. En la actualidad dirige junto a Marcelo Faiden y Ricardo Fernandez R
 ojas el &ldquo\;Taller de&nbsp\;Actualizaci&oacute\;n de T&eacute\;cnicas 
 Proyectuales&rdquo\;.\n&nbsp\;&nbsp\;\nAdamo-Faiden\nEs un estudio de arqu
 itectura fundado en Buenos Aires en el a&ntilde\;o 2005 por Sebasti&aacute
 \;n Adamo y Marcelo Faiden. Su pr&aacute\;ctica se extiende al campo de la
  docencia y la investigaci&oacute\;n\, y ha sido reconocida internacionalm
 ente por distintos medios e instituciones. Sus trabajos fueron expuestos e
 n el Museo Guggenheim de New York\, en la Bienal de Arquitectura de Veneci
 a\, en el espacio LIGA Arquitectura de Mexico\, en el Centro Cultural de E
 spa&ntilde\;a en Buenos Aires y en el Storefront for Art &amp\; Architectu
 re de New York. Tres publicaciones monogr&aacute\;ficas compilaron la obra
  de adamo-faiden\, una de ellas publicada por la editorial 1:100 de Buenos
  Aires\, otra por la revista 2G de Gustavo Gili en Barcelona y la primera 
 de ellas por la Editorial ARQ de la Pontificia Universidad Cat&oacute\;lic
 a de Chile. Fueron premiados con la &ldquo\;Medalla de Oro&rdquo\; en la X
 II Bienal Internacional de Arquitectura de Buenos Aires y recibieron el pr
 emio &ldquo\;Pol&iacute\;ticas de oficio\, tradici&oacute\;n e innovaci&oa
 cute\;n&rdquo\; en la la I Bienal Internacional de Arquitectura de Argenti
 na.\n&nbsp\;\n&nbsp\;\nFecha_\n09 de Mayo de 2018\, 19.00 hrs.\n&nbsp\;\nO
 rganizan_\nMag&iacute\;ster en Arquitectura UC\n&nbsp\;\nPrograma_\nLink&n
 bsp\;al programa del Workshop\n&nbsp\;\n\n&nbsp\; https://fadeu-old.uranti
 acos.cl/agenda/evento/1526-conferencia-sebastian-adamo-marq
DTSTART:20180509T220000Z
DTEND:20180509T230000Z
LOCATION:Auditorio Fernando Castillo Velasco. Edificio ARQ (El Comendador 1
 936\, Providencia\, Región Metropolitana\, Chile)
SUMMARY:Conferencia Sebastián Adamo / MARQ
URL:https://fadeu-old.urantiacos.cl/agenda/evento/1526-conferencia-sebastia
 n-adamo-marq
END:VEVENT
BEGIN:VEVENT
UID:20260420T222458UTC-7110MitGe9@https://fadeu-old.urantiacos.cl/
DTSTAMP:20260420T222458Z
DESCRIPTION:Los Programas de Mag&iacute\;ster en Patrimonio Cultural y Mag&
 iacute\;ster en Proyecto Urbano y el Centro del Patrimonio Cultural de la 
 Pontificia Universidad Cat&oacute\;lica de Chile\, junto a Fundaci&oacute\
 ;n Paz Ciudadana\, invitan al Seminario Interdisciplinario PATRIMONIO\, PO
 L&Iacute\;TICAS Y CIUDAD'.\n&nbsp\;\n&nbsp\;\nLa presente actividad preten
 de constituirse en un &aacute\;mbito de reflexi&oacute\;n interdisciplinar
 ia donde analizar la relaci&oacute\;n entre las pol&iacute\;ticas p&uacute
 \;blicas\, los proyectos urbanos y la conservaci&oacute\;n del patrimonio 
 en las ciudades. La recuperaci&oacute\;n de centros hist&oacute\;ricos dep
 ende de una buena gesti&oacute\;n p&uacute\;blica y al mismo tiempo de bue
 nos proyectos urbanos\, que logren conservar el patrimonio y al mismo tiem
 po modernizar la infraestructura de la ciudad\, el transporte y los espaci
 os p&uacute\;blicos.\n&nbsp\;\n&nbsp\;\nConferencia realizada con el aport
 e de la Vicerrector&iacute\;a de Investigaci&oacute\;n de la Pontificia Un
 iversidad Cat&oacute\;lica de Chile.\n&nbsp\;\n&nbsp\;\nEntrada liberada. 
 Cupos limitados.\n&nbsp\;\n&nbsp\;\nConfirmar asistencia al correo&nbsp\;m
 agisterpatrimonio@uc.cl\n&nbsp\;\n&nbsp\;\nFecha_\nMi&eacute\;rcoles 09 de
  Mayo de 2018\, 8.45 - 13.00 hrs.\, Primer Bloque\, 15.00 - 19.30 hrs.\, S
 egundo Bloque.&nbsp\;\n&nbsp\;\n&nbsp\;\nLugar_\nAuditorio Fernando Castil
 lo Velasco del campus Lo Contador. El Comendador 1936\, Providencia.&nbsp\
 ;\n&nbsp\;\n&nbsp\;\nOrganizan_\nMag&iacute\;ster en Patrimonio Cultural U
 C\nMag&iacute\;ster en Proyecto Urbano UC\nFundaci&oacute\;n Paz Ciudadana
 \nCentro del Patrimonio Cultural de la Pontificia Universidad Cat&oacute\;
 lica de Chile\n&nbsp\;\nLink_\nhttp://magisterpatrimonio.uc.cl/noticias/42
 9-invitacion-seminario-interdisciplinario-patrimonio-politicas-y-ciudad\n&
 nbsp\;\n https://fadeu-old.urantiacos.cl/agenda/evento/1532-seminario-patr
 imonio-politicas-y-ciudad-mapc-mpur-centro-del-patrimonio-cultural
DTSTART:20180509T114500Z
DTEND:20180509T160000Z
LOCATION:Auditorio Fernando Castillo Velasco. Edificio ARQ (El Comendador 1
 936\, Providencia\, Región Metropolitana\, Chile)
SUMMARY:Seminario Patrimonio\, Políticas y Ciudad /MAPC + MPUR + Centro del
  Patrimonio Cultural
URL:https://fadeu-old.urantiacos.cl/agenda/evento/1532-seminario-patrimonio
 -politicas-y-ciudad-mapc-mpur-centro-del-patrimonio-cultural
END:VEVENT
BEGIN:VEVENT
UID:20260420T222458UTC-7117Gtw2md@https://fadeu-old.urantiacos.cl/
DTSTAMP:20260420T222458Z
DESCRIPTION:El estudio de arquitectura Harquitectes realizar&aacute\; tres 
 conferencias\, dos en la Pontificia Universidad Cat&oacute\;lica de Chile 
 y una en la Universidad Mayor\, los d&iacute\;as 8\, 9 y 10 de mayo.\nHARQ
 UITECTES\nHARQUITECTES es un estudio de arquitectura fundado en el 2000 si
 tuado en Sabadell (Barcelona) y dirigido por cuatro arquitectos asociados:
  David Lorente Ib&aacute\;&ntilde\;ez (Granollers\, 1972)\, Josep Ricart U
 lldemolins (Cerdanyola del Vall&egrave\;s\, 1973)\, Xavier Ros Maj&oacute\
 ; (Sabadell \, 1972) y Roger Tud&oacute\; Gal&iacute\; (Terrassa\, 1973). 
 Licenciados en la Escuela T&eacute\;cnica Superior Arquitectura del Vall&e
 acute\;s entre 1998 y 2000\, donde Josep y Roger ejercen como profesores d
 e proyectos y construcci&oacute\;n respectivamente. Xavier Ros ejerce de p
 rofesor de proyectos en la ETSA de Barcelona.Su obra ha merecido el recono
 cimiento de varios premios &ndash\;tanto por obra construida c&oacute\;mo 
 en concursos de ideas- y la publicaci&oacute\;n en medios nacionales e int
 ernacionales\, habiendo sido seleccionados en distintas exposiciones e inv
 itados como conferenciantes en Europa y Am&eacute\;rica.\nConferencias en 
 la Pontificia Universidad Cat&oacute\;lica de Chile\n(1) Harquitectes / So
 bre Pre-existenciasJueves 10 de Mayo\, 19.00hAuditorio FADEU. Campus Lo Co
 ntador. El Comendador 1916\, Providencia.Organizan: U. Mayor + EARQ UC + M
 APC\n&nbsp\;\n https://fadeu-old.urantiacos.cl/agenda/evento/1534-harquite
 ctes-3-conferencias
DTSTART:20180509T030000Z
LOCATION:Auditorio FADEU\, Campus Lo Contador PUC (El Comendador 1916\, Pro
 videncia\, Providencia\, Región Metropolitana\, Chile)
SUMMARY: HARQUITECTES / 3 Conferencias
URL:https://fadeu-old.urantiacos.cl/agenda/evento/1534-harquitectes-3-confe
 rencias
END:VEVENT
BEGIN:VEVENT
UID:20260420T222458UTC-7123Bup6Ap@https://fadeu-old.urantiacos.cl/
DTSTAMP:20260420T222458Z
DESCRIPTION:El arquitecto Giancarlo Mazzanti realizar&aacute\; una charla m
 agistral titulada 'Juegos y juguetes en la obra del equipo Mazzanti'.\nGia
 ncarlo Mazzanti\nArquitecto (1987) Universidad Javeriana de Bogot&aacute\;
 . Posgrado en historia y teor&iacute\;a de la Arquitectura 1991\, Universi
 dad de Florencia. Posgrado en Historia y Teor&iacute\;a de la Arquitectura
  y Dise&ntilde\;o Industrial 1992\, Universidad de Florencia. En 2006 obtu
 vo el primer premio en la categor&iacute\;a de Dise&ntilde\;o Urbano y Pai
 saje en la X Bienal de Arquitectura Venecia.\nSocio fundador de&nbsp\;Equi
 po Mazzanti\, estudio de dise&ntilde\;o colombiano que se especializa en e
 l dise&ntilde\;o arquitect&oacute\;nico social y la investigaci&oacute\;n 
 acad&eacute\;mica\, con m&aacute\;s de veinticinco a&ntilde\;os de experie
 ncia.\nFecha_\nMartes 08 de Mayo de 2018\, 19.00 hrs\nLugar_\nAuditorio Fe
 rnando Catillo Velasco. El Comendador 1936\, Providencia.\nOrganizan_\nHug
 o Mondrag&oacute\;n\n&nbsp\;\n https://fadeu-old.urantiacos.cl/agenda/even
 to/1529-conferencia-giancarlo-mazzanti
DTSTART:20180508T220000Z
DTEND:20180508T230000Z
LOCATION:Auditorio Fernando Castillo Velasco. Edificio ARQ (El Comendador 1
 936\, Providencia\, Región Metropolitana\, Chile)
SUMMARY:Conferencia: GIANCARLO MAZZANTI
URL:https://fadeu-old.urantiacos.cl/agenda/evento/1529-conferencia-giancarl
 o-mazzanti
END:VEVENT
BEGIN:VEVENT
UID:20260420T222458UTC-71286KG9dW@https://fadeu-old.urantiacos.cl/
DTSTAMP:20260420T222458Z
DESCRIPTION:SeminarioCambio Clim&aacute\;tico: Desaf&iacute\;os de Dise&nti
 lde\;o y Gobernanza\n&nbsp\;\n&nbsp\;\nEl Cambio Clim&aacute\;tico es una 
 realidad que exige un vuelco en la forma en que concebimos nuestros espaci
 os p&uacute\;blicos e infraestructuras. El seminario pretende visibilizar 
 diferentes aproximaciones al CC\, con un enfoque en los principales desaf&
 iacute\;os y nuevos paradigmas en el &aacute\;mbito del dise&ntilde\;o y l
 a gobernanza de nuestras ciudades y territorios\, entendiendo que nuestras
  disciplinas tienen una gran incidencia en el entorno construido y en la m
 anipulaci&oacute\;n del paisaje natural\, tanto para la adaptaci&oacute\;n
  frente a las consecuencias del CC\, como en la mitigaci&oacute\;n de las 
 emisiones que amplifican sus efectos. Por otro lado\, el fen&oacute\;meno 
 del CC nos confronta con problem&aacute\;ticas urbanas estructurales como 
 la desigual distribuci&oacute\;n de espacios p&uacute\;blicos e infraestru
 ctura dentro de las ciudades\, la falta de acceso a servicios b&aacute\;si
 cos\, la vulnerabilidad de los grupos socioecon&oacute\;micos m&aacute\;s 
 bajos ante eventos clim&aacute\;ticos extremos\, la fragmentaci&oacute\;n 
 de las ciudades y la desconexi&oacute\;n de nuestras sociedades con el med
 io natural.\n&nbsp\;\nEl Seminario se enmarca en el curso OPR transversal 
 &ldquo\;Espacios P&uacute\;blicos e Infraestructuras para el Cambio Clim&a
 acute\;tico&rdquo\; a cargo de los profesores Macarena Gaete y Tom&aacute\
 ;s G&oacute\;mez. Cuenta con el apoyo del Mag&iacute\;ster en Proyecto Urb
 ano\, el Magister en Arquitectura del Paisaje y el Mag&iacute\;ster en Arq
 uitectura Sustentable y Energ&iacute\;a. Colabora el Laboratorio de Ciudad
  &amp\; Movilidad UC.\n&nbsp\;\n&nbsp\;\nPrograma_\n&nbsp\;\n&nbsp\;\n\n9.
 15 - 9.45: Hern&aacute\;n Silva / Climate Reality.10.00 - 10.45: Hugo Rome
 ro\, Universidad de Chile.11.00 - 11.20: Comentarios y Preguntas.11.20 - 1
 1.40: Coffee Break.11.40 - 12.10: Paola Alfaro - TU Berl&iacute\;n.12.30 -
  13.00: Jordan Harris - Adapt Chile.13.00 - 13.30: Comentarios y Preguntas
  finales.\n\n&nbsp\;\nConferencistas_\n&nbsp\;\n&nbsp\;\nProf. Hugo Romero
 .Doctor en Geograf&iacute\;a y Ordenaci&oacute\;n del Territorio de la Uni
 versidad de Zaragoza\, Espa&ntilde\;a y posee el grado de Master en Manejo
  de Recursos Naturales de la University of Cranfield\, Reino Unido. Es Pro
 fesor Asociado en el Departamento de Geograf&iacute\;a de la Universidad d
 e Chile\, y se desempe&ntilde\;a como Director del Laboratorio de Territor
 io y Medio Ambiente. Su &aacute\;rea de investigaci&oacute\;n se vincula a
  temas medioambientales asociados a conflictos de exclusi&oacute\;n y segr
 egaci&oacute\;n social\, sustentabilidad\, justicia socioambiental\, calid
 ad de vida e impacto del desarrollo urbano y de espacios rurales.\nJordan 
 Harris.\nBachiller en Sociolog&iacute\;a/Ciencia Pol&iacute\;tica de la Un
 iversity of Illinois&mdash\;UC\, EEUU. Egresado del Mag&iacute\;ster en So
 ciolog&iacute\;a\, Instituto de Sociolog&iacute\;a PUC-Chile. Jordan fue I
 nvestigador y Profesor Adjunto del Instituto de Estudios Urbanos y Territo
 riales de la PUC. Ha participado en varios proyectos de investigaci&oacute
 \;n y consultor&iacute\;as sobre adaptaci&oacute\;n al cambio clim&aacute\
 ;tico\, entre los que destaca su responsabilidad en el proceso participati
 vo para la generaci&oacute\;n del Plan de Adaptaci&oacute\;n al Cambio Cli
 m&aacute\;tico para la Regi&oacute\;n Metropolitana de Santiago de Chile\,
  en el contexto del proyecto internacional &ldquo\;Clima Adaptaci&oacute\;
 n Santiago&rdquo\; (CAS). Actualmente es miembro de la nueva comisi&oacute
 \;n asesora presidencial de cambio clim&aacute\;tico.\n&nbsp\;\n&nbsp\;\nD
 r. Paola Alfaro D&acute\;Alencon. TU Berl&iacute\;n.Doctora en Filosof&iac
 ute\;a en Estudios Urbanos de la Universidad Tecnol&oacute\;gica de Berl&i
 acute\;n (TU Berlin)\, Magister en Arquitectura y Dise&ntilde\;o Urbano de
  la Universidad Tecnol&oacute\;gica de Berl&iacute\;n (TU Berl&iacute\;n).
  Miembro fundador y directora de proyectos del Urban Research and Design L
 aboratory (U-Lab) de la Universidad Tecnol&oacute\;gica de Berl&iacute\;n 
 (TU-Berl&iacute\;n). Investigadora y profesora senior de la unidad de h&aa
 cute\;bitat de la Universidad Tecnol&oacute\;gica de Berl&iacute\;n (TU-Be
 rlin). Fue investigadora invitada en la Pontificia Universidad Cat&oacute\
 ;lica de Chile.\nIng. Hern&aacute\;n Silva. Climate Reality Project.Ingeni
 ero experto en Movilidad\, impulsor de la bicicleta y la caminata. Miembro
  de Climate Reality Leadership Corps. Fundaci&oacute\;n dirigida por Al Go
 re que est&aacute\; dedicada a combatir el cambio clim&aacute\;tico. Traba
 ja en Tecnolog&iacute\;a Sustentable y es socio director y gerente de proy
 ectos de la Consultora Urbanismo y Territorio Ltda. Trabaja como ingeniero
  en tr&aacute\;nsito en la municipalidad de Providencia\, destacando su pa
 rticipaci&oacute\;n en gestiones multidisciplinarias de desarrollo urbano 
 y medio ambiente. Fue miembro de la Secretar&iacute\;a de Planificaci&oacu
 te\;n de Transporte SECTRA\, en donde fue el creador de la unidad de Urban
 ismo y Transporte.\n&nbsp\;\n&nbsp\;\nFecha_Martes 08 de Mayo de 2018\, 9.
 00 a 13.30 hrs.\n&nbsp\;\n&nbsp\;\nLugar_Auditorio de Arquitectura Fernand
 o Castillo Velasco.&nbsp\;El Comendador 1936\, Providencia.\n&nbsp\;\n&nbs
 p\;\nOrganizan_Mag&iacute\;ster en Proyecto UrbanoMag&iacute\;ster en Arqu
 itectura del PaisajeMag&iacute\;ster en Arquitectura Sustentable y Energ&i
 acute\;aEscuela de Arquitectura UCLaboratorio de Ciudad &amp\; Movilidad U
 C\n&nbsp\;\n https://fadeu-old.urantiacos.cl/agenda/evento/1530-cambio-cli
 matico-desafios-de-diseno-y-gobernanza
DTSTART:20180508T120000Z
DTEND:20180508T163000Z
LOCATION:Auditorio Fernando Castillo Velasco. Edificio ARQ (El Comendador 1
 936\, Providencia\, Región Metropolitana\, Chile)
SUMMARY:'Cambio Climático: Desafíos de Diseño y Gobernanza'
URL:https://fadeu-old.urantiacos.cl/agenda/evento/1530-cambio-climatico-des
 afios-de-diseno-y-gobernanza
END:VEVENT
END:VCALENDAR
