BEGIN:VCALENDAR
VERSION:2.0
PRODID:-//https://fadeu-old.urantiacos.cl///NONSGML kigkonsult.se iCalcreator 2.10.15//
METHOD:PUBLISH
BEGIN:VEVENT
UID:20260423T174259UTC-3771Utj1cw@https://fadeu-old.urantiacos.cl/
DTSTAMP:20260423T174259Z
DESCRIPTION:Debate sobre los posibles alcances de la Ley de Aportes\nEl Mag
 ister en Proyecto Urbano invita cordialmente al debate sobre los posibles 
 alcances de la Ley de Aportes. Se discutir&aacute\; sobre casos concretos 
 y las oportunidades que brindan las normativas de incentivo\, de mitigaci&
 oacute\;n y las gu&iacute\;as de dise&ntilde\;o.\nLos invitamos a una sesi
 &oacute\;n este Viernes 12 de mayo 2017 a las 11:00 y hasta las 14:00 hora
 s en el Auditorio de la Escuela de Arquitectura. El Comendador 1916 Edific
 io de Arquitectura\, cuarto piso.\nPrograma\n11:00 Presentaci&oacute\;n de
 l Debate: El binomio Densidad-Espacio P&uacute\;blico. Elke Schlack y Caro
 lina Fari&ntilde\;a\n11:15 Las gu&iacute\;as de dise&ntilde\;o y los compo
 nentes urbanos Alvaro Arancibia11:45 Reflexiones desde casos diversos Kare
 n Ponce y Francisca Petrasic alumnos MPUR\n12:15 Los desaf&iacute\;os de l
 a regeneraci&oacute\;n de Avda. Los Morros. El BosqueRosanna Forray\n12:45
  Panel de discusi&oacute\;nPablo Contrucci MINVULuis Eduardo Bresciani CND
 UDaniel Opazo UChile\n13:15 Preguntas del p&uacute\;blico\n13:45 Cierre\nI
 nvitaMPUR UC\n+ Inscripciones y consultas eschlack@uc.cl\n&nbsp\;\n&nbsp\;
 \n https://fadeu-old.urantiacos.cl/agenda/evento/965-debate-sobre-ley-de-a
 portes
DTSTART:20170512T140000Z
DTEND:20170512T170000Z
LOCATION:Auditorio Arquitectura UC\, Campus Lo Contador (el comendador 1916
 \, providencia)
SUMMARY:Debate sobre Ley de Aportes
URL:https://fadeu-old.urantiacos.cl/agenda/evento/965-debate-sobre-ley-de-a
 portes
END:VEVENT
BEGIN:VEVENT
UID:20260423T174259UTC-3776vu9E8u@https://fadeu-old.urantiacos.cl/
DTSTAMP:20260423T174259Z
DESCRIPTION:El MBVM invita al lanzamiento de su cuarta y &uacute\;ltima pub
 licaci&oacute\;n del 'Seminario Santiago\, lecciones desde la ciudad de Be
 njam&iacute\;n Vicu&ntilde\;a Mackenna'.\nEl libro 'IV Seminario Santiago\
 , lecciones desde la ciudad de Benjam&iacute\;n Vicu&ntilde\;a Mackenna' e
 s una compilaci&oacute\;n de once art&iacute\;culos en torno a Santiago\, 
 escritos por las y los acad&eacute\;micos\, especialistas y ciudadanos que
  participaron como expositores en el Seminario del mismo nombre realizado 
 en 2015.\nEn esta oportunidad\, el Museo Benjam&iacute\;n Vicu&ntilde\;a M
 ackenna estableci&oacute\; como tem&aacute\;ticas de reflexi&oacute\;n los
  l&iacute\;mites f&iacute\;sicos y simb&oacute\;licos de la ciudad\; la in
 fluencia de los inmigrantes en la transformaci&oacute\;n de la urbe\; la c
 iudad de Santiago como palimpsesto\; y el uso\, distribuci&oacute\;n y fal
 ta de agua.\nAdem&aacute\;s\, este texto se une a los tres libros correspo
 ndientes a las versiones anteriores del Seminario Santiago realizadas de f
 orma consecutiva a partir del 2012\, y se convertir&aacute\; en la cuarta 
 y &uacute\;ltima publicaci&oacute\;n de esta secuencia\, dando paso a nuev
 os formatos para pensar y repensar la ciudad.\nEl lanzamiento contar&aacut
 e\; con la presentaci&oacute\;n de Jon&aacute\;s Figueroa\, uno de los aut
 ores del libro\, quien es acad&eacute\;mico de la Escuela de Arquitectura 
 y miembro del Consejo Acad&eacute\;mico de la Universidad de Santiago de C
 hile.\n+ No se requiere inscripci&oacute\;n previa.\n https://fadeu-old.ur
 antiacos.cl/agenda/evento/961-lanzamiento-libro-iv-seminario-santiago
DTSTART:20170511T220000Z
DTEND:20170511T233000Z
LOCATION:Auditorio Museo Benjamín Vicuña Mackenna\, Vicuña Mackenna 94\, Pr
 ovidencia (Vicuña Mackenna 94\, Providencia\, Región Metropolitana\, Chile
 )
SUMMARY:Lanzamiento libro: IV Seminario Santiago
URL:https://fadeu-old.urantiacos.cl/agenda/evento/961-lanzamiento-libro-iv-
 seminario-santiago
END:VEVENT
BEGIN:VEVENT
UID:20260423T174259UTC-3782VG8TVg@https://fadeu-old.urantiacos.cl/
DTSTAMP:20260423T174259Z
DESCRIPTION:Charla presentada por la dise&ntilde\;adora y artista\, Denitsa
  Petrova\, que trabaja en el campo del arte p&uacute\;blico y los medios d
 igitales. Su investigaci&oacute\;n y pr&aacute\;ctica consideran que la We
 b Social es &uacute\;til para ampliar las posibilidades del arte p&uacute\
 ;blico al brindar una oportunidad &uacute\;nica de creatividad compartida 
 en el espacio p&uacute\;blico.\nInvita y organizaEscuela de Dise&ntilde\;o
  UC\n&nbsp\;\n https://fadeu-old.urantiacos.cl/agenda/evento/939-charla-ae
 sthetics-of-participation-in-digital-art
DTSTART:20170511T210000Z
DTEND:20170511T223000Z
LOCATION:Sala Luis Moreno\, Escuela de Diseño UC\, Campus Lo Contador (El C
 omendador 1916\, Providencia\, Región Metropolitana\, Chile)
SUMMARY:Charla 'Aesthetics of Participation in Digital Art' 
URL:https://fadeu-old.urantiacos.cl/agenda/evento/939-charla-aesthetics-of-
 participation-in-digital-art
END:VEVENT
BEGIN:VEVENT
UID:20260423T174259UTC-3785ut2ba0@https://fadeu-old.urantiacos.cl/
DTSTAMP:20260423T174259Z
DESCRIPTION:Alexia Le&oacute\;n es arquitecto graduada en la Facultad de Ar
 quitectura y Urbanismo\, Universidad Ricardo Palma en Lima (1992). Ha dedi
 cado a&ntilde\;os de investigaci&oacute\;n sobre el desierto costero perua
 no donde ha dise&ntilde\;ado y construido la mayor parte de sus proyectos.
  En 1996 funda su propio taller de arquitectura Leondelima que trabaja com
 o plataforma de investigaci&oacute\;n de arquitectura y dise&ntilde\;o en 
 el desierto y otros contextos.\nEn 1998\, su casa en Playa Bonita fue sele
 ccionada como finalista en la I Bienal de Arquitectura e Ingenier&iacute\;
 a Civil (Madrid)\, y en el a&ntilde\;o 2000\, fue finalista en el II Premi
 o Mies van der Rohe de Arquitectura Latinoamericana (2000).\nEn el &aacute
 \;mbito docente ha sido invitada a participar como profesor visitante en e
 l Graduate School of Design\, Harvard University (2007) donde dirigi&oacut
 e\; el taller de arquitectura para programas avanzados: GSD1318 Urban Dese
 rt Studio. Ha participado tambi&eacute\;n como cr&iacute\;tico de arquitec
 tura y conferencista en Sudam&eacute\;rica\, Europa\, Asia y Estados Unido
 s.\nActualmente dirige en Lima la oficina Le&oacute\;n Marcial junto a Luc
 ho Marcial\, con quien desarrolla el proyecto del nuevo Museo Nacional de 
 Arqueolog&iacute\;a del Per&uacute\;.\nInvitanMagister en Arquitectura UCV
 icerrectoria de Investigaciones\n&nbsp\;\n&nbsp\;\n\n&nbsp\; https://fadeu
 -old.urantiacos.cl/agenda/evento/941-conferencia-alexia-leon
DTSTART:20170510T213000Z
DTEND:20170510T230000Z
LOCATION:Auditorio FADEU\, Campus Lo Contador PUC (El Comendador 1916\, Pro
 videncia\, Providencia\, Región Metropolitana\, Chile)
SUMMARY:Conferencia Alexia León
URL:https://fadeu-old.urantiacos.cl/agenda/evento/941-conferencia-alexia-le
 on
END:VEVENT
BEGIN:VEVENT
UID:20260423T174259UTC-37902CUIZU@https://fadeu-old.urantiacos.cl/
DTSTAMP:20260423T174259Z
DESCRIPTION:La Facultad de Arquitectura\, Dise&ntilde\;o y Estudios Urbanos
 \, ha desarrollado la segunda versi&oacute\;n del proyecto Work in Progres
 s 2017 liderado por la acad&eacute\;mica Gloria Saravia y este a&ntilde\;o
  apoyado por el Magister en Arquitectura del Paisaje UC. Este proyecto con
 sta de una exposici&oacute\;n que convoca a artistas\, arquitectos y dise&
 ntilde\;adores\, invitados a reflexionar y trabajar un tema com&uacute\;n\
 , desde la mirada creativa de las disciplinas proyectuales. En esta oportu
 nidad el tema se ha titulado: 'Paisaje Nacional'\, donde cada invitado ten
 dr&aacute\; la oportunidad de representar su visi&oacute\;n del paisaje\, 
 nuestra territorialidad y la diversidad expresada en sus variadas manifest
 aciones culturales.\nLa exposici&oacute\;n contar&aacute\; con 5 figuras i
 nvitadas de las &aacute\;reas del arte\, el dise&ntilde\;o y la arquitectu
 ra\, los cuales formar&aacute\;n sus propios equipos de trabajo interdisci
 plinar. Para la versi&oacute\;n 2017\, los invitados son: Pezo von Ellrich
 shausen (Arquitectos) - LOFscapes (Arquitectas UC) - Teresa Gazit&uacute\;
 a (Artista Visual) - Francisca Garc&iacute\;a (Artista Visual UC) - Pedro 
 &Aacute\;lvarez (Dise&ntilde\;ador UC).\nSe contar&aacute\; adem&aacute\;s
  con la presencia de la Facultad de Arquitectura y Artes de la Universidad
  Austral de Chile\, representada por los acad&eacute\;micos Carolina Ihle\
 , Roberto Burgos y Felipe Otondo y el Magister en Arquitectura del Paisaje
  UC (MAPA)\, representado por el Jefe de Programa Osvaldo Moreno\, Alejand
 ra V&aacute\;squez\, Germ&aacute\;n Guzm&aacute\;n y Tatiana Carbonell. Fi
 nalmente hay exponen tambi&eacute\;n tres equipos de estudiantes y ex-estu
 diantes de la FADEU\; Equipo 1: Catalina Harasic\, Javiera Infante\, Romin
 a Sandrini\, Josefina Anguita\; Equipo 2: Javiera Godoy\, Daniela Basauri\
 ; Equipo 3: Consuelo Tupper\, Ignacio Torres\, Pablo Espinosa.La muestra e
 star&aacute\; abierta desde el 9 al 26 de mayo en la sala de Exposiciones 
 -2 del edificio Dise&ntilde\;o UC de 10.00 a 18.00 hrs. y estar&aacute\; a
 poyada por un ciclo de charlas que se desarrollar&aacute\;n durante mayo.
 \nPROGRAMA\nINAUGURACI&Oacute\;N WIP 2017 'Paisaje Nacional'9 de mayo | 18
 .30 hrs. Sala de Exposiciones -2 Edificio Dise&ntilde\;o UC\nCICLO DE CHAR
 LAS 2017 &ldquo\;Di&aacute\;logos en torno al Paisaje Nacional&rdquo\;\n9 
 de mayo | 13:30 hrs. Auditorio FADEU: Charla Inaugural\, Pezo von Ellrichs
 hausen&ldquo\;Transcripci&oacute\;n y Traslado&rdquo\;\n16 de mayo | 18:30
  hrs. Sal&oacute\;n Sergio Larra&iacute\;n: Mesa redonda 1\, Teresa Gazit&
 uacute\;a + Francisca Garc&iacute\;a&ldquo\;El rol del Arte en el Paisaje:
  Superando la Est&eacute\;tica'\n23 de mayo | 18:30 hrs. Sal&oacute\;n Ser
 gio Larra&iacute\;n: Mesa redonda 2\, Pedro &Aacute\;lvarez + LOFscapes&ld
 quo\;Aproximaciones desde el Dise&ntilde\;o y Arquitectura del Paisaje&rdq
 uo\;\n25 de mayo | 18:30 hrs. Sal&oacute\;n Sergio Larra&iacute\;n: Mesa r
 edonda 3\, UACH + MAPA&ldquo\;El rol de las Escuelas de Arquitectura en la
  construcci&oacute\;n del Paisaje en Chile'\n*Todas las actividades ser&aa
 cute\;n realizadas en FADEU\, Campus Lo Contador UC (El Comendador 1916 - 
 Providencia)\n+ La muestra estar&aacute\; abierta desde el 9 al 26 de mayo
  en la sala de Exposiciones -2 del Edificio Dise&ntilde\;o UC\, de 10.00 a
  18.00 hrs. y estar&aacute\; apoyado por un ciclo de charlas que se desarr
 ollar&aacute\;n durante mayo.\n+ Inscripciones Charla Inaugural aqu&iacute
 \;. Inscripciones Mesas Redondas aqu&iacute\;.\n&nbsp\;\n\n https://fadeu-
 old.urantiacos.cl/agenda/evento/879-wip-2017-inauguracion-exposicion-paisa
 je-nacional
DTSTART:20170509T213000Z
DTEND:20170509T230000Z
LOCATION:Sala de Exposiciones -2\, Edificio Diseño UC (Los Navegantes 1919\
 , Providencia\, Región Metropolitana\, Chile)
SUMMARY:WiP 2017: Inauguración Exposición 'Paisaje Nacional'
URL:https://fadeu-old.urantiacos.cl/agenda/evento/879-wip-2017-inauguracion
 -exposicion-paisaje-nacional
END:VEVENT
BEGIN:VEVENT
UID:20260423T174259UTC-3801gPMnwi@https://fadeu-old.urantiacos.cl/
DTSTAMP:20260423T174259Z
DESCRIPTION:BLIRP STUDIO es un estudio original e innovador especializado e
 n dise&ntilde\;o y animaci&oacute\;n de personajes &uacute\;nicos en Argen
 tina. Proporciona soluciones altamente creativas con una clara direcci&oac
 ute\;n art&iacute\;stica. Utiliza una amplia variedad de t&eacute\;cnicas 
 seg&uacute\;n las nuevas tendencias\, lo que hace que el resultado obtenid
 o sea notable y sobresaliente. La sede central de Blirp est&aacute\; ubica
 da en Argentina.\nEn esta charla-taller\, Blirp Studio nos presentar&aacut
 e\; el proceso de trabajo que desarrollan para la realizaci&oacute\;n de u
 na producci&oacute\;n animada. Realizar&aacute\;n una descripci&oacute\;n 
 detallada de los pasos involucrados en la creaci&oacute\;n de sus proyecto
 s\, abordando desde la concepci&oacute\;n del gui&oacute\;n\, la visualida
 d y el modelamiento\, entre otros aspectos tanto t&eacute\;cnicos como con
 ceptuales.\nContenidos\nA. Pasos para realizar una producci&oacute\;n anim
 ada.\nB. Sobre Blirp studio.\n1. Concepci&oacute\;n del gui&oacute\;n gr&a
 acute\;fico\n\nAnim&aacute\;tica: producci&oacute\;n de gui&oacute\;n gr&a
 acute\;fico animado: Pasaje del Story Board a anim&aacute\;tica. Planos. T
 ransiciones.\n\n2. Generaci&oacute\;n de la est&eacute\;tica del mundo.\n
 \nDefinici&oacute\;n de sistema gr&aacute\;fico: formas\, nivel de simplif
 icaci&oacute\;n\, paleta\, tipograf&iacute\;a.\nDise&ntilde\;o de personaj
 es\, veh&iacute\;culos\, edificaciones y armas.Elecci&oacute\;n de la tecn
 olog&iacute\;a pertinente de acuerdo a la est&eacute\;tica planteada y los
  recursos disponibles\, toma por toma.\n\n3. Pasaje de los dise&ntilde\;os
  a tres dimensiones\n\nModelado\, Shaders. Rigging: Definici&oacute\;n de 
 tipo de rigging\n\n4. Animaci&oacute\;n\n\nGeneraci&oacute\;n de pautas de
  animaci&oacute\;n. Generaci&oacute\;n de cuadros principales y secundario
 s.\nAnimaci&oacute\;n Bidimensional cuadro a cuadro.\nComposici&oacute\;n.
 \nRender de animaci&oacute\;n en passes: Programas inform&aacute\;ticos ut
 ilizados.\nGeneraci&oacute\;n de matte paintings\nComposici&oacute\;n de t
 odos los elementos: Passes\, matte painting y animaci&oacute\;n tradiciona
 l.\n\n&nbsp\;\n\n&nbsp\; https://fadeu-old.urantiacos.cl/agenda/evento/935
 -conferencia-blirp-studio-proceso-creativo-y-animacion
DTSTART:20170509T210000Z
DTEND:20170509T223000Z
LOCATION:Sala 17 Casona\, Campus Lo Contador (El Comendador 1916\, Providen
 cia\, Región Metropolitana\, Chile)
SUMMARY:Conferencia 'BLIRP STUDIO: proceso creativo y animación'
URL:https://fadeu-old.urantiacos.cl/agenda/evento/935-conferencia-blirp-stu
 dio-proceso-creativo-y-animacion
END:VEVENT
BEGIN:VEVENT
UID:20260423T174259UTC-3809RVOMmf@https://fadeu-old.urantiacos.cl/
DTSTAMP:20260423T174259Z
DESCRIPTION:Esta segunda versi&oacute\;n de FADEU Work in Progress 2017\, c
 elebra al Paisaje Nacional como tem&aacute\;tica transversal y de amplio c
 ontexto. Cada arquitecto\, artista y dise&ntilde\;ador invitado\, tiene la
  oportunidad de representar a trav&eacute\;s de su mirada creadora su visi
 &oacute\;n del paisaje\, nuestra territorialidad y la diversidad expresada
  en sus variadas manifestaciones culturales.\nA trav&eacute\;s de instalac
 iones desplegadas en nuestro campus podremos apreciar esta innovadora expo
 sici&oacute\;n que en sus principios fundacionales\, celebra a todas las a
 rtes proyectuales.\nDesde un enfoque abierto a la interdisciplina nuestra 
 Facultad de Arquitectura\, Dise&ntilde\;o y Estudios Urbanos ofrece sus es
 pacios a las m&aacute\;s diversas expresiones pl&aacute\;sticas. Los invit
 amos a visitar esta muestra.\n&nbsp\;\nINAUGURACI&Oacute\;N WIP 2017 'Pais
 aje Nacional'\, 9 de mayo | 18.30 hrs. Sala de Exposiciones -2 Edificio Di
 se&ntilde\;o UC. Inscripiciones aqu&iacute\;.&nbsp\;\nPROGRAMA CICLO DE CH
 ARLAS 2017 &ldquo\;Di&aacute\;logos en torno al Paisaje Nacional&rdquo\;. 
 Inscripciones aqu&iacute\;.\n9 de mayo | 13:30 hrs. Auditorio FADEU: Charl
 a Inaugural\, Pezo von Ellrichshausen&ldquo\;Transcripci&oacute\;n y Trasl
 ado&rdquo\;\n16 de mayo | 18:30 hrs. Sal&oacute\;n Sergio Larra&iacute\;n:
  Mesa redonda 1\, Teresa Gazit&uacute\;a + Francisca Garc&iacute\;a&ldquo\
 ;El rol del Arte en el Paisaje: Superando la Est&eacute\;tica'\n23 de mayo
  | 18:30 hrs. Sal&oacute\;n Sergio Larra&iacute\;n: Mesa redonda 2\, Pedro
  &Aacute\;lvarez + LOFscapes&ldquo\;Aproximaciones desde el Dise&ntilde\;o
  y Arquitectura del Paisaje&rdquo\;\n25 de mayo | 18:30 hrs. Sal&oacute\;n
  Sergio Larra&iacute\;n: Mesa redonda 3\, UACH + MAPA&ldquo\;El rol de las
  Escuelas de Arquitectura en la construcci&oacute\;n del Paisaje en Chile'
 &nbsp\;\n*Todas las actividades ser&aacute\;n realizadas en FADEU\, Campus
  Lo Contador UC (El Comendador 1916 - Providencia)\n&nbsp\;\n\n&nbsp\; htt
 ps://fadeu-old.urantiacos.cl/agenda/evento/867-wip-2017-charla-inaugural-t
 ranscripcion-y-traslado-con-pezo-von-ellrichshausen
DTSTART:20170509T163000Z
DTEND:20170509T180000Z
LOCATION:Auditorio FADEU\, Campus Lo Contador PUC (El Comendador 1916\, Pro
 videncia\, Providencia\, Región Metropolitana\, Chile)
SUMMARY:WiP 2017: Charla Inaugural “Transcripción y Traslado”\, con Pezo vo
 n Ellrichshausen 
URL:https://fadeu-old.urantiacos.cl/agenda/evento/867-wip-2017-charla-inaug
 ural-transcripcion-y-traslado-con-pezo-von-ellrichshausen
END:VEVENT
BEGIN:VEVENT
UID:20260423T174259UTC-38169I9FHx@https://fadeu-old.urantiacos.cl/
DTSTAMP:20260423T174259Z
DESCRIPTION:En el marco del curso &ldquo\;Investigaci&oacute\;n etnogr&aacu
 te\;fica y dise&ntilde\;o&rdquo\;\, dictado por los profesores Dise&ntilde
 \;o UC&nbsp\;Martin Tironi y Gerardo Mora se presentar&aacute\; la charla 
 &iexcl\;El gran p&aacute\;jaro te est&aacute\; mirando! Arte\, activismo y
  tecnolog&iacute\;a en la arena p&uacute\;blica\, que presentar&aacute\; D
 enitsa Petrova\, dise&ntilde\;adora\, artista y profesora de la Universida
 d de Edimburgo.\nDesde una comprensi&oacute\;n orwelliana de la ciudad con
 tempor&aacute\;nea\, esta charla discute una selecci&oacute\;n de ejemplos
  que ilustran\, de manera ingeniosa y l&uacute\;dica\, las t&aacute\;ctica
 s y m&eacute\;todos utilizados por los artistas y colectivos de arte para 
 reestructurar nuestras ciudades y sensibilizar al p&uacute\;blico en gener
 al sobre lo que est&aacute\; sucediendo con nuestro espacio p&uacute\;blic
 o hoy en d&iacute\;a.\n&nbsp\;\n https://fadeu-old.urantiacos.cl/agenda/ev
 ento/925-charla-el-gran-pajaro-te-esta-mirando
DTSTART:20170509T130000Z
DTEND:20170509T143000Z
LOCATION:Auditorio sur\, Campus Lo Contador (El Comendador 1916\, Providenc
 ia\, Región Metropolitana\, Chile)
SUMMARY:Charla '¡El gran pájaro te está mirando!'
URL:https://fadeu-old.urantiacos.cl/agenda/evento/925-charla-el-gran-pajaro
 -te-esta-mirando
END:VEVENT
END:VCALENDAR
