BEGIN:VCALENDAR
VERSION:2.0
PRODID:-//https://fadeu-old.urantiacos.cl///NONSGML kigkonsult.se iCalcreator 2.10.15//
METHOD:PUBLISH
BEGIN:VEVENT
UID:20260420T032255UTC-5461s8LKKX@https://fadeu-old.urantiacos.cl/
DTSTAMP:20260420T032255Z
DESCRIPTION:Charlas magistrales dictadas en el marco del 'Taller integrado 
 de vivienda colectiva: regeneraci&oacute\;n barrial a escala humana' desar
 rollado entre la Escuela de Arquitectura UC y la Facultad de Arquitectura 
 y Urbanismo de la Universidad de Chile durante el primer semestre de 2019.
 \n&nbsp\;\nEmanuel Giannotti: &ldquo\;Operaciones sitio&rdquo\;\n&nbsp\;\n
 \nEmanuel Giannotti es arquitecto y doctor en urbanismo por la Universidad
  IUAV de Venecia. Actualmente integra el Departamento de Urbanismo\, FAU\,
  Universidad de Chile. Expondr&aacute\; sobre las operaciones sitio\, un p
 rograma habitacional emblem&aacute\;tico del gobierno de Frei Montalva que
  consist&iacute\;a en la entrega masiva de sitios con un m&iacute\;nimo de
  urbanizaci&oacute\;n. Se discutir&aacute\; con m&aacute\;s detalle c&oacu
 te\;mo se defini&oacute\; el programa\, qu&eacute\; objetivos ten&iacute\;
 a\, los intereses y los actores en juego\, mostrando c&oacute\;mo cada uno
  de ellos moviliz&oacute\; distintos imaginarios\, ideolog&iacute\;as y sa
 beres t&eacute\;cnicos.\nFrancisco Vergara: &ldquo\;El libro 9x18&rdquo\;
 \nArquitecto de la Pontificia Universidad Cat&oacute\;lica de Chile\, expo
 ndr&aacute\; sobre los lotes 9x18 dentro de Santiago como una oportunidad 
 de densificaci&oacute\;n y regeneraci&oacute\;n urbana frente a la actual 
 escasez de suelo. Abordar&aacute\; el tema desde la conformaci&oacute\;n d
 e estos lotes mediante operaciones sitio\, para luego enfatizar sus caract
 er&iacute\;sticas en com&uacute\;n: el allegamiento\, condiciones de habit
 abilidad\, privilegiada ubicaci&oacute\;n dentro de la trama urbana y rede
 s sociales existentes.\n\n&nbsp\;\nFecha_\nJueves 16 de mayo de 2019\, 17.
 00 a 19.00 h.&nbsp\;\n&nbsp\;\nLugar_\nAuditorio FCV. El Comendador 1936\,
  Providencia\n&nbsp\;\n\nOrganizan_\nEscuela de Arquitectura\, Facultad&nb
 sp\;de Arquitectura\, Dise&ntilde\;o y Estudios Urbanos UC\nCarrera de Arq
 uitectura\, Facultad de Arquitectura y Urbanismo de la Universidad de Chil
 e\nInstituto de la Vivienda&nbsp\;Universidad de Chile\n\n&nbsp\;\n\n&nbsp
 \; https://fadeu-old.urantiacos.cl/agenda/evento/1837-charla-magistral-ema
 nuel-giannotti-francisco-vergara-earq-uc-fau-uch
DTSTART:20190516T210000Z
DTEND:20190516T230000Z
LOCATION:Auditorio Fernando Castillo Velasco. Edificio ARQ (El Comendador 1
 936\, Providencia\, Región Metropolitana\, Chile)
SUMMARY:Charla magistral Emanuel Giannotti + Francisco Vergara | EARQ UC + 
 FAU UCh
URL:https://fadeu-old.urantiacos.cl/agenda/evento/1837-charla-magistral-ema
 nuel-giannotti-francisco-vergara-earq-uc-fau-uch
END:VEVENT
BEGIN:VEVENT
UID:20260420T032255UTC-5470rJgzvx@https://fadeu-old.urantiacos.cl/
DTSTAMP:20260420T032255Z
DESCRIPTION:Programaci&oacute\;n del Evento:\n\nFecha:&nbsp\;16 de mayo\, 2
 019Horario:&nbsp\;5/16/19 17:00 a 5/16/19 19:30 hrs.Lugar:&nbsp\;Sala de C
 onsejo\, Decanato\, Campus Lo Contador\n\n\nAdultos mayores y el smartphon
 e: una inminente migraci&oacute\;n digital\nInvestigaci&oacute\;n dentro d
 el CIIR (UC)\, parte del proyecto global y comparativo &ldquo\;Anthropolog
 y of Smartphones and Smart Ageing&rdquo\; (ASSA)\, coordinado por&nbsp\;Da
 niel Miller&nbsp\;desde University College London. El proyecto ASSA cuenta
  con diez antrop&oacute\;logos haciendo trabajo de campo simult&aacute\;ne
 amente en diez sitios (dos en Am&eacute\;rica Latina\, dos en Africa\, tre
 s en Europa\, una en Medio Oriente y dos en Asia).\nEn este proyecto se bu
 sca entender la experiencia de la edad en individuos de entre 45 y 70 a&nt
 ilde\;os de edad\, el uso que hacen de los smartphones y c&oacute\;mo acce
 den a los servicios de salud. Parte del compromiso de este proyecto es con
 tribuir al desarrollo de una iniciativa de salud m&oacute\;vil que mejore 
 el acceso a los servicios de salud de las poblaciones con las que se traba
 ja. En esta oportunidad se presentar&aacute\; parte del trabajo de campo c
 on adultos mayores que est&aacute\;n aprendiendo a usar smartphones &ndash
 \;sus expectativas\, frustraciones y logros&ndash\;\, y se expondr&aacute\
 ; la propuesta aplicada que surge de la etnograf&iacute\;a en una cl&iacut
 e\;nica oncol&oacute\;gica de un hospital p&uacute\;blico.\nExpone:\nAlfon
 so Otaegui&nbsp\;obtuvo su doctorado en antropolog&iacute\;a en la EHESS d
 e Par&iacute\;s. Luego hizo un postdoctorado de un a&ntilde\;o en Universi
 ty of California\, Berkeley (Fyssen fellow) y de dos a&ntilde\;os en la Ph
 ilipps-Universit&auml\;t Marburg\, Alemania (Humboldt fellow). Es investig
 ador postdoctoral del CIIR (UC) y realiza actualmente trabajo de campo ent
 re migrantes que trabajan en Santiago\, enfoc&aacute\;ndose en pr&aacute\;
 cticas comunicativas relacionadas con el envejecimiento y el acceso a la s
 alud en nuevos ambientes digitales. Es miembro del equipo de investigaci&o
 acute\;n de &ldquo\;Anthropology of Smartphones and Smart Ageing&rdquo\;\,
  proyecto global y comparativo coordinado desde University College London.
 \nComenta:\nSebasti&aacute\;n Lehued&eacute\;. Es periodista de la Faculta
 d de Comunicaciones de la Universidad Cat&oacute\;lica y cursa actualmente
  el doctorado en &lsquo\;Datos\, Redes y Sociedad&rsquo\; en el Departamen
 to de Medios y Comunicaciones de la London School of Economics. Su &aacute
 \;rea de investigaci&oacute\;n se centra en la dimensi&oacute\;n pol&iacut
 e\;tica de los datos\, para lo cual combina estudios de ciencia y tecnolog
 &iacute\;a (STS) y teor&iacute\;as cr&iacute\;ticas. En su tesis doctoral 
 explora las relaciones &lsquo\;colaborativas&rsquo\; facilitadas por los d
 atos astron&oacute\;micos producidos por mega observatorios en el Desierto
  de Atacama.\n https://fadeu-old.urantiacos.cl/agenda/evento/1860-seminari
 o-sdt-adultos-mayores-y-el-smartphone-una-inminente-migracion-digital
DTSTART:20190516T210000Z
DTEND:20190516T220000Z
LOCATION:Sala Consejo Decanato (El Comendador 1916)
SUMMARY:Seminario SDT 'Adultos mayores y el smartphone: una inminente migra
 ción digital'
URL:https://fadeu-old.urantiacos.cl/agenda/evento/1860-seminario-sdt-adulto
 s-mayores-y-el-smartphone-una-inminente-migracion-digital
END:VEVENT
BEGIN:VEVENT
UID:20260420T032255UTC-5479NNkNaO@https://fadeu-old.urantiacos.cl/
DTSTAMP:20260420T032255Z
DESCRIPTION:Les&nbsp\;invitamos cordialmente a la&nbsp\;s&eacute\;ptima ses
 i&oacute\;n del seminario abierto Sociedad\, Dise&ntilde\;o y Tecnolog&iac
 ute\;a&nbsp\;(SDT)&nbsp\;que busca abrir espacios de encuentro interdiscip
 linario\, en d&oacute\;nde se presentan y comentan investigaciones\, proye
 ctos o intervenciones sobre tem&aacute\;ticas ligadas al dise&ntilde\;o y 
 tecnolog&iacute\;a en su m&aacute\;s amplio espectro\, con especial &eacut
 e\;nfasis en los dispositivos y datos digitales que pueblan nuestra vida c
 ontempor&aacute\;nea.\nLa s&eacute\;ptima sesi&oacute\;n del seminario se 
 realizar&aacute\; el&nbsp\;jueves 16 de mayo&nbsp\;de 2019 a las 17:00 en 
 la Sala de Consejo de Decanato del campus Lo Contador PUC\, Santiago.&nbsp
 \; Contaremos con la presentaci&oacute\;n de&nbsp\;Alfonso Otaegui\, docto
 r en Antropolog&iacute\;a en la EHESS de Par&iacute\;s con&nbsp\;postdocto
 rados&nbsp\;en la University of California\, Berkeley (Fyssen fellow) y Ph
 ilipps-Universit&auml\;t Marburg\, Alemania (Humboldt fellow) y actualment
 e se desempe&ntilde\;a como investigador postdoctoral del CIIR (UC).&nbsp\
 ;Alfonso presentar&aacute\; sobre los primeros hallazgos de su investigaci
 &oacute\;n acerca de c&oacute\;mo las y los adultos mayores aprenden a usa
 r y experimentar con los smartphones en el acceso a servicios de salud. Es
 ta investigaci&oacute\;n&nbsp\;forma parte del proyecto global y comparati
 vo&nbsp\;&ldquo\;Anthropology of Smartphones and Smart Ageing&rdquo\; (ASS
 A)\, coordinado por&nbsp\;Daniel Miller&nbsp\;desde University College Lon
 don. El proyecto ASSA cuenta con diez antrop&oacute\;logos haciendo trabaj
 o de campo simult&aacute\;neamente en diez sitios (dos en Am&eacute\;rica 
 Latina\, dos en Africa\, tres en Europa\, una en Medio Oriente y dos en As
 ia).\nAdem&aacute\;s\, contaremos con los comentarios de&nbsp\;Sebasti&aac
 ute\;n Lehued&eacute\;\,&nbsp\;periodista de la Universidad Cat&oacute\;li
 ca y que cursa actualmente el doctorado en &lsquo\;Datos\, Redes y Socieda
 d&rsquo\; en el Departamento de Medios y Comunicaciones de la London Schoo
 l of Economics. Su &aacute\;rea de investigaci&oacute\;n se centra en la d
 imensi&oacute\;n pol&iacute\;tica de los datos\, para lo cual combina estu
 dios de ciencia y tecnolog&iacute\;a (STS) y teor&iacute\;as cr&iacute\;ti
 cas. En su tesis doctoral explora las relaciones &lsquo\;colaborativas&rsq
 uo\; facilitadas por los datos astron&oacute\;micos producidos por mega ob
 servatorios en el Desierto de Atacama.\nResumen:\nEn este proyecto se busc
 a entender la experiencia de la edad en individuos de entre 45 y 70 a&ntil
 de\;os de edad\, el uso que hacen de los smartphones y c&oacute\;mo accede
 n a los servicios de salud. Parte del compromiso de este proyecto es contr
 ibuir al desarrollo de una iniciativa de salud m&oacute\;vil que mejore el
  acceso a los servicios de salud de las poblaciones con las que se trabaja
 . En esta oportunidad se presentar&aacute\; parte del trabajo de campo con
  adultos mayores que est&aacute\;n aprendiendo a usar smartphones &ndash\;
 sus expectativas\, frustraciones y logros&ndash\;\, y se expondr&aacute\; 
 la propuesta aplicada que surge de la etnograf&iacute\;a en una cl&iacute\
 ;nica oncol&oacute\;gica de un hospital p&uacute\;blico.\n https://fadeu-o
 ld.urantiacos.cl/agenda/evento/1872-seminario-regular-7-alfonso-otaegui
DTSTART:20190516T210000Z
DTEND:20190516T220000Z
LOCATION:Sala Consejo Decanato (El Comendador 1916)
SUMMARY:Seminario Regular #7: Alfonso Otaegui
URL:https://fadeu-old.urantiacos.cl/agenda/evento/1872-seminario-regular-7-
 alfonso-otaegui
END:VEVENT
BEGIN:VEVENT
UID:20260420T032255UTC-5488jV6SJc@https://fadeu-old.urantiacos.cl/
DTSTAMP:20260420T032255Z
DESCRIPTION:Mi&eacute\;rcoles 15 de mayo /// 18:30 horas ///Sal&oacute\;n S
 ergio Larra&iacute\;n. Campus Lo Contador UC. El Comendador 1916\, Provide
 ncia.\nInvitadas:- Carolina Rojas (acad&eacute\;mica IEUT)- Patricia Retam
 al (fundadora Ciudad Feminista)\nOrganiza:&nbsp\;Centro de Estudiantes de 
 Planificaci&oacute\;n Urbana UC /// Colabora: Instituto de Estudios Urbano
 s y Territoriales UC\nInscripciones&nbsp\;aqu&iacute\;\n&nbsp\;\n\n&nbsp\;
  https://fadeu-old.urantiacos.cl/agenda/evento/1869-tertulia-feminismo-gen
 ero-y-ciudad
DTSTART:20190515T223000Z
DTEND:20190515T233000Z
LOCATION:Salón Sergio Larraín\, Campus Lo Contador ()
SUMMARY:TERTULIA:  Feminismo\, género y ciudad
URL:https://fadeu-old.urantiacos.cl/agenda/evento/1869-tertulia-feminismo-g
 enero-y-ciudad
END:VEVENT
BEGIN:VEVENT
UID:20260420T032255UTC-5491EI0UVP@https://fadeu-old.urantiacos.cl/
DTSTAMP:20260420T032255Z
DESCRIPTION:\nLas virtudes de la PREFABricaci&oacute\;n en la Arquitectura 
 no s&oacute\;lo se asocian a la optimizaci&oacute\;n del proceso construct
 ivo\, la PREFABricaci&oacute\;n adem&aacute\;s es un m&eacute\;todo &oacut
 e\;ptimo de dise&ntilde\;o. Se propone la revisi&oacute\;n de un mapa conc
 eptual elaborado sobre &eacute\;sta tecnolog&iacute\;a y se presentan caso
 s a trav&eacute\;s de los distintos medios representaci&oacute\;n tan cara
 cter&iacute\;sticos de &eacute\;sta tecnolog&iacute\;a constructiva. La co
 nferencia es parte del taller&nbsp\;'Escala y T&eacute\;cnica. Infraestruc
 tura Permanente y Soportes Temporales'&nbsp\;dirigido por la profesora&nbs
 p\;Macarena Burdiles\, que aborda intervenciones en Parques Nacionales.\nA
 lejandro Soffia&nbsp\;es Arquitecto (2004) y Magister (2011) de la Pontifi
 cia Universidad Cat&oacute\;lica de Chile. Tiene intereses personales en l
 as tecnolog&iacute\;as constructivas y en el biodise&ntilde\;o. Ha desarro
 llado investigaci&oacute\;n aplicada a trav&eacute\;s de su oficina profes
 ional\, y dicta clases de Taller\, y Tecnolog&iacute\;as. Su obra y pensam
 iento han sido publicados en diversas revistas especializadas como&nbsp\;D
 ETAIL\, Arquitectura Viva\, C3\, Domus y Taschen.\n\nFecha_\nMi&eacute\;rc
 oles 15 de mayo de 2019\, 15.30 h.&nbsp\;\n&nbsp\;\nLugar_\nAuditorio FCV.
  El Comendador 1936\, Providencia\n&nbsp\;\nOrganiza_\nEscuela de Arquitec
 tura UC&nbsp\;\n&nbsp\;\n\n&nbsp\;\n&nbsp\;\nNoticiasContacto:&nbsp\;redes
 arq@uc.cl&nbsp\;| +56 2 2354 7747www.arquitectura.uc.cl https://fadeu-old.
 urantiacos.cl/agenda/evento/1873-conferencia-arquitectura-prefabulosa-alej
 andro-soffia
DTSTART:20190515T193000Z
DTEND:20190515T203000Z
LOCATION:Auditorio Fernando Castillo Velasco. Edificio ARQ (El Comendador 1
 936\, Providencia\, Región Metropolitana\, Chile)
SUMMARY:Conferencia Arquitectura PREFABulosa | Alejandro Soffia
URL:https://fadeu-old.urantiacos.cl/agenda/evento/1873-conferencia-arquitec
 tura-prefabulosa-alejandro-soffia
END:VEVENT
BEGIN:VEVENT
UID:20260420T032255UTC-5497x8eiiz@https://fadeu-old.urantiacos.cl/
DTSTAMP:20260420T032255Z
DESCRIPTION:El Instituto de Estudios Urbanos y Territoriales UC invita a to
 dos los interesados en sus programas de&nbsp\;Mag&iacute\;ster en Desarrol
 lo Urbanoy&nbsp\;Mag&iacute\;ster en Asentamientos Humanos&nbsp\;y Medio A
 mbiente&nbsp\;al&nbsp\;Caf&eacute\; de Mag&iacute\;ster 2019.&nbsp\;En est
 a instancia la Jefa de Programas de Mag&iacute\;ster IEUT\,&nbsp\;Macarena
  Ibarra\, presentar&aacute\; ambos programas en profundidad. Se contar&aac
 ute\; tambi&eacute\;n con la presencia de profesores y ex-alumnos quienes 
 contar&aacute\;n su experiencia en el programa\, as&iacute\; como actuales
  proyecto y se dar&aacute\; orientaci&oacute\;n para el proceso de Admisi&
 oacute\;n 2019. Todo esto acompa&ntilde\;ado de un rico caf&eacute\;.\nEl 
 caf&eacute\; se realizar&aacute\; el d&iacute\;a&nbsp\;14&nbsp\;de mayo a 
 las 18:30 hrs. en la Sala de Consejo del Instituto de Estudios Urbanos y T
 erritoriales. El Comendador 1916\, Providencia.\nInteresados inscribirse a
 l correo&nbsp\;magisterieu@uc.cl\n&nbsp\;\n https://fadeu-old.urantiacos.c
 l/agenda/evento/1868-cafe-informativo-sobre-magister-ieut-uc
DTSTART:20190514T223000Z
DTEND:20190514T233000Z
LOCATION:Sala Consejo Instituto de Estudios Urbanos (El Comendador 1916\, P
 rovidencia\, Región Metropolitana\, Chile)
SUMMARY:Café informativo sobre Magíster IEUT-UC
URL:https://fadeu-old.urantiacos.cl/agenda/evento/1868-cafe-informativo-sob
 re-magister-ieut-uc
END:VEVENT
BEGIN:VEVENT
UID:20260420T032255UTC-5502LeZr3U@https://fadeu-old.urantiacos.cl/
DTSTAMP:20260420T032255Z
DESCRIPTION:Tenemos el agrado de invitarlos(as) a la segunda sesi&oacute\;n
  de la&nbsp\;Serie: Jornadas de Investigaci&oacute\;n en el Instituto - 20
 19.&nbsp\;\nEn esta ocasi&oacute\;n el acad&eacute\;mico del Instituto de 
 Estudios Urbanos y Territoriales\,&nbsp\;Arturo Orellana\,&nbsp\;dictar&aa
 cute\; la charla:&nbsp\;Configuraci&oacute\;n y proyecci&oacute\;n de &Aac
 ute\;reas Metropolitanas en Chile: Caso &Aacute\;rea Metropolitana de O&ac
 ute\;Higgins.\nLa actividad se realizar&aacute\; el d&iacute\;a&nbsp\;mart
 es 14 de mayo a partir de las 13:00 h.&nbsp\;en el Sal&oacute\;n Sergio La
 rra&iacute\;n.&nbsp\;El Comendador 1916\, Providencia.\nCupos limitados e 
 inscripciones&nbsp\;aqu&iacute\;.Se compartir&aacute\; un almuerzo liviano
  con los asistentes\, previa inscripci&oacute\;n&nbsp\;hasta el lunes 13 d
 e mayo.\n&nbsp\;\n https://fadeu-old.urantiacos.cl/agenda/evento/1871-jorn
 adas-de-investigacion
DTSTART:20190514T170000Z
DTEND:20190514T180000Z
LOCATION:Salón Sergio Larraín\, Campus Lo Contador ()
SUMMARY:Jornadas de Investigación
URL:https://fadeu-old.urantiacos.cl/agenda/evento/1871-jornadas-de-investig
 acion
END:VEVENT
BEGIN:VEVENT
UID:20260420T032255UTC-5506NE3N03@https://fadeu-old.urantiacos.cl/
DTSTAMP:20260420T032255Z
DESCRIPTION:El jefe de programa del Doctorado en Arquitectura y Estudios Ur
 banos UC\, Jos&eacute\; Rosas Vera\, y el director de Investigaci&oacute\;
 n y Postgrado de la Facultad de&nbsp\;Arquitectura\, Dise&ntilde\;o y Estu
 dios Urbanos UC\, Felipe Encinas\, invitan al 2&ordm\; Coloquio Doctoral a
  realizarse el 14 de mayo&nbsp\;a las 9.00 h en el sal&oacute\;n&nbsp\;Ser
 gio Larra&iacute\;n Garc&iacute\;a Moreno.\n&nbsp\;\n&nbsp\;\nEstudiantes 
 del Doctorado presentar&aacute\;n a la comunidad los avances de sus invest
 igaciones. Esta instancia\, crucial para socializar el avance de las tesis
 \, se desarrolla acorde a las exigencias del nuevo curriculum del Doctorad
 o y tambi&eacute\;n en la importancia de realizar este cruce y di&aacute\;
 logo de ideas en una Facultad como la nuestra\, es por esto que la present
 aci&oacute\;n de los expositores continuar&aacute\; con los comentarios de
  sus profesores gu&iacute\;as e invitados.\n&nbsp\;\n&nbsp\;\nPresentan la
 s estudiantes_- Yolanda Mu&ntilde\;oz- Serena Dambrosio- Natasha Cabrera\n
 &nbsp\;\n&nbsp\;\nSe encontrar&aacute\;n presentes en la mesa sus respecti
 vos profesores gu&iacute\;as- Fernando P&eacute\;rez- Pedro Alonso- Margar
 ita Greene\n&nbsp\;\n&nbsp\;\nInvitado a la discusi&oacute\;n_Rodrigo P&ea
 cute\;rez de Arce\n&nbsp\;\n&nbsp\;\nModera_\nP&iacute\;a Montealegre\n&nb
 sp\;\n&nbsp\;\nFecha_\n14 de mayo\, 09.00 h\nLugar_\nSal&oacute\;n Sergio 
 Larra&iacute\;n Garc&iacute\;a Moreno. El Comendador 1936\, Providencia\n&
 nbsp\;\n&nbsp\;\n\n&nbsp\;\nNoticiasContacto:&nbsp\;redesarq@uc.cl&nbsp\;|
  +56 2 2354 7747www.arquitectura.uc.cl https://fadeu-old.urantiacos.cl/age
 nda/evento/1874-coloquio-doctoral-ii
DTSTART:20190514T130000Z
DTEND:20190514T140000Z
LOCATION:Salón Sergio Larraín\, Campus Lo Contador ()
SUMMARY:COLOQUIO DOCTORAL II
URL:https://fadeu-old.urantiacos.cl/agenda/evento/1874-coloquio-doctoral-ii
END:VEVENT
END:VCALENDAR
