BEGIN:VCALENDAR
VERSION:2.0
PRODID:-//https://fadeu-old.urantiacos.cl///NONSGML kigkonsult.se iCalcreator 2.10.15//
METHOD:PUBLISH
BEGIN:VEVENT
UID:20260420T222534UTC-26725tibJ4@https://fadeu-old.urantiacos.cl/
DTSTAMP:20260420T222534Z
DESCRIPTION:Workshop 3 W3\nKitchenless cityAnna Puigjaner - MAIO\, Espa&nti
 lde\;a\n&nbsp\;\n&nbsp\;\n\nEl taller explorar&aacute\; aquellos espacios 
 colectivos capaces de diluir los l&iacute\;mites entre lo dom&eacute\;stic
 o y lo urbano\, entre lo privado y lo p&uacute\;blico\, especialmente a tr
 av&eacute\;s de acciones relacionadas con la producci&oacute\;n y el consu
 mo de comida. Mediante ese an&aacute\;lisis\, intentaremos comprender las 
 diversas agendas pol&iacute\;ticas y econ&oacute\;micas detr&aacute\;s de 
 estos fen&oacute\;menos y sus consecuencias en el entorno construido. M&aa
 cute\;s all&aacute\; de clich&eacute\;s y construcciones ideol&oacute\;gic
 as\, el taller explorar&aacute\; las relaciones\, a menudo fr&aacute\;gile
 s\, entre tipolog&iacute\;a\, forma y pol&iacute\;tica. Bajo qu&eacute\; c
 ondiciones la arquitectura puede repolitizarse\, una y otra vez\, a lo lar
 go del tiempo\, en un ciclo recurrente e interminable?\nTradicionalmente\,
  espacios y servicios compartidos &ndash\;incluidas viviendas sin cocina&n
 dash\; han sido asociadas a un imaginario colectivista e ideol&oacute\;gic
 amente preclasificadas. Pero\, mucho antes que las conocidas Kommunalki ap
 arecieran en la Uni&oacute\;n Sovi&eacute\;tica\, en el Nueva York de fina
 les del siglo XIX &ndash\;paradigma del experimento capitalista&ndash\; ta
 mbi&eacute\;n se dieron viviendas dotadas con espacios y servicios colecti
 vos.\nCada grupo de estudiantes explorar&aacute\; los l&iacute\;mites de l
 a idea misma de vivir sin cocina y/o la cocina colectiva\, a trav&eacute\;
 s de una b&uacute\;squeda de casos paradigm&aacute\;ticos en la ciudad de 
 Santiago. Cada caso debe ser ejemplar y &uacute\;til para definir una form
 a particular de entender lo que significa vivir sin cocina y su relaci&oac
 ute\;n con una agenda pol&iacute\;tica o econ&oacute\;mica. Cada investiga
 ci&oacute\;n se presentar&aacute\; al final de la semana a trav&eacute\;s 
 de una imagen\, un dibujo y un texto. Cada formato explorar&aacute\; difer
 entes formas de representaci&oacute\;n y conceptualizaci&oacute\;n del mis
 mo tema.\nAnna Puigjaner\n\nAnna Puigjaner (1980 Barcelona) es doctora arq
 uitecta\, investigadora y editora. Co-fundadora de MAIO\, un estudio&nbsp\
 ;de arquitectura que trabaja en sistemas espaciales donde conceptos como v
 ariaci&oacute\;n\, ef&iacute\;mero o ad hoc\, permiten&nbsp\;materializar 
 posiciones te&oacute\;ricas.\n&nbsp\;\nMiembro del grupo de investigaci&oa
 cute\;n Habitar del Departamento de Proyectos Arquitect&oacute\;nicos de l
 a Universitat&nbsp\;Polit&egrave\;cnica de Catalunya UPC. Combina su activ
 idad profesional con la docencia y la&nbsp\;investigaci&oacute\;n. Profeso
 ra Asociada del Departamento de Proyectos Arquitect&oacute\;nicos de la Un
 iversitat Polit&egrave\;cnica de&nbsp\;Catalunya\, UPC\, ha impartido clas
 es y conferencias en GSAPP Columbia University\, Yale University\, Univers
 ity of&nbsp\;California - Berkeley\, GSD Harvard University\, FAU Lisboa y
  Universit&eacute\; Catholique de Louvain &ndash\; Bruxelles\, entre otros
 &nbsp\;centros. Editora de la revista Quaderns d&rsquo\;Arquitectura i Urb
 anisme del Colegio de Arquitectos de Catalu&ntilde\;a desde&nbsp\;2011 has
 ta 2017.\nSu trabajo ha sido publicado en revistas como Monocle\, Frame\, 
 Domus\, AIT\, Blueprint\, A10\, Interior Design y Detail&nbsp\;entre otras
 \; ha sido expuesto en el MOMA de Nueva York\, en el Art Institute of Chic
 ago\, en la Bienal de Arquitectura&nbsp\;de Venecia y en la Bienal de Arqu
 itectura de Chicago\; y ha sido premiado en varias ocasiones entre los que
  destaca:&nbsp\;Premio FAD 2016 Intervenciones Ef&iacute\;meras\, Premio F
 AD 2015 Pensamiento y Cr&iacute\;tica\, Premio FAD de la Opini&oacute\;n&n
 bsp\;2013 Interiorismo\, Premio Arquia/Pr&oacute\;xima 2014 Investigaci&oa
 cute\;n - Fundaci&oacute\;n Caja de Arquitectos\, Premio Festival&nbsp\;In
 ternacional de Arquitectura eme3 2012\, Premio Lamp Lighting Solutions 200
 9\, Premio de las Comarcas de Girona\,&nbsp\;COAC\, 2007\, Premio Wheelwri
 ght 2016 con su proyecto Kitchenless City: Architectural Systems for Socia
 l Welfare\, entre otros.\n&nbsp\;\n&nbsp\;\nFecha_\n18 de Mayo &ndash\; 01
  de Junio de 2018.\n&nbsp\;\nLugar_\nEscuela de Arquitectura UC\, Campus L
 o Contador. El Comendador 1916\, Providencia.&nbsp\;\nOrganizan_\nMARQ UC
 \nCentro Cultural de Espa&ntilde\;a\nEstudio Com&uacute\;n\n&nbsp\;\nProgr
 ama workshop\n&nbsp\;\n* La participaci&oacute\;n en el workshop es exclus
 iva para estudiantes de Mag&iacute\;ster en Arquitectura de la Escuela de 
 Arquitectura UC.&nbsp\;\n&nbsp\;\n https://fadeu-old.urantiacos.cl/agenda/
 evento/1550-mayo-18-junio-01-workshop-marq-iii-anna-puigjaner
DTSTART:20180518T040000Z
LOCATION:Campus Lo Contador (El Comendador 1916\, Providencia\, Providencia
 \, Región Metropolitana\, Chile)
SUMMARY:MAYO 18 – JUNIO 01: Workshop MARQ III / ANNA PUIGJANER
URL:https://fadeu-old.urantiacos.cl/agenda/evento/1550-mayo-18-junio-01-wor
 kshop-marq-iii-anna-puigjaner
END:VEVENT
BEGIN:VEVENT
UID:20260420T222534UTC-2685xOfaER@https://fadeu-old.urantiacos.cl/
DTSTAMP:20260420T222534Z
DESCRIPTION:El pr&oacute\;ximo jueves 17 de mayo Mathias Klotz y Ricardo Ab
 uauad dictar&aacute\;n la conferencia &lsquo\;El Barrio Universitario de S
 antiago&rsquo\;.\nMathias Klotz\nMathias Klotz\, arquitecto chileno nacido
  en Vi&ntilde\;a del Mar el 13 de abril de 1965. Realiz&oacute\; sus estud
 ios en la Facultad de Arquitectura de la Pontificia Universidad Cat&oacute
 \;lica de Chile\, donde se grad&uacute\;a en 1991. Ganador del Premio Borr
 omini de Arquitectura en 2001 (Colegio Altamira)\, el Premio Holcim 2011 (
 Biblioteca Nicanor Parra). Su trabajo\, elegante y profundamente arraigada
  en la tradici&oacute\;n Moderna\, lo ha destacado en la escena internacio
 nal. Es decano de la Facultad de Arquitectura de la Universidad Diego Port
 ales en Santiago\, Chile.\nRicardo Abuauad\nRicardo Abuauad es arquitecto 
 de la Universidad Cat&oacute\;lica\, y Master en Gesti&oacute\;n Urbana en
  la &Eacute\;cole Nationale des Ponts et Chauss&eacute\;es en Par&iacute\;
 s\, y la Universit&eacute\; de Technologie de Compi&egrave\;gne. A partir 
 de 1997\, ha desarrollado planes urbanos y proyectos de arquitectura. Sus 
 obras han sido seleccionadas tanto para la Bienal de Arquitectura de Chile
  como para la Iberoamericana. Es Director de la Escuela de Arquitectura de
  la Universidad Diego Portales y profesor de la escuela de Arquitectura de
  la PUC.Dentro de sus obras y estudios a escala urbana m&aacute\;s relevan
 te\, pueden citarse: el desarrollo del Barrio Universitario de Santiago y 
 el Plan de Infraestructura de la UDP\, con variados reconocimientos intern
 acionales\; el Plan Maestro del Barrio Puerto en Valpara&iacute\;so\; el P
 lan de Reconstrucci&oacute\;n de Peralillo\, VI Regi&oacute\;n\; el desarr
 ollo de la contrapropuesta para el Nudo Vial Estoril\; etc.\nFecha_Jueves 
 17 de mayo de 2018\, 18.00 hrs.\nLugar_Sal&oacute\;n Sergio Larra&iacute\;
 n Garc&iacute\;a Moreno\, Campus Lo Contador. El Comendador 1936\, Provide
 ncia.\nOrganizan_Mag&iacute\;ster en Proyecto Urbano UC\n*Evento liberado\
 , sin previa inscripci&oacute\;n.\n&nbsp\;\n https://fadeu-old.urantiacos.
 cl/agenda/evento/1538-mathias-klotz-ricardo-abuauad-mpur-uc
DTSTART:20180517T220000Z
DTEND:20180517T230000Z
LOCATION:Salón Sergio Larraín\, Campus Lo Contador ()
SUMMARY:Mathias Klotz & Ricardo Abuauad / MPUR UC
URL:https://fadeu-old.urantiacos.cl/agenda/evento/1538-mathias-klotz-ricard
 o-abuauad-mpur-uc
END:VEVENT
BEGIN:VEVENT
UID:20260420T222534UTC-2692fkpa91@https://fadeu-old.urantiacos.cl/
DTSTAMP:20260420T222534Z
DESCRIPTION:Serie de Discusi&oacute\;n y Cr&iacute\;tica de Edificios\n18 |
  ATRIOS\n&nbsp\;\nTercera edici&oacute\;n 2018 del tradicional&nbsp\;ciclo
 &nbsp\;'Discusi&oacute\;n y Cr&iacute\;tica de Edificios'\, organizado por
  el Mag&iacute\;ster en Arquitectura UC. En la sesi&oacute\;n n&uacute\;me
 ro #18 titulada &ldquo\;ATRIOS&rdquo\;\, el Director Interino de la Escuel
 a de Arquitectura UC Francisco Quintana\, junto al arquitecto de la Univer
 sidad de Chile y profesor de nuestra escuela Nicol&aacute\;s Stutzin\, nos
  presentan dos casos chilenos: Isidora 3000\, de Territoria\, y Plaza Lyon
 \, de Pedro Murtinho.&nbsp\;\n&nbsp\;\nFecha_\nMi&eacute\;rcoles 16 de May
 o de 2018. 19.00 hrs.\n&nbsp\;\nLugar_Auditorio Fernando Castillo Velasco\
 , Campus Lo Contador. El Comendador 1936\, Providencia.\n&nbsp\;\nInvitan_
 MARQ UCArquitectura UC\n&nbsp\;\n*Evento liberado\, sin previa inscripci&o
 acute\;n.\n&nbsp\;\n https://fadeu-old.urantiacos.cl/agenda/evento/1539-se
 sion-18-ciclo-discusion-y-critica-de-edificios-marq-uc
DTSTART:20180516T230000Z
DTEND:20180517T000000Z
LOCATION:Auditorio Fernando Castillo Velasco. Edificio ARQ (El Comendador 1
 936\, Providencia\, Región Metropolitana\, Chile)
SUMMARY:sesión #18 ciclo 'Discusión y Crítica de Edificios' / MARQ UC
URL:https://fadeu-old.urantiacos.cl/agenda/evento/1539-sesion-18-ciclo-disc
 usion-y-critica-de-edificios-marq-uc
END:VEVENT
BEGIN:VEVENT
UID:20260420T222534UTC-2696bJ3RT3@https://fadeu-old.urantiacos.cl/
DTSTAMP:20260420T222534Z
DESCRIPTION:Este segundo cap&iacute\;tulo recorre el edificio de IZQUIERDO-
 LEHMANN\, LIRA y PE&Ntilde\;AFIEL\, junto a sus conductores habituales Jos
 &eacute\; Rosas y Emilio De la Cerda\, a quienes se suma Luis Izquierdo y 
 el equipo de ARCADA.El lanzamiento se realiza en el marco de las actividad
 es de extensi&oacute\;n del curso IET y contar&aacute\; con palabras de&nb
 sp\;Luis Izquierdo\,&nbsp\;Jos&eacute\; Rosas\, Emilio De la Cerda&nbsp\;y
  ARCADA.&nbsp\;\n*Transmite RADIO ARCADA\n&nbsp\;\nFecha_\nMi&eacute\;rcol
 es 16 de mayo de 2018\, 18.00 hrs.\n&nbsp\;\nLugar_\nAuditorio FCV\, campu
 s Lo Contador. El Comendador 1936\, Providencia.\n&nbsp\;\nOrganizan_\nARC
 ADA\n&nbsp\;\n*Evento liberado\, sin previa inscripci&oacute\;n.\n&nbsp\;
 \n https://fadeu-old.urantiacos.cl/agenda/evento/1541-lanzamiento-arcada-t
 v-a-vuelo-de-pajaro-capitulo-2-edificio-manantiales
DTSTART:20180516T220000Z
DTEND:20180516T230000Z
LOCATION:Auditorio Fernando Castillo Velasco. Edificio ARQ (El Comendador 1
 936\, Providencia\, Región Metropolitana\, Chile)
SUMMARY:Lanzamiento ARCADA tv 'A VUELO DE PÁJARO Capítulo #2: Edificio MANA
 NTIALES'
URL:https://fadeu-old.urantiacos.cl/agenda/evento/1541-lanzamiento-arcada-t
 v-a-vuelo-de-pajaro-capitulo-2-edificio-manantiales
END:VEVENT
BEGIN:VEVENT
UID:20260420T222534UTC-2700NA9I2Z@https://fadeu-old.urantiacos.cl/
DTSTAMP:20260420T222534Z
DESCRIPTION:PROYECTO AMERICANO EN EL FLUJO GLOBAL-LOCAL\nPensar Global/Proy
 ectar Local\nRoberto Fern&aacute\;ndez\n16 al 18 de Mayo y del 30 de Mayo 
 al 01 de Junio\nEste Seminario de Doctorado presenta estudios de temas del
  territorio\, la ciudad\, la arquitectura y el dise&ntilde\;o referidos a 
 aspectos de teor&iacute\;a y cr&iacute\;tica del proyecto contempor&aacute
 \;neo focalizado adem&aacute\;s en lo posible\, en la escena americana per
 o entendida &eacute\;sta en el marco de contextos globales habida cuenta d
 e la fuerte circulaci&oacute\;n inform&aacute\;tica de ideas y referencias
  tal que merece algunos criterios de ordenamiento y valoraci&oacute\;n: m&
 aacute\;s que oponer dr&aacute\;sticamente lo central y lo perif&eacute\;r
 ico (que tambi&eacute\;n entendimos como lo ajeno y lo propio) es ahora ur
 gente analizar los flujos de relaciones\, imposiciones\, confrontaciones y
  transformaciones entre tales dimensiones de lo global y lo local (m&aacut
 e\;s bien entendible como archipi&eacute\;lago de localismos\, heterog&eac
 ute\;neas entre s&iacute\;).Fuera de las diferentes escalas presentadas en
  distintas sesiones (Ciudad\, Paisaje\, Vivienda\, etc.) o enfoques tem&aa
 cute\;ticos (Did&aacute\;ctica\, Tecnolog&iacute\;a\, Historia\, etc.) la 
 idea central es un enfoque relacional de cada una de esas nociones con el 
 concepto gen&eacute\;rico de proyecto\, entendiendo el proyecto tanto como
  un dispositivo operativo cuanto m&aacute\;s preferentemente una dimensi&o
 acute\;n cognitiva\, un modo espec&iacute\;fico de conocimiento en que deb
 er&iacute\;a basarse si cabe\, una epistemolog&iacute\;a de la arquitectur
 a en sentido amplio.El t&iacute\;tulo escogido para este Seminario &ndash\
 ;Proyecto Americano en el flujo global-local- remite a la necesidad de pro
 fundizar y fortalecer un modo espec&iacute\;fico de pensar y hacer arquite
 ctura\, urbanismo y dise&ntilde\;o en una geocultura determinada o mejor\,
  en una constelaci&oacute\;n bastante fragmentaria de peque&ntilde\;as geo
 culturas muchas de las cu&aacute\;les m&aacute\;s que nacionales o rurales
 -regionales-territoriales quiz&aacute\; sean m&aacute\;s bien urbanas o me
 tropolitanas.En tal flujo global-local (que ya no es la relaci&oacute\;n c
 entro-periferia sino una red intrincada de articulaciones) la posibilidad 
 de un proyecto americano aparece ya lejana del anacronismo a veces reaccio
 nario o conservador del discurso regionalista\, es decir ese lugar com&uac
 ute\;n compuesto de cierta situaci&oacute\;n naif conducente a pr&aacute\;
 cticas ingenuas y de localismos desarticulados del conocimiento cr&iacute\
 ;tico de la situaci&oacute\;n global o general que llev&oacute\; por caso 
 a las ideolog&iacute\;as regionalistas como las del realismo m&aacute\;gic
 o\, el primitivismo tecnol&oacute\;gico y ciertas posturas de tipo folk.Ho
 y la globalizaci&oacute\;n impuesta tiene un costado de democratizaci&oacu
 te\;n informativa (todos conocemos de alguna forma lo que ocurre en la esf
 era global) que hace que existan m&uacute\;ltiples flujos de centros a per
 iferias y viceversa\, de escalas puntuales a territoriales\, de tradicione
 s est&aacute\;ticas y localizadas hasta el frenes&iacute\; del movimiento 
 del posfordismo que hasta conduce a un colapso socio-econ&oacute\;mico y f
 inanciero como el recientemente producido en Europa.Todo fluye adem&aacute
 \;s\, resignificando los puntos s&oacute\;lidos del saber de la arquitectu
 ra y del dise&ntilde\;o en general o los hitos territoriales de los paisaj
 es y sin embargo es preciso cartografiar ese movimiento a la manera de una
  actividad cr&iacute\;tica que sea f&eacute\;rtil tal vez no para valorar 
 pero si para entender y preparar los fundamentos para los cambios discipli
 nares en los que quiz&aacute\; sin tanta conciencia\, ya estamos fatalment
 e embarcados.El Seminario se basa en el libro Proyecto Americano en el Flu
 jo Global-Local\, editado por MVDLab-UdelaR en 2012 como consecuencia del 
 dictado originario ese a&ntilde\;o del seminario del mismo t&iacute\;tulo.
  Se ofrecer&aacute\; una versi&oacute\;n digital de ese texto revisado m&a
 acute\;s algunos textos agregados\, con antelaci&oacute\;n a las clases a 
 fin de preparar las mismas.\nA efectos de facilitar la relaci&oacute\;n en
 tre el profesor Fern&aacute\;ndez y el grupo de participantes del curso en
  materias de bibliograf&iacute\;a\, y esnayo\, durante la ausencia del pro
 fesor en Chile\, contar&aacute\; con el apoyo de la arquitecta\, doctora y
  profesora del programa Pilar Pinchart.\nPROGRAMA\n1 Mi&eacute\;rcoles 16 
 de Mayo 18.00-19.15Pensar Global/Proyectar Local: Introducci&oacute\;n2 Mi
 &eacute\;rcoles 16 de Mayo 19.30-21.00Cultura &amp\; Proyecto en la escena
  euroc&eacute\;ntrica3 Jueves 17 de Mayo 18.00-19.15Cultura &amp\; Proyect
 o en la escena americana4 Jueves 17 de Mayo 19.30-21.00Did&aacute\;ctica &
 amp\; Proyecto5 Viernes 18 de Mayo 15.00-16.15T&eacute\;cnica &amp\; Proye
 cto6 Viernes 18 de Mayo 16.30-18.00Ciudad &amp\; Proyecto7 Viernes 18 de M
 ayo 18.15-19.30Paisaje &amp\;Proyecto8 Viernes 18 de Mayo 19.45-21.00Vivie
 nda &amp\; Proyecto\n9 Mi&eacute\;rcoles 30 de Mayo 18.00-19.15Historia &a
 mp\; Proyecto10 Mi&eacute\;rcoles 30 de Mayo 19.30-21.00Teor&iacute\;a &am
 p\; Proyecto11-12 Jueves 31 de Mayo 18.00-19.15 / 19.30-21.00Cr&iacute\;ti
 ca &amp\; Proyecto13 Viernes 1 de Junio 15.00-16.30Pensar Global/Proyectar
  Local14 Viernes 1 de Junio 16.30-17.45Discusi&oacute\;n e intercambio15-1
 6 Viernes 1 de Junio 18.00-21.00Intervenciones\nINSCRIPCIONES: https://goo
 .gl/forms/1Qd671lrti6Svh1b2\n&nbsp\;\n https://fadeu-old.urantiacos.cl/age
 nda/evento/1542-seminario-pensar-global-proyectar-local
DTSTART:20180516T040000Z
LOCATION:Doctorado Arquitectura (El Comendador 1970\, Providencia\, Región 
 Metropolitana\, Chile)
SUMMARY:Seminario Pensar Global/Proyectar Local
URL:https://fadeu-old.urantiacos.cl/agenda/evento/1542-seminario-pensar-glo
 bal-proyectar-local
END:VEVENT
BEGIN:VEVENT
UID:20260420T222534UTC-2715OHlIsE@https://fadeu-old.urantiacos.cl/
DTSTAMP:20260420T222534Z
DESCRIPTION:Invitaci&oacute\;n\nMario Ubilla Sanz\, Decano de la Facultad d
 e&nbsp\;Arquitectura\, Dise&ntilde\;o y Estudios Urbanos\;&nbsp\;Francisco
  Quintana Osorio\, Director de la&nbsp\;Escuela de Arquitectura UC\; Franc
 isco D&iacute\;az\,&nbsp\;Editor General de Ediciones ARQ y Sandra&nbsp\;I
 turriaga del Campo\, Directora M42K Lab\, invitan al lanzamiento del libro
 &nbsp\;MAPOCHO 42K. Este libro sintetiza un&nbsp\;esfuerzo colectivo de ya
  ocho a&ntilde\;os en torno&nbsp\;al R&iacute\;o Mapocho y a la recuperaci
 &oacute\;n de sus&nbsp\;riberas\, como un gran aporte que Santiago&nbsp\;m
 erece consolidar.\n&nbsp\;\n&nbsp\;\nMAPOCHO 42K: PROMENADE GEOGRAFICA PAR
 A LA EQUIDAD SOCIAL\n&nbsp\;\n&nbsp\;\n\nEl principal fundamento del proye
 cto&nbsp\;MAPOCHO 42K\, es recuperar la potencialidad que tienen las riber
 as del r&iacute\;o Mapocho -principalmente la ribera sur- de conformar un 
 espacio p&uacute\;blico de escala metropolitana: una&nbsp\;gran columna ve
 rtebral en el sentido Oriente-Poniente que permita conectar geogr&aacute\;
 fica y socialmente la ciudad de Santiago.\nEl proyecto propone consolidar 
 esta columna vertebral como un gran recorrido de uso p&uacute\;blico y esp
 arcimiento\, una&nbsp\;promenade continua de 42K&nbsp\;en su paso por la c
 iudad\, que permite conectar todos los estratos sociales y topogr&aacute\;
 ficos a lo largo de&nbsp\;11 comunas\, contribuyendo a mejorar su calidad 
 de vida y su equidad\nEsta conectividad geogr&aacute\;fica y social se pro
 pone a partir de la implementaci&oacute\;n de un&nbsp\;corredor verde o Ci
 cloparque\, capaz de acoger tanto a peatones y ciclistas -sea de paseo\, d
 e deporte o de traslado\, al modo de un recorrido p&uacute\;blico de borde
 r&iacute\;o que recorre una extensi&oacute\;n de 42K\, desde la entrada de
 l torrente al valle -en la Plaza San Enrique al pie de la cordillera\, has
 ta el inicio de las localidades rurales de la cuenca del r&iacute\;o en la
  comuna de Pudahuel. La propuesta apunta a potenciar por tanto dentro de u
 n espacio ribere&ntilde\;o privilegiado\, la&nbsp\;convivencia y movilidad
  inclusiva y accesible a todas las personas&nbsp\;&ndash\;en particular ni
 &ntilde\;os y personas con movlidad reducida\, a partir de un recorrido p&
 uacute\;blico que integra al mismo tiempo el valor de la geograf&iacute\;a
  circundante como principal valor de identidad urbana.\n​​Este corredor pe
 rmite&nbsp\;conectar al mismo tiempo todos los parques y espacios verdes e
 xistentes o potenciales a lo largo del border&iacute\;o\, relacion&aacute\
 ;ndolos con otros parques o cerros cercanos en una continuidad ambiental y
  ecol&oacute\;gica. Es as&iacute\; que a partir de la consolidaci&oacute\;
 n de MAPOCHO 42K\, se consigue integrar al Sistema de Parques ribere&ntild
 e\;os\, algunos importantes parques adyacentes como el parque Bustamante\,
  el parque Metropolitano o las riberas del Canal San Carlos\, al modo de u
 n Sistema de Parques Integrados que conecta espacios p&uacute\;blicos vinc
 ulados al espacio del agua\, permitiendo consolidar con ello una matriz ge
 ogr&aacute\;fica y ecol&oacute\;gica para Santiago\, como principal compon
 ente de su desarrollo urbano.\n\nFecha_\nMartes 15 de mayo de 2018\,&nbsp\
 ;19.00 hrs.\n&nbsp\;\n&nbsp\;\nLugar_Auditorio FADEU\,&nbsp\;Campus Lo Con
 tador.&nbsp\;El Comendador 1916\, Providencia.\n&nbsp\;\n&nbsp\;\nInvitan_
 \nM42k_Lab.\nEscuela de Arquitectura UC.\nEdiciones ARQ.\n&nbsp\;\n&nbsp\;
 \nConfirmaci&oacute\;n de Asistencia_\ncoordinador@mapocho42k.cl&nbsp\;\n&
 nbsp\;\n&nbsp\;\nLink_\nwww.mapocho42k.cl\n&nbsp\;\n https://fadeu-old.ura
 ntiacos.cl/agenda/evento/1536-lanzamiento-libro-mapocho-42k
DTSTART:20180515T230000Z
DTEND:20180516T000000Z
LOCATION:Auditorio FADEU\, Campus Lo Contador PUC (El Comendador 1916\, Pro
 videncia\, Providencia\, Región Metropolitana\, Chile)
SUMMARY:Lanzamiento libro Mapocho 42K
URL:https://fadeu-old.urantiacos.cl/agenda/evento/1536-lanzamiento-libro-ma
 pocho-42k
END:VEVENT
BEGIN:VEVENT
UID:20260420T222534UTC-2726EPaA77@https://fadeu-old.urantiacos.cl/
DTSTAMP:20260420T222534Z
DESCRIPTION:Tenemos el agrado de invitarlos a la segunda sesi&oacute\;n de 
 la&nbsp\;Serie : Jornadas de Investigaci&oacute\;n en el Instituto.&nbsp\;
 En esta ocasi&oacute\;n el acad&eacute\;mico&nbsp\;Francisco Sabatini&nbsp
 \;dictar&aacute\; la charla:&nbsp\;Nuevas plusval&iacute\;as y re-configur
 aci&oacute\;n de la segregaci&oacute\;n socio-espacial en ciudades chilena
 s.\nLa actividad se realizar&aacute\; el d&iacute\;a&nbsp\;martes 15 de ma
 yo a partir de las 13:00 h.&nbsp\;en el Sal&oacute\;n Sergio Larra&iacute\
 ;n.&nbsp\;El Comendador 1916\, Providencia.\nCupos limitados e inscripcion
 es en:&nbsp\;inscripcionesieut@uc.clSe compartir&aacute\; un almuerzo livi
 ano con los asistentes.\nOrganiza: Instituto de Estudios Urbanos y Territo
 riales UC\n&nbsp\;\n https://fadeu-old.urantiacos.cl/agenda/evento/1537-2-
 jornadas-de-investigacion
DTSTART:20180515T170000Z
DTEND:20180515T180000Z
LOCATION:Salón Sergio Larraín\, Campus Lo Contador ()
SUMMARY:2 Jornadas de Investigación
URL:https://fadeu-old.urantiacos.cl/agenda/evento/1537-2-jornadas-de-invest
 igacion
END:VEVENT
END:VCALENDAR
