BEGIN:VCALENDAR
VERSION:2.0
PRODID:-//https://fadeu-old.urantiacos.cl///NONSGML kigkonsult.se iCalcreator 2.10.15//
METHOD:PUBLISH
BEGIN:VEVENT
UID:20260420T222534UTC-14387cvEVU@https://fadeu-old.urantiacos.cl/
DTSTAMP:20260420T222534Z
DESCRIPTION:En los d&iacute\;as de celebraci&oacute\;n del Patrimonio Cultu
 ral se expondr&aacute\; en el T&uacute\;nel Oriente de Lo Contador un conj
 unto de ampliaciones en gel de plata.&nbsp\;Las fotograf&iacute\;as presen
 tan desde el punto de vista de Philippe las diversas edificaciones del Cam
 pus Lo Contador.\n&nbsp\;\nLa fotograf&iacute\;a es una mirada particular 
 y disciplinada sobre el mundo. Es un punto de vista y una opini&oacute\;n.
  Busca una estructura en el mundo y modestamente en una hoja de papel lo r
 eordena\, cada vez.\n&nbsp\;\nEstas im&aacute\;genes ofrecen un contrapunt
 o a los anhelos de permanencia de la arquitectura. Un contrapunto que es u
 n di&aacute\;logo en el que las formas y materiales proponen una lectura f
 rente a a la cual la luz y estructura visual de la imagen entregan una res
 puesta.\n&nbsp\;\n&nbsp\;\nTodas las fotograf&iacute\;as de esta muestra f
 ueron hechas en forma an&aacute\;loga con c&aacute\;maras de medio y gran 
 formato\, revelados y ampliados en gel de plata en base de papel fibra.\n&
 nbsp\;\n&nbsp\;\nLugar_\nSala T&uacute\;nel Oriente\, Casona del campus Lo
  Contador. El Comendador 1916\, Providencia.\n&nbsp\;\n&nbsp\;\nFecha_\n26
  y 27 de mayo\, 10.00 a 16.00 horas.\n&nbsp\;\n https://fadeu-old.urantiac
 os.cl/agenda/evento/1557-exposicion-un-dialogo-material-philippe-blanc
DTSTART:20180526T040000Z
LOCATION:Sala Túnel Oriente (El Comendador 1916\, Providencia\, Región Metr
 opolitana\, Chile)
SUMMARY:Exposición 'Un Dialogo Material' / Philippe Blanc
URL:https://fadeu-old.urantiacos.cl/agenda/evento/1557-exposicion-un-dialog
 o-material-philippe-blanc
END:VEVENT
BEGIN:VEVENT
UID:20260420T222534UTC-1443dH2ctG@https://fadeu-old.urantiacos.cl/
DTSTAMP:20260420T222534Z
DESCRIPTION:Inauguraci&oacute\;n exposici&oacute\;n &ldquo\;Quite The Oppos
 ite\, Casas y Cosas de Parra&rdquo\;\n&nbsp\;\nDesde agosto de 2017 Emilio
  De la Cerda\, Subsecretario del Patrimonio Cultural del Ministerio de las
  Culturas\, las Artes y el Patrimonio\, se encuentra dirigiendo un equipo 
 encargado de catastrar y realizar el inventario de los archivos y bienes i
 nmuebles y muebles del patrimonio dejado por el fallecido antipoeta chilen
 o Nicanor Parra\, quien bautiz&oacute\; esta tarea como 'Operaci&oacute\;n
  inventario'. El trabajo de catastro de las cuatro casas de Parra -La Rein
 a\, Las Cruces\, Huechuraba e Isla Negra- fue solicitado por la misma fami
 lia de Nicanor\, representados por Colombina Parra -hija-\, Josefa Parra y
  Crist&oacute\;bal Ugarte -nietos-\, quienes forman parte del&nbsp\;equipo
  compuesto adem&aacute\;s por 15 profesionales de diversas &aacute\;reas: 
 fot&oacute\;grafos\, arquitectos\, documentalistas\, historiadores\, ingen
 ieros en inform&aacute\;tica\, entre otros. Esta haza&ntilde\;a es apoyada
  directamente por la Pontificia Universidad Cat&oacute\;lica de Chile.\n&n
 bsp\;\n&nbsp\;\nEn tal contexto\, y con el fin de sumar esfuerzos en las t
 areas de catastro\, Emilio De la Cerda junto al arquitecto y docente de nu
 estra escuela Pedro Correa\, se encuentran dirigiendo desde este a&ntilde\
 ;o el taller de licenciatura del programa de Mag&iacute\;ster en Arquitect
 ura UC\, denominado 'Quite the Opposite'\, en el cual Crist&oacute\;bal Ug
 arte -nieto de Nicanor Parra- es ayudante. Los estudiantes del taller han 
 realizado levantamientos de los diferentes inmuebles y especulaciones sobr
 e posibles transformaciones de las 4 casas\, en especial de Las Cruces y d
 e La Reina\, para convertirlas en anti-museos.\n&nbsp\;\n&nbsp\;\nEn una e
 ntrevista al diario&nbsp\;El Mercurio\, en la secci&oacute\;n Artes y Letr
 as\, Emilio de la Cerda dice:\n&nbsp\;\n'Le preguntamos a &eacute\;l -Nica
 nor Parra- c&oacute\;mo ser&iacute\;a un antimuseo\, tratando de perfilar 
 un poco el tema del taller. Y su respuesta fue Quite the opposite. Lo que 
 est&aacute\; diciendo es 'mira\, es justo lo contrario de lo que podr&iacu
 te\;a ser un museo tradicional'\, y eso\, ya como pensamiento de arquitect
 ura\, puede ser muy interesante. Est&aacute\;n las casas de &eacute\;l\, q
 ue algunas ya exist&iacute\;an: la de Las Cruces\, tambi&eacute\;n la que 
 se quem&oacute\;\, la de Huechuraba (Conchal&iacute\;)\, la de Isla Negra\
 , pero la de La Reina es muy especial\, porque &eacute\;l la fue armando e
 n base a diferentes momentos y a diferentes m&oacute\;dulos'. Y detalla: '
 Bautiza partes con nombres: la Capilla\, la Pagoda\; tiene una l&oacute\;g
 ica de autoconstrucci&oacute\;n\; hay unas estrategias de descontextualiza
 ci&oacute\;n.\n&nbsp\;\nCreemos que la casa de La Reina es una pieza s&uac
 ute\;per compleja\, y nos gustar&iacute\;a levantarla (dibujarla) con lujo
  de detalles\, que ese levantamiento pase a ser parte del inventario. Vamo
 s a levantar todas las casas\, en realidad. Y luego\, los alumnos van a es
 pecular acerca de escenarios posibles para hacerse cargo de los sitios\, d
 e las casas y eventualmente de operaciones museogr&aacute\;ficas ligadas a
  parte de las colecciones en estos sitios'. Todo eso\, por el momento\, es
 t&aacute\; pensado solo para la sala de clases: 'Por supuesto que la parte
  especulativa y de proyectos se da en un &aacute\;mbito acad&eacute\;mico 
 y no tiene ninguna voluntad de hacerse realidad\, pero s&iacute\; lo que h
 ace es establecer una entrada desde otra disciplina a una dimensi&oacute\;
 n del autor que es muy desconocida y muy relevante'.\n&nbsp\;\n&nbsp\;\nEl
  pr&oacute\;ximo viernes 25 de mayo a las 14 hrs. se realizar&aacute\; la 
 inauguraci&oacute\;n de la exposici&oacute\;n que muestra todo el trabajo 
 realizado hasta la fecha en el taller. La entrada es liberada sin previa i
 nscripci&oacute\;n.\nFecha_\nViernes 25 de Mayo\, 14.00 hrs.\nLugar_\nCorr
 edor Segundo Piso Casona (hacia el patio de Madera). Campus Lo Contador. E
 l Comendador 1916\, Providencia.\n&nbsp\;\n&nbsp\;\nOrganiza_\nProfesores 
 y Estudiantes del TIP MARQ 2018\n&nbsp\;\n https://fadeu-old.urantiacos.cl
 /agenda/evento/1556-inauguracion-exposicion-quite-the-opposite-casas-y-cos
 as-de-parra
DTSTART:20180525T180000Z
DTEND:20180525T190000Z
LOCATION:Corredor Segundo Piso Casona (El Comendador 1916\, Providencia\, R
 egión Metropolitana\, Chile)
SUMMARY:Inauguración exposición “Quite The Opposite\, Casas y Cosas de Parr
 a”
URL:https://fadeu-old.urantiacos.cl/agenda/evento/1556-inauguracion-exposic
 ion-quite-the-opposite-casas-y-cosas-de-parra
END:VEVENT
BEGIN:VEVENT
UID:20260420T222534UTC-1456SNs2RI@https://fadeu-old.urantiacos.cl/
DTSTAMP:20260420T222534Z
DESCRIPTION:El pr&oacute\;ximo jueves&nbsp\;24 de mayo a las 19 hrs&nbsp\;s
 e realizar&aacute\; el&nbsp\;lanzamiento internacional&nbsp\;en Venecia de
 l &uacute\;ltimo n&uacute\;mero de la revista&nbsp\;ARQ: MASIVIDAD\, junto
  al anuncio de la pr&oacute\;xima publicaci&oacute\;n&nbsp\;conjunta entre
 &nbsp\;Columbia GSAPP&nbsp\;y&nbsp\;&nbsp\;The&nbsp\;PennState Stuckeman S
 chool\, titulada&nbsp\;FAKTUR.&nbsp\;El lanzamiento ser&aacute\; en&nbsp\;
 Emily Harvey Foundation de Venecia\, y contar&aacute\; con&nbsp\;la presen
 taci&oacute\;n del&nbsp\;Editor General de Ediciones ARQ y Revista ARQ&nbs
 p\;Francisco D&iacute\;az&nbsp\;&nbsp\;y&nbsp\;del Editor General de FAKTU
 R&nbsp\;&nbsp\;Pep Avil&eacute\;s\,&nbsp\;con los comentarios de&nbsp\;&nb
 sp\;Pedro Alonso&nbsp\;(Subdirector de Investigaci&oacute\;n y Postgrado d
 e la Escuela de Arquitectura UC)\,&nbsp\;Eva Franch&nbsp\;(Directora de la
  AA School)\, Anna Puigjanner&nbsp\;(socia-fundadora MAIO architects)\,&nb
 sp\;Manuel Herz&nbsp\;(socio-fundador Manuel Herz architects)&nbsp\;y la p
 articipaci&oacute\;n de&nbsp\;Storefront NYC&nbsp\;y el&nbsp\;Centre for D
 ocumentary Architecture.\n&nbsp\;\nARQ 98 / Masividad\n&nbsp\;\nEste núme
 ro de ARQ no sólo analiza esa condición\, sino también busca interrogar
 la desde la arquitectura. Anna Puigjaner nos presenta cocinas colectivas e
 n distintas partes del mundo. Saskia Sassen analiza las desigualdades masi
 vas que vemos hoy. Keller Easterling propone una aplicación telefónica p
 ara generar cambios a gran escala. Baraona y Reyes nos muestran los costos
  energéticos que implica la producción de bitcoins. Dogma discute sobre 
 la vivienda colectiva asociada al lugar de trabajo. Mobil Arquitectos demu
 estra\, en la nueva línea de metro en Santiago\, que la arquitectura sí 
 puede mejorar la experiencia del transporte masivo.El Equipo Mazzanti sist
 ematiza la arquitectura para intervenir a escala masiva. De Castro cuestio
 na la masividad de un concepto formulado por los organismos globales. Pedr
 o Alonso nos muestra cómo en Moscú se destruyen las viviendas masivas so
 viéticas. OMA y Büro Ole Scheeren logran que un conjunto de poco más de
  1.000 departamentos no se vea masivo. Muszbek y Froimovich reposicionan e
 l argumento de la crisis de la vivienda.\n&nbsp\;\nEl taller de Bresciani 
 y equipo explora el diseño de pedazos completos de ciudad. El proyecto de
  Marsino Arquitectos permite evaluar la vivienda masiva desarrollada por e
 l mercado. Finalmente\, las responsabilidades por la hiperdensificación e
 n Santiago se discuten en el debate.\n&nbsp\;\nFecha_\nJueves 24 de mayo d
 e 2018\, 19.00hrs.\n&nbsp\;\n&nbsp\;\nLugar_\nEmily Harvey Foundation\, Sa
 n Polo 322\, Venecia.\n&nbsp\;\n&nbsp\;\nOrganizan_\nEscuela de Arquitectu
 ra UC\nPennState College of Arts and Architecture\nColumbia GSAPP\nCentre 
 for Documentary Architecture\nStorefront for Art and Architecture NYC\n&nb
 sp\;\n https://fadeu-old.urantiacos.cl/agenda/evento/1549-lanzamiento-inte
 rnacional-arq-98-venecia
DTSTART:20180524T230000Z
DTEND:20180525T000000Z
LOCATION:Emily Harvey Foundation (Calle dei Muti S. Polo\, 322\, 30125 Vene
 zia VE\, Italia)
SUMMARY:Lanzamiento Internacional ARQ 98 / Venecia
URL:https://fadeu-old.urantiacos.cl/agenda/evento/1549-lanzamiento-internac
 ional-arq-98-venecia
END:VEVENT
BEGIN:VEVENT
UID:20260420T222534UTC-1465pCMmM0@https://fadeu-old.urantiacos.cl/
DTSTAMP:20260420T222534Z
DESCRIPTION:Tenemos el agrado de invitarlos a la&nbsp\;Charla |&nbsp\;MapsU
 rbe. The invisible city\, Mapuche mapping&nbsp\; of Santiago de Chile\, un
  proyecto en co-labor\, dictada por&nbsp\;Olivia Casagrande\, Claudio Alva
 rado Lincopi y Roberto Cayqueo Mart&iacute\;nez.\nLa actividad se realizar
 &aacute\; el&nbsp\;Jueves 24 de mayo a las&nbsp\;13 hrs.&nbsp\;en la&nbsp\
 ;Sala de Consejo IEUT\,&nbsp\;Campus Lo Contador&nbsp\;(El Comendador 1916
 \, Providencia).&nbsp\;\nInscripciones en:&nbsp\;inscripcionesieut@uc.cl\n
 En la charla se presentar&aacute\; el proyecto&nbsp\;MapsUrbe. The invisib
 le city\, Mapuche mapping&nbsp\; of Santiago de Chile.\nResumenA partir de
  una reflexi&oacute\;n en torno al concepto de Mapurbe (David Ani&ntilde\;
 ir) y de la b&uacute\;squeda de una descolonizaci&oacute\;n metodol&oacute
 \;gica\, se est&aacute\; desarrollando un proceso colaborativo de interpre
 taci&oacute\;n y creaci&oacute\;n\, junto a j&oacute\;venes Mapuche de San
 tiago de Chile. A trav&eacute\;s de este proceso se pretende llegar a una 
 representaci&oacute\;n de la urbe y de la relaci&oacute\;n con ella\, elab
 orando cr&iacute\;ticamente una pr&aacute\;ctica de 'mapeo&rdquo\; que nos
  permita relevar las tensiones espaciales\, pol&iacute\;ticas y po&eacute\
 ;ticas de la significativa presencia Mapuche en la capital\, incluidos &aa
 cute\;mbitos y elementos que no son visibles en el inmediato&nbsp\;&nbsp\;
 &ndash\;como memorias colectivas y personales\, narraciones\, imaginacione
 s y conflictos&ndash\; y que sin embargo terminan incorpor&aacute\;ndose e
 n el paisaje urbano.\n&nbsp\;\n https://fadeu-old.urantiacos.cl/agenda/eve
 nto/1544-charla-mapsurbe-the-invisible-city-mapuche-mapping-of-santiago-de
 -chile-un-proyecto-en-co-labor
DTSTART:20180524T170000Z
DTEND:20180524T180000Z
LOCATION:Sala Consejo Instituto de Estudios Urbanos (El Comendador 1916\, P
 rovidencia\, Región Metropolitana\, Chile)
SUMMARY:Charla MapsUrbe. The invisible city\, Mapuche mapping  of Santiago 
 de Chile\, un proyecto en co-labor
URL:https://fadeu-old.urantiacos.cl/agenda/evento/1544-charla-mapsurbe-the-
 invisible-city-mapuche-mapping-of-santiago-de-chile-un-proyecto-en-co-labo
 r
END:VEVENT
BEGIN:VEVENT
UID:20260420T222534UTC-147131orRU@https://fadeu-old.urantiacos.cl/
DTSTAMP:20260420T222534Z
DESCRIPTION:El&nbsp\;Programa de Artesan&iacute\;a&nbsp\;de la Escuela de D
 ise&ntilde\;o UC\, festeja el d&iacute\;a del Patrimonio cultural con un c
 iclo de talleres a cargo de artesanos y artesanas tradicionales de la zona
  central\, que se realizar&aacute\;n entre el d&iacute\;a jueves 24 de may
 o y el s&aacute\;bado 26\, en dependencias de la Escuela de Dise&ntilde\;o
  de la Universidad Cat&oacute\;lica.\nCada uno de los talleres tendr&aacut
 e\; dos horas de duraci&oacute\;n\, la participaci&oacute\;n es gratuita\,
  previa inscripci&oacute\;n y los cupos son limitados.&nbsp\;&nbsp\;En la 
 actividad\, los asistentes podr&aacute\;n conocer a cuatro destacados expo
 nentes de la artesan&iacute\;a nacional y realizar una peque&ntilde\;a pie
 za que les permitir&aacute\; experimentar con una materia prima y una t&ea
 cute\;cnica espec&iacute\;fica.\nLos d&iacute\;as y horarios son los sigui
 entes:\nJueves 24: Taller Cester&iacute\;a en crin\, oficio tradicional de
  Rari\, por la artesana Hilda D&iacute\;az\, sala 201\, de&nbsp\;13.00 a 1
 5.00 horas.&nbsp\;\nHilda D&iacute\;az\,&nbsp\;trabaja la cester&iacute\;a
  en crin de caballo desde los 6 a&ntilde\;os de edad\, cuando su mam&aacut
 e\; le ense&ntilde\;&oacute\; el oficio. Recibi&oacute\; el Sello de Excel
 encia a la Artesan&iacute\;a en 2013 con la pieza &ldquo\;Ramo y Tocado en
  Crin&rdquo\; y en 2016 nuevamente con la pieza &ldquo\;Remolinos&rdquo\; 
 donde trabaj&oacute\; en colaboraci&oacute\;n con el artesano orfebre Juan
  Lobos.\n\nViernes 25: Taller de Alfarer&iacute\;a en Miniatura de Pomaire
 \, por la artesana Doris Vallejos\, sala 201\, de&nbsp\;13.00 a 15.00 hora
 s.\nDoris Vallejos\,&nbsp\;es una maestra alfarera de miniaturas que resid
 e en la localidad de Pomaire. Hered&oacute\; el oficio mirando a su madre 
 y&nbsp\;&nbsp\;abuela quienes pertenec&iacute\;an a una familia&nbsp\;&nbs
 p\;especializada en hacer peque&ntilde\;as versiones de la loza tradiciona
 l. Doris modela&nbsp\;&nbsp\;diminutas&nbsp\;&nbsp\;y finas pailas\, ollas
 \, c&aacute\;ntaros y el&nbsp\;&nbsp\;infaltable chanchito de tres patas c
 aracter&iacute\;stico de la localidad.\n\nS&aacute\;bado 26:&nbsp\;Taller 
 de Cester&iacute\;a en mimbre de Chimbarongo\, por el artesano Rodolfo Cas
 tro\, sala Capilla\, de&nbsp\;11.00 a 13.00 horas. En la misma sala\, se e
 xhibir&aacute\; la obra &ldquo\;&Uacute\;ltima cena&rdquo\;\, que en una e
 xtensi&oacute\;n superior a los 7 metros\, recrea la escena religiosa en f
 ibras vegetales\, realizada por este destacado artesano\, en el marco de u
 n proyecto Fondart 2017.\nRodolfo Castro\,&nbsp\;centra su historia en Chi
 mbarongo\, en la VI Regi&oacute\;n\, donde tiene su taller y se encuentran
  las plantaciones de mimbre. Ha trabajado con dise&ntilde\;adores contempo
 r&aacute\;neos posicion&aacute\;ndolo en un espectro &uacute\;nico dentro 
 de la artesan&iacute\;a\, la innovaci&oacute\;n y nuevas t&eacute\;cnicas 
 de tejido\, pero manteniendo siempre su amor por lo tradicional.\n\nS&aacu
 te\;bado 26: Taller de Volantines\, por el artesano Boris Prado\, sala Cap
 illa\, de&nbsp\;11.00 a 13.00 horas.\nBoris Prado\,&nbsp\;es nieto de don 
 Guillermo Prado Catal&aacute\;n\, quien fuera un autodidacta apasionado po
 r la aviaci&oacute\;n\, profesor de aerodin&aacute\;mica y quien analiz&oa
 cute\; matem&aacute\;ticamente las proporciones\, tama&ntilde\;o y peso id
 eal de un volant&iacute\;n a fin de establecer la f&oacute\;rmula definiti
 va para crear uno. Boris mantiene la tradici&oacute\;n desde que su abuelo
  falleci&oacute\; en 2003\, participando en ferias\, exposiciones e interv
 enciones urbanas.\n&nbsp\;\n https://fadeu-old.urantiacos.cl/agenda/evento
 /1533-dia-del-patrimonio-2018-talleres-de-artesania-en-diseno-uc
DTSTART:20180524T040000Z
LOCATION:Campus Lo Contador (El Comendador 1916\, Providencia\, Providencia
 \, Región Metropolitana\, Chile)
SUMMARY:Día del Patrimonio 2018: Talleres de artesanía en Diseño UC
URL:https://fadeu-old.urantiacos.cl/agenda/evento/1533-dia-del-patrimonio-2
 018-talleres-de-artesania-en-diseno-uc
END:VEVENT
BEGIN:VEVENT
UID:20260420T222534UTC-1482TaTzFW@https://fadeu-old.urantiacos.cl/
DTSTAMP:20260420T222534Z
DESCRIPTION:Bienal de Venecia 2018 / 16&ordf\; Exposici&oacute\;n Internaci
 onal de Arquitectura: FREESPACE\nAbierto al p&uacute\;blico desde el s&aac
 ute\;bado 26 de mayo al domingo 25 de noviembre de 2018\, en el Giardini y
  el Arsenale\, la 16&ordf\; Exposici&oacute\;n Internacional de Arquitectu
 ra\, titulada FREESPACE\, estar&aacute\; comisariada por Yvonne Farrell y 
 Shelley McNamara y organizada por La Biennale di Venezia presidida por Pao
 lo Baratta . La presentaci&oacute\;n preliminar tendr&aacute\; lugar el 24
  y 25 de mayo\, la ceremonia de entrega de premios y la inauguraci&oacute\
 ;n se llevar&aacute\;n a cabo el s&aacute\;bado 26 de mayo de 2018.\n&laqu
 o\;Con el objetivo de promover el' deseo 'de arquitectura&raquo\;\, el pre
 sidente Baratta explic&oacute\; que esta edici&oacute\;n comisariada por Y
 vonne Farrell y Shelley McNamara se centra en la cuesti&oacute\;n del espa
 cio\, la calidad del espacio\, el espacio abierto y el espacio libre. El p
 ar&aacute\;metro fundamental de referencia se indica con gran claridad.\nL
 a Exposici&oacute\;n FREESPACE se desarrollar&aacute\; desde el Central Pa
 vilion (Giardini) hasta el Arsenale\, e incluir&aacute\; 71 participantes.
 \nA los 71 participantes se unir&aacute\;n otros reunidos en dos Secciones
  Especiales: el primer grupo\, 16 participantes\, se llama Close Encounter
 \, meetings with remarkable projects y presentar&aacute\; trabajos que se 
 originan en una reflexi&oacute\;n sobre edificios conocidos del pasado\; e
 l segundo cuenta con 12 participantes\, y se titula The Practice of Teachi
 ng\, recogiendo proyectos desarrollados como parte de las experiencias de 
 ense&ntilde\;anza.\nPabell&oacute\;n chileno Stadium: Un edificio para vis
 ualizar la imagen de una ciudad\nEl pr&oacute\;ximo jueves 24 de mayo se i
 naugura el Pabell&oacute\;n chileno Stadium\, abriendo a todo p&uacute\;bl
 ico el s&aacute\;bado 26.\nLa propuesta recrea\, revisita y actualiza\, un
  evento en que el Estadio Nacional de Chile fue por un d&iacute\;a edifici
 o y ciudad: el 29 de septiembre de 1979 llenaron sus grader&iacute\;as 40.
 000 familias (250.000 personas) de toda la ciudad de Santiago\, no para un
  evento deportivo\, cultural\, ni religioso\, sino para firmar los documen
 tos que los transformar&iacute\;an de pobladores en propietarios. D&iacute
 \;as antes circul&oacute\; un fasc&iacute\;culo con la lista de convocados
  junto a una planta del Estadio &ndash\;a la vez diagrama y proxy de la ci
 udad completa.\nTanto la propuesta curatorial como el dise&ntilde\;o del p
 abell&oacute\;n se origina a partir de ese dibujo especialmente preparado 
 por el SERVIU para ese evento\, en el que en lugar de grader&iacute\;as la
  geometr&iacute\;a oval es redibuja por el trazado de veinte comunas de la
  ciudad\, individualizadas en un centenar de barrios\, villas y poblacione
 s que trasladan al observador desde ese centro en la comuna de &Ntilde\;u&
 ntilde\;oa\, a m&uacute\;ltiples periferias distantes y distintas.El pabel
 l&oacute\;n actualiza esta planta. La muestra recrea esta planta a la altu
 ra de la vista\, donde cada sector del coliseo-poblaci&oacute\;n es extrui
 do como bloque siguiendo la trama del fragmento de ciudad del cual provien
 e\, a kil&oacute\;metros de distancia. Bloques de vivienda de arcilla coci
 da\, como los ladrillos que las construyen\, se suspenden desde el cielo d
 e la sala\, reconstruyendo el per&iacute\;metro del estadio-ciudad. Por un
  lado\, el pabell&oacute\;n celebra la condici&oacute\;n de freespace del 
 edifico al relatar tres estadios del Estadio y las posibilidades de sosten
 er eventos de &iacute\;ndole tan diversa como acontecimientos deportivos\,
  pol&iacute\;ticos\, religioso o de espect&aacute\;culo\, y por otro revel
 a y problematiza las consecuencia que la ret&oacute\;rica de freespace ha 
 significado para la ciudad: la naturalizaci&oacute\;n de la l&oacute\;gica
  de la propiedad privada\, la liberalizaci&oacute\;n del suelo\, la desreg
 ulaci&oacute\;n y atomizaci&oacute\;n de la vivienda\, las cuales fueron c
 elebrada masivamente aquel d&iacute\;a\, a estadio lleno.\nCr&eacute\;dito
 s_\nCuradora:&nbsp\;Alejandra Celed&oacute\;n\nComisario:&nbsp\;Crist&oacu
 te\;bal Molina (Ministerio de las Culturas\, las Artes y el Patrimonio)\nD
 ise&ntilde\;o:&nbsp\;Tom&aacute\;s Villal&oacute\;n &amp\; Leonardo Quinte
 ros\nDirecci&oacute\;n de contenidos:&nbsp\;Alejandra Celed&oacute\;n &amp
 \; Stephannie Fell\nIdentidad gr&aacute\;fica:&nbsp\;Kathryn Gillmore\nPro
 yecto audovisual: Javier Correa\nMultimedia:&nbsp\;Gonzalo Puga &amp\; Arg
 uzia S.r.l\nModelo:&nbsp\;Patricio Arias\, (Surtierra). Milton Gonz&aacute
 \;lez\, Mart&iacute\;n Busel\, Roberto Gonz&aacute\;lez\, Nicol&aacute\;s 
 Navarrete\, Catalina Palma\, Leonardo Quinteros\, Leonardo Salgado\nCiudad
 :&nbsp\;Jean Petitpas\nOrganizaci&oacute\;n:&nbsp\;Ministerio de las Cultu
 ras\, las Artes y el Patrimonio - &Aacute\;rea de Arquitectura\,&nbsp\;Aus
 piciadores:&nbsp\;DIRAC\, Fundaci&oacute\;n Imagen de Chile\, ProChile\, A
 rquitectura de Chile\, Televisi&oacute\;n Nacional de Chile\, Pontificia U
 niversidad Cat&oacute\;lica de Chile\, Museo de la Memoria y los Derechos 
 Humanos\, Asociaci&oacute\;n de Oficinas de Arquitectos (AOA)\nProducci&oa
 cute\;n:&nbsp\;Eiletz | Ortigas architects\n&nbsp\;\n https://fadeu-old.ur
 antiacos.cl/agenda/evento/1546-inauguracion-pabellon-de-chile-en-bienal-de
 -venecia-2018
DTSTART:20180524T040000Z
LOCATION:Bienal de venecia (Calle Ridotto\, 1364/A\, 30100 San Marco\, Vene
 zia VE\, Italia)
SUMMARY:Inauguración Pabellón de Chile en Bienal de Venecia 2018
URL:https://fadeu-old.urantiacos.cl/agenda/evento/1546-inauguracion-pabello
 n-de-chile-en-bienal-de-venecia-2018
END:VEVENT
BEGIN:VEVENT
UID:20260420T222534UTC-1497V2APgd@https://fadeu-old.urantiacos.cl/
DTSTAMP:20260420T222534Z
DESCRIPTION:Puertas Abiertas&nbsp\;tiene por objetivo reunir a todos los al
 umnos de cuarto a&ntilde\;o medio\, interesados en estudiar Arquitectura. 
 Nuestra escuela abre sus puertas para presentar en sociedad su producci&oa
 cute\;n.\n&nbsp\;\nFecha_\nMartes 22 de Mayo de 2018\, 10.30 hrs.\n&nbsp\;
 \nLugar_\nCampus Lo Contador\, Hall del edificio de arquitectura. El Comen
 dador #1936\, Providencia.\n&nbsp\;\n&nbsp\;\nPrograma de la actividad_\n-
  Charla de estudiante de arquitectura- Charla acad&eacute\;mico- Ejercicio
  Proyectual y pr&aacute\;ctico para los alumnos asistentes- Sorteo de Revi
 stas ARQ\n&nbsp\;\n&nbsp\;\nParticipaci&oacute\;n de profesores de la Escu
 ela de Arquitectura UC_\n- Pilar Urrejola\n- Pilar Garc&iacute\;a\n- Wren 
 Strabucchi\n- Jos&eacute\; Quintanilla\n&nbsp\;\n&nbsp\;\nInscripciones pr
 evias al mail_\narq@uc.cl&nbsp\;\n&nbsp\;\n https://fadeu-old.urantiacos.c
 l/agenda/evento/1535-puertas-abiertas
DTSTART:20180522T143000Z
DTEND:20180522T153000Z
LOCATION:Hall Edificio de Arquitectura (El Comendador 1936)
SUMMARY:Puertas Abiertas
URL:https://fadeu-old.urantiacos.cl/agenda/evento/1535-puertas-abiertas
END:VEVENT
END:VCALENDAR
