BEGIN:VCALENDAR
VERSION:2.0
PRODID:-//https://fadeu-old.urantiacos.cl///NONSGML kigkonsult.se iCalcreator 2.10.15//
METHOD:PUBLISH
BEGIN:VEVENT
UID:20260420T015227UTC-7932ipWZgO@https://fadeu-old.urantiacos.cl/
DTSTAMP:20260420T015227Z
DESCRIPTION:En el marco del ciclo de Agenda Patrimonial\, se realizar&aacut
 e\; la Charla:&nbsp\;Recept&aacute\;culos de fe: El caso de la Catedral de
  Notre Dame de Paris\, el d&iacute\;a&nbsp\;mi&eacute\;rcoles 29 de mayo a
  las 18:30 hrs. en Campus Oriente.\n&nbsp\;\n&nbsp\; https://fadeu-old.ura
 ntiacos.cl/agenda/evento/1879-receptaculos-de-fe-el-caso-de-la-catedral-de
 -notre-dame-de-paris
DTSTART:20190529T223000Z
DTEND:20190529T233000Z
LOCATION:Auditorio III\, Campus Oriente UC (Jaime Guzman Errázuriz 3300\, P
 rovidencia)
SUMMARY:Receptáculos de fe: El caso de la Catedral de Notre Dame de Paris
URL:https://fadeu-old.urantiacos.cl/agenda/evento/1879-receptaculos-de-fe-e
 l-caso-de-la-catedral-de-notre-dame-de-paris
END:VEVENT
BEGIN:VEVENT
UID:20260420T015227UTC-7938Guxlvl@https://fadeu-old.urantiacos.cl/
DTSTAMP:20260420T015227Z
DESCRIPTION:&iquest\;Es posible hacer m&aacute\;s de lo que estamos haciend
 o para mitigar el efecto del carbono negro? prepar&aacute\;ndonos para la 
 COP25 es vital revisar la contribuci&oacute\;n nacional determinada (NDC)\
 , espec&iacute\;ficamente en lo que respecta a esta &aacute\;rea.\nEl carb
 ono negro es un contaminante clim&aacute\;tico que permanece entre unos d&
 iacute\;as y un par de semanas en la atm&oacute\;sfera. Durante este breve
  lapso puede impactar directa e indirectamente sobre el clima\, las region
 es glaciares\, la agricultura y la salud humana. Por ello\, su mitigaci&oa
 cute\;n\, adem&aacute\;s de reducir el calentamiento global\, evitar&iacut
 e\;a enfermedades y millones de muertes prematuras asociadas a la contamin
 aci&oacute\;n del aire\, contribuyendo as&iacute\; con los Objetivos de De
 sarrollo Sostenible.\nPara abordar esta problem&aacute\;tica y los comprom
 isos de nuestro pa&iacute\;s\, la Coalici&oacute\;n del Clima y Aire Limpi
 o (CCAC)\; el Consejo para la Defensa de Recursos Naturales (NRDC)\; la As
 ociaci&oacute\;n Interamericana para la Defensa del Ambiente (AIDA)\; y la
  Oficina de Cambio Clim&aacute\;tico del Ministerio del Medio Ambiente de 
 Chile\, organizan el encuentro &iquest\;Es posible aumentar el compromiso 
 de Chile con pol&iacute\;ticas integradas para Clima y un Aire Limpio? que
  se desarrollar&aacute\; el pr&oacute\;ximo jueves 28 de mayo.\nDicha acti
 vidad se realizar&aacute\; en el Auditorio Fernando Castillo Velasco de la
  Facultad de Arquitectura UC en el Campus Lo Contador (El Comendador 1936\
 , Providencia) y cuenta con el patrocinio del Centro de Desarrollo Urbano 
 Sustentable (CEDEUS).\nINSCRIPCIONES&nbsp\;AQU&Iacute\;\nMayor informaci&o
 acute\;n en este&nbsp\;link\n\n&nbsp\; https://fadeu-old.urantiacos.cl/age
 nda/evento/1870-encuentro-politicas-integradas-para-clima-y-aire-limpio-mm
 a-ccac-nrdc-aida-cedeus
DTSTART:20190528T130000Z
DTEND:20190528T170000Z
LOCATION:Auditorio Fernando Castillo Velasco. Edificio ARQ (El Comendador 1
 936\, Providencia\, Región Metropolitana\, Chile)
SUMMARY:Encuentro 'Políticas Integradas para clima y aire limpio' | MMA + C
 CAC + NRDC + AIDA + CEDEUS
URL:https://fadeu-old.urantiacos.cl/agenda/evento/1870-encuentro-politicas-
 integradas-para-clima-y-aire-limpio-mma-ccac-nrdc-aida-cedeus
END:VEVENT
BEGIN:VEVENT
UID:20260420T015227UTC-79452r9jEv@https://fadeu-old.urantiacos.cl/
DTSTAMP:20260420T015227Z
DESCRIPTION:\nLa exposici&oacute\;n 'La vista panor&aacute\;mica de Santiag
 o de T. R. Harvey c.1860\, como fuente de conocimiento'&nbsp\;presenta de 
 forma abreviada el&nbsp\;proyecto de Creaci&oacute\;n y Cultura Art&iacute
 \;stica N&deg\; 8795\, 2018\, a cargo de los&nbsp\;docentes de la Escuela 
 de Arquitectura UC\,&nbsp\;Germ&aacute\;n Hidalgo (investigador responsabl
 e) y Wren Strabucchi (co-investigador)\, contando con el aporte de la Dire
 cci&oacute\;n de Artes y Cultura de la Vicerrector&iacute\;a de&nbsp\; Inv
 estigaci&oacute\;n de la Pontificia Universidad Cat&oacute\;lica de Chile.
 \n\n\n1860 fue sin duda una fecha clave&nbsp\;para la arquitectura y el de
 sarrollo urbano de Santiago de Chile. En&nbsp\;efecto\, fue el momento en 
 que la capital conoci&oacute\; innovadores edificios&nbsp\;que\, incorpora
 ndo el lenguaje cl&aacute\;sico\, albergaron a las nacientes&nbsp\;institu
 ciones de la Rep&uacute\;blica. La ciudad viv&iacute\;a tambi&eacute\;n un
  proceso de&nbsp\;expansi&oacute\;n sin precedentes y comenzaba a sobrepas
 ar los l&iacute\;mites que la&nbsp\;hab&iacute\;an retenido por siglos.&nb
 sp\;Esta exposici&oacute\;n presenta de forma abreviada los&nbsp\;resultad
 os de la investigaci&oacute\;n &ldquo\;Santiago 1860. Estudio anal&iacute\
 ;tico de la&nbsp\;vista panor&aacute\;mica de T. R. Harvey&rdquo\;\, en qu
 e se examin&oacute\; un registro&nbsp\;gr&aacute\;fico excepcional de la c
 apital de Chile del siglo XIX. Su estudio&nbsp\;permiti&oacute\; confirmar
  los valores de la vista panor&aacute\;mica en s&iacute\;\, y a la&nbsp\;v
 ez conocer el estado de la ciudad en ese momento. Esto se logr&oacute\;&nb
 sp\;realizando un cotejo con variadas fuentes documentales\, como la vista
 &nbsp\;panor&aacute\;mica de 1850 de la expedici&oacute\;n astron&oacute\;
 mica de J. M. Gilliss\, y&nbsp\;las fotograf&iacute\;as de 1860 atribuidas
  a Eug&egrave\;ne Maunoury\, que complementan&nbsp\;a la perfecci&oacute\;
 n las transformaciones registradas por Harvey en su&nbsp\;vista panor&aacu
 te\;mica\, donde vemos: construcciones de dos pisos\, esbeltas&nbsp\;colum
 nas\, variados ornamentos y grandes edificios. Lo m&aacute\;s&nbsp\;sorpre
 ndente\, es que gran parte de todo esto fue el producto del&nbsp\;trabajo 
 de un solo hombre: Claude Fran&ccedil\;ois Brunet de Baines\,&nbsp\;arquit
 ecto franc&eacute\;s contratado por el Gobierno en 1848\, pero que muri&oa
 cute\;&nbsp\;tempranamente en 1855\, dej&aacute\;ndolos inconclusos. Anali
 zar con detenci&oacute\;n&nbsp\;este panorama permiti&oacute\; profundizar
  en el conocimiento de este&nbsp\;fundamental momento\, cuando Santiago se
  consolid&oacute\; como capital de la&nbsp\;Rep&uacute\;blica de Chile.Ger
 m&aacute\;n Higalgo |&nbsp\;Investigador responsableArquitecto\, Pontifici
 a Universidad Cat&oacute\;lica de Chile\, 1991. Doctor en Teor&iacute\;a e
  Historia de la Arquitectura\, ETSAB\, Universidad Polit&eacute\;cnica de 
 Catalu&ntilde\;a\, 2000. Ha presentado sus investigaciones y cursos en Chi
 cago\, Roma\, Barcelona\, Bogot&aacute\;\, Porto Alegre\, y C&oacute\;rdob
 a. Ha publicado art&iacute\;culos en Planning Perspectives (UK)\, ARQ y Re
 vista 180 (Chile) y cap&iacute\;tulos de libros: Massilia 2007\, SCL 2110\
 , +Arquitectos\, entre otros. En 2010 public&oacute\; Vistas Panor&aacute\
 ;micas de Santiago 1790 &ndash\; 1910: su Desarrollo Urbano bajo la Mirada
  de Dibujantes\, Pintores y Fot&oacute\;grafos (Ediciones UC/Origo).Docent
 e UC en pregrado y postgrado en la &aacute\;reas de Teor&iacute\;a e Histo
 ria de la Arquitectura\, y Taller y Representaci&oacute\;n.Investigador re
 sponsable del Proyecto Fondecyt n&deg\;1150308 (2015-2018) y co&ndash\;inv
 estigador de diversos proyectos FONDECYT\, FONDART y VRI.Wren Strabucchi |
 &nbsp\;Co-investigadorArquitecto UC (1986) y Ph. Doctor en Filosof&iacute\
 ;a e Historia de la Arquitectura por Cambridge University\, Inglaterra (20
 01).&nbsp\;Ha publicado ensayos y art&iacute\;culos en las revistas ARS\, 
 CA-Ciudad y Arquitectura y ARQ. Fue editor del libro 1984-1994 Cien A&ntil
 de\;os de Arquitectura en la Universidad Cat&oacute\;lica de Chile (1994) 
 y coautor del libro Lo Contador. Casas\, jardines y campus junto a Sandra 
 Iturriaga (2012)\, ambos editados por Ediciones ARQ.\nEs profesor de la Es
 cuela de Arquitectura UC\, en las &aacute\;reas de Teor&iacute\;a\, Histor
 ia y Cr&iacute\;tica y Taller de Proyectos y Taller de Investigaci&oacute\
 ;n\, as&iacute\; como en el Magister en Arquitectura UC. Investigador prin
 cipal de proyectos VRI-UC y co-investigador en proyectos FONDECYT\, vincul
 ados a la historia de la ciudad de Santiago.\nForma parte del grupo&nbsp\;
 C&aacute\;tedra de Santiago&nbsp\;de la Escuela de Arquitectura UC.\nFecha
 _Lunes 27 de mayo a viernes 07 de junio de 2019Lugar_Hall edifcio de Arqui
 tectura UC\, campus Lo ContadorEl Comendador 1936\, ProvidenciaOrganizan_P
 royecto de Creaci&oacute\;n y Cultura Art&iacute\;stica N&deg\; 8795\, 201
 8Escuela de&nbsp\;Arquitectura UCNoticiasContacto:&nbsp\;redesarq@uc.cl&nb
 sp\;| +56 2 2354 7747www.arquitectura.uc.cl\n\n&nbsp\; https://fadeu-old.u
 rantiacos.cl/agenda/evento/1877-exposicion-la-vista-panoramica-de-santiago
 -de-t-r-harvey-c-1860-como-fuente-de-conocimiento
DTSTART:20190527T040000Z
LOCATION:Hall Edificio Arquitectura (El Comendador 1936\, Providencia\, Reg
 ión Metropolitana\, Chile)
SUMMARY:Exposición 'La vista panorámica de Santiago de T. R. Harvey c.1860\
 , como fuente de conocimiento'
URL:https://fadeu-old.urantiacos.cl/agenda/evento/1877-exposicion-la-vista-
 panoramica-de-santiago-de-t-r-harvey-c-1860-como-fuente-de-conocimiento
END:VEVENT
END:VCALENDAR
