BEGIN:VCALENDAR
VERSION:2.0
PRODID:-//https://fadeu-old.urantiacos.cl///NONSGML kigkonsult.se iCalcreator 2.10.15//
METHOD:PUBLISH
BEGIN:VEVENT
UID:20260420T015230UTC-0348j4PDkE@https://fadeu-old.urantiacos.cl/
DTSTAMP:20260420T015230Z
DESCRIPTION: https://fadeu-old.urantiacos.cl/agenda/evento/1883-charla-info
 grafia-hoy-como-se-hace
DTSTART:20190607T230000Z
DTEND:20190608T000000Z
LOCATION:Sala Lámpara\, Escuela de Diseño\, Campus Lo Contador (El Comendad
 or 1912-1974\, Providencia\, Región Metropolitana\, Chile)
SUMMARY:Charla Infografía Hoy: Cómo se hace
URL:https://fadeu-old.urantiacos.cl/agenda/evento/1883-charla-infografia-ho
 y-como-se-hace
END:VEVENT
BEGIN:VEVENT
UID:20260420T015230UTC-0351tW9bT8@https://fadeu-old.urantiacos.cl/
DTSTAMP:20260420T015230Z
DESCRIPTION:\n\nEn el marco de la asignatura electiva &ldquo\;Modos de prod
 ucci&oacute\;n arquitect&oacute\;nica: difusi&oacute\;n y cr&iacute\;tica&
 rdquo\;\, el arquitecto y premio Pritzker Alejandro Aravena dar&aacute\; u
 na conferencia en la que ahondar&aacute\; en la trayectoria y las formas d
 e producci&oacute\;n de ELEMENTAL a trav&eacute\;s del trabajo expositivo 
 realizado por la oficina para el&nbsp\;Museo de Arte de Louisiana&nbsp\;en
  Dinamarca.\nLa muestra\, titulada&nbsp\;&ldquo\;So far...&rdquo\;&nbsp\;y
  abierta al p&uacute\;blico entre el 11 de octubre de 2018 y el 28 de febr
 ero de 2019\, fue parte del ciclo Arkitekturens V&aelig\;rksteder (The Arc
 hitect&rsquo\;s Studio)\, serie con la que el museo dan&eacute\;s destaca 
 a los arquitectos que est&aacute\;n marcando tendencia en el mundo.\nEn es
 ta ocasi&oacute\;n\, adem&aacute\;s\, se presentar&aacute\; por primera ve
 z en Chile la publicaci&oacute\;n en espa&ntilde\;ol realizada con motivo 
 de la exposici&oacute\;n\, reeditada por&nbsp\;Arquine&nbsp\;en colaboraci
 &oacute\;n con el&nbsp\;Louisiana Museum of Modern Art&nbsp\;y&nbsp\;Lars 
 M&uuml\;ller Publishers. Con 240 p&aacute\;ginas\, el libro incluye no s&o
 acute\;lo im&aacute\;genes de maquetas\, bocetos y obras\, sino tambi&eacu
 te\;n el registro de 15 a&ntilde\;os de vivienda incremental y una entrevi
 sta extensa con Alejandro Aravena en torno a la filosof&iacute\;a de la of
 icina y sus proyectos.\nPara m&aacute\;s detalles de la publicaci&oacute\;
 n visitar&nbsp\;Arquine | Libros\nAlejandro Aravena&nbsp\;es arquitecto de
  la Pontificia Universidad Cat&oacute\;lica de Chile con estudios de postg
 rado en el Istituto Universitario di Venezia. Galardonado con el premio Pr
 itzker en 2016\, entre sus reconocimientos est&aacute\;n la medalla Erich 
 Schelling en 2006\, el Le&oacute\;n de Plata en la XI Bienal de Venecia de
  2008\, el Index Award en Dinamarca en 2011 y el Premio RIBA Charles Jenck
 s en 2018. Fue nombrado International Fellow por el Royal Institute of Bri
 tish Architects y ha sido profesor en diversas universidades\, entre ellas
  el GSD de Harvard. Actualmente es director ejecutivo de ELEMENTAL\, un do
  tank que aborda proyectos de diferentes escalas entendi&eacute\;ndolos co
 mo una oportunidad para extender los beneficios de la ciudad a todos.\n*Ev
 ento liberado\, abierto a p&uacute\;blico general y sin previa inscripci&o
 acute\;n.&nbsp\;Fecha_Martes 4 de junio\, 2019\,&nbsp\;18:45 horas&nbsp\;L
 ugar_Auditorio FADEUCampus Lo ContadorEl Comendador 1916\, Providencia&nbs
 p\;Organiza_Escuela de Arquitectura UC&nbsp\;&nbsp\;NoticiasContacto:&nbsp
 \;redesarq@uc.cl&nbsp\;| +56 2 2354 7747www.arquitectura.uc.cl\n\n&nbsp\; 
 https://fadeu-old.urantiacos.cl/agenda/evento/1882-conferencia-de-alejandr
 o-aravena
DTSTART:20190604T224500Z
DTEND:20190604T234500Z
LOCATION:Auditorio FADEU\, Campus Lo Contador PUC (El Comendador 1916\, Pro
 videncia\, Providencia\, Región Metropolitana\, Chile)
SUMMARY:Conferencia de Alejandro Aravena
URL:https://fadeu-old.urantiacos.cl/agenda/evento/1882-conferencia-de-aleja
 ndro-aravena
END:VEVENT
BEGIN:VEVENT
UID:20260420T015230UTC-03599oNj8u@https://fadeu-old.urantiacos.cl/
DTSTAMP:20260420T015230Z
DESCRIPTION:\nEn Proceso |&nbsp\;Nicol&aacute\;s Norero\n\n\n\nEl arquitect
 o chileno Nicol&aacute\;s Norero dictar&aacute\; la conferencia 'En Proces
 o' en el marco del 3&ordm\; workshop 2019 del Taller de Especialidad del M
 ag&iacute\;ster en Arquitectura UC. Nicol&aacute\;s presentar&aacute\; tre
 s proyectos en proceso de su oficina\, ubicados en las tres zonas geogr&aa
 cute\;ficas de Chile\, norte\, centro y sur.Nicol&aacute\;s NoreroNicolas 
 Norero (Santiago de Chile\, 1978) obtuvo el t&iacute\;tulo de arquitecto e
 n la Universidad de Chile en el a&ntilde\;o 2001. En 2003 gan&oacute\; el 
 concurso Soporte Mural Roberto Matta junto a Tomas Villal&oacute\;n y Abel
  Erazo. En 2005 gan&oacute\; el concurso p&uacute\;blico Memoria Mujer jun
 to a Emilio Mar&iacute\;n\, al igual que el concurso p&uacute\;blico Paseo
  Altamirano. Entre los a&ntilde\;os 2006 y 2010 trabaja con Rick Joy\, en 
 Tucson\, Arizona\, USA. En el a&ntilde\;o 2017 junto a Tomas Villalon y Le
 onardo Quinteros ganan los concursos del Teatro de las Artes de Panguipull
 i y el nuevo Edificio para la Municipalidad de Providencia\, ambos actualm
 ente en desarrollo. Actualmente es profesor en la Universidad Diego Portal
 es y en la Universidad de Talca.Fecha_Lunes 03 de junio de 2019\, 19.00 hL
 ugar_Auditorio Fernando Castillo Velasco. Campus Lo Contador. El Comendado
 r 1936\, ProvidenciaOrganizan_Mag&iacute\;ster en Arquitectura UCEscuela d
 e Arquitectura UCNoticiasContacto:&nbsp\;redesarq@uc.cl&nbsp\;| +56 2 2354
  7747www.arquitectura.uc.cl\n\n&nbsp\; https://fadeu-old.urantiacos.cl/age
 nda/evento/1881-conferencia-magistral-nicolas-norero-marq-uc
DTSTART:20190603T230000Z
DTEND:20190604T000000Z
LOCATION:Auditorio Fernando Castillo Velasco. Edificio ARQ (El Comendador 1
 936\, Providencia\, Región Metropolitana\, Chile)
SUMMARY:Conferencia magistral Nicolás Norero | MARQ UC
URL:https://fadeu-old.urantiacos.cl/agenda/evento/1881-conferencia-magistra
 l-nicolas-norero-marq-uc
END:VEVENT
END:VCALENDAR
