BEGIN:VCALENDAR
VERSION:2.0
PRODID:-//https://fadeu-old.urantiacos.cl///NONSGML kigkonsult.se iCalcreator 2.10.15//
METHOD:PUBLISH
BEGIN:VEVENT
UID:20260420T015157UTC-5287mXbTJA@https://fadeu-old.urantiacos.cl/
DTSTAMP:20260420T015157Z
DESCRIPTION:El libro 'Peculiaridades: cualidades intrínsecas de los objeto
 s'\, del profesor Boris Ivelic Kusanovic analiza las cualidades de los obj
 etos acu&ntilde\;ados en el desarrollo hist&oacute\;rico. Aquellas que sin
 gularizan el oficio\; le dan autonom&iacute\;a y lo distinguen de otros di
 sciplinas que suplanten su sentido o trascendencia ('esculturizar' el obje
 to\, 'arquitectonizarlo' o 'picuturizarla').\nEn estas p&aacute\;ginas se 
 desvelan estas peculiaridades desde diversas &oacute\;pticas\, guardando c
 omo com&uacute\;n denominador la tendencia a la desaparici&oacute\;n de lo
 s mismos. Los objetos trascienden su funci&oacute\;n en la medida que hace
 n aparecer y resplandecer sus propias peculiaridades\, cada vez\, en cada 
 casa.\n&nbsp\;\n https://fadeu-old.urantiacos.cl/agenda/evento/1891-peculi
 aridades-cualidades-intri-nsecas-de-los-objetos
DTSTART:20190620T230000Z
DTEND:20190621T000000Z
LOCATION:Centro de Estudios Avanzados y Extensión PUCV (Antonio Bellet 314)
SUMMARY: Peculiaridades: cualidades intrínsecas de los objetos
URL:https://fadeu-old.urantiacos.cl/agenda/evento/1891-peculiaridades-cuali
 dades-intri-nsecas-de-los-objetos
END:VEVENT
BEGIN:VEVENT
UID:20260420T015157UTC-5292WjFMzK@https://fadeu-old.urantiacos.cl/
DTSTAMP:20260420T015157Z
DESCRIPTION:El pr&oacute\;ximo jueves 20 de junio se celebrar&aacute\;&nbsp
 \;Corpus Christi&nbsp\;en el Campus Lo Contador. Para esta celebraci&oacut
 e\;n se armar&aacute\; una alfombra de aserr&iacute\;n con colores y simbo
 los\, instancia a lo cual est&aacute\;n todos invitados a participar a par
 tir desde las 10:30 am en el Patio de los Naranjos.\nLa misa comenzar&aacu
 te\; a las 13:00hrs.&nbsp\;\nInteresados se pueden inscribir&nbsp\;AQU&Iac
 ute\;&nbsp\;\n&nbsp\;\n https://fadeu-old.urantiacos.cl/agenda/evento/1896
 -celebracion-corpus-christi-lo-contador
DTSTART:20190620T170000Z
DTEND:20190620T180000Z
LOCATION:Patio Los Naranjos\, Lo Contador (El Comendador 1916\, Providencia
 \, Región Metropolitana\, Chile)
SUMMARY:Celebración Corpus Christi Lo Contador
URL:https://fadeu-old.urantiacos.cl/agenda/evento/1896-celebracion-corpus-c
 hristi-lo-contador
END:VEVENT
BEGIN:VEVENT
UID:20260420T015157UTC-5295k9bX5N@https://fadeu-old.urantiacos.cl/
DTSTAMP:20260420T015157Z
DESCRIPTION:\nPor cuarto a&ntilde\;o consecutivo&nbsp\;Ladera Sur&nbsp\;anu
 ncia la llegada del ciclo de charlas&nbsp\;Inspirados por la Naturaleza\, 
 una instancia que busca inspirar\, informar y generar conciencia en las pe
 rsonas sobre diversas tem&aacute\;ticas relacionadas al medio ambiente y l
 a naturaleza.\n\n\nEste 2019 se cambiar&aacute\; el formato de charlas a c
 onversatorios\, los cuales estar&aacute\;n inspiradas en la COP25 y tratar
 &aacute\;n los siguientes temas:\nJunio |&nbsp\;Mar\, oc&eacute\;anos y bo
 rde costero\nAgosto |&nbsp\;Agricultura regenerativa y ganader&iacute\;a s
 ostenible\nOctubre |&nbsp\;Energ&iacute\;as renovables\, descarbonizaci&oa
 cute\;n y econom&iacute\;a circular\nNoviembre |&nbsp\;Bosques\, biodivers
 idad y &aacute\;reas protegidas\nEl primer conversatorio se realizar&aacut
 e\; el&nbsp\;19 de junio de 2019&nbsp\;y&nbsp\;se titula&nbsp\;&ldquo\;Chi
 le y el mar: es el momento de actuar&rdquo\;. Contar&aacute\; con la parti
 cipaci&oacute\;n de cuatro expertos con quienes se analizar&aacute\; el co
 ntexto cient&iacute\;fico y legal en relaci&oacute\;n a lo que ocurre actu
 almente en el mar y borde costero de Chile. Se tratar&aacute\;n diversos t
 emas que incluyen las zonas de alto valor biol&oacute\;gico y de relevanci
 a ecosist&eacute\;mica en nuestro territorio marino\; cu&aacute\;les son l
 as principales amenazas que hoy enfrenta el ecosistema marino frente a esc
 enarios como el cambio clim&aacute\;tico o el desarrollo pesquero del pa&i
 acute\;s\; entre otros.\nLos expertos que conformar&aacute\;n el panel del
  conversatorio son:\nLiesbeth van der Meer\, m&eacute\;dico veterinario de
  la Universidad de Chile\, donde se especializ&oacute\; en la acuicultura 
 del salm&oacute\;n. Desilusionada de la industria salmonera\, dio un vuelv
 o en su carrera para dedicarse a la conservaci&oacute\;n marina. Adem&aacu
 te\;s\, estudi&oacute\; un Mag&iacute\;ster en manejo de recursos naturale
 s y sustentabilidad ambiental\, con menci&oacute\;n en econom&iacute\;a pe
 squera\, en la Universidad de British Columbia\, uno de los centros de inv
 estigaci&oacute\;n pesquera m&aacute\;s connotados del mundo. Desde 2016 L
 iesbeth se desempe&ntilde\;a como vicepresidente de Oceana para Chile.\nSt
 efan Gelcich\, bi&oacute\;logo Marino de la Universidad Cat&oacute\;lica d
 el Norte y Ph.D. de la University of Wales\, Bangor UK. Es investigador de
  CAPES UC\, y sus principales l&iacute\;neas de investigaci&oacute\;n son 
 la interacci&oacute\;n entre sistemas ecol&oacute\;gicos y sociales en zon
 as costeras y el an&aacute\;lisis de pol&iacute\;ticas p&uacute\;blicas de
 l manejo de recursos naturales.\nFlavia Liberona\, bi&oacute\;loga de la P
 ontificia Universidad Cat&oacute\;lica de Chile y Directora Ejecutiva de F
 undaci&oacute\;n Terram desde 2007. Se ha desempe&ntilde\;ado como docente
  y coordinadora en diversas redes de trabajo a nivel nacional que abordan 
 temas como: bosque nativo\, institucionalidad ambiental\, biodiversidad\, 
 transg&eacute\;nicos\, entre otros. Es autora de diversas publicaciones.\n
 Juan Buttazzoni\, abogado UC con Ms en Gesti&oacute\;n Ambiental y Sustent
 abilidad. Monash University (Australia). Hoy se desempe&ntilde\;a como abo
 gado ambiental en la Fundaci&oacute\;n Rompientes trabajando en temas liga
 dos al ordenamiento territorial del borde costero.\n&nbsp\;&nbsp\;Fecha_Mi
 &eacute\;rcoles 19 de junio de 2019\, 19.00 horasLugar_Auditorio FADEUCamp
 us Lo ContadorEl&nbsp\;Comendador 1916\, ProvidenciaOrganiza_Ladera SurCol
 abora_Pontificia Universidad Cat&oacute\;lica de ChileMag&iacute\;ster en 
 Arquitectura del Paisaje UCPartner_Epica WinesPatagoniaInscripciones_Inscr
 ipciones al mail&nbsp\;info@laderasur.cl\, especificando que quieres recib
 ir la invitaci&oacute\;n a cada una de las charlas o rellenando el formula
 rio en este&nbsp\;linkLinks de interes_https://laderasur.com/estapasando/n
 o-te-pierdas-el-conversatorio-chile-y-el-mar-es-el-momento-de-actuar/Event
 o gratuito abierto a todo p&uacute\;blicoContacto:&nbsp\;info@laderasur.cl
 www.arquitectura.uc.cl\n\n&nbsp\; https://fadeu-old.urantiacos.cl/agenda/e
 vento/1893-inspirados-por-la-naturaleza-2019-mapa-uc-ladera-sur
DTSTART:20190619T230000Z
DTEND:20190620T000000Z
LOCATION:Auditorio FADEU\, Campus Lo Contador PUC (El Comendador 1916\, Pro
 videncia\, Providencia\, Región Metropolitana\, Chile)
SUMMARY:Inspirados por la Naturaleza 2019 | MAPA UC + Ladera Sur
URL:https://fadeu-old.urantiacos.cl/agenda/evento/1893-inspirados-por-la-na
 turaleza-2019-mapa-uc-ladera-sur
END:VEVENT
BEGIN:VEVENT
UID:20260420T015157UTC-5307RvuoAm@https://fadeu-old.urantiacos.cl/
DTSTAMP:20260420T015157Z
DESCRIPTION:Est&aacute\;n todos/as cordialmente invitados/as al segundo Mi&
 eacute\;rcoles de Tertulia que organizan el Centro de Estudiantes de Plani
 ficaci&oacute\;n Urbana UC y el Instituto de Estudios Urbanos y Territoria
 les.\nEsta vez\, nos reuniremos en torno a la tem&aacute\;tica 'Ciudad Acc
 esible'\, para compartir ideas\, reflexiones y distintos puntos de vista.&
 nbsp\;\nLa tertulia se llevar&aacute\; a cabo el d&iacute\;a mi&eacute\;rc
 oles 19 de junio a las 18:30 horas en el sal&oacute\;n Sergio Larra&iacute
 \;n (Campus Lo Contador UC).\nInscripciones&nbsp\;aqu&iacute\;.\n&nbsp\;\n
  https://fadeu-old.urantiacos.cl/agenda/evento/1888-miercoles-de-tertulia-
 ciudad-accesible
DTSTART:20190619T223000Z
DTEND:20190619T233000Z
LOCATION:Salón Sergio Larraín\, Campus Lo Contador ()
SUMMARY: Miércoles de tertulia: Ciudad Accesible
URL:https://fadeu-old.urantiacos.cl/agenda/evento/1888-miercoles-de-tertuli
 a-ciudad-accesible
END:VEVENT
END:VCALENDAR
