BEGIN:VCALENDAR
VERSION:2.0
PRODID:-//https://fadeu-old.urantiacos.cl///NONSGML kigkonsult.se iCalcreator 2.10.15//
METHOD:PUBLISH
BEGIN:VEVENT
UID:20260420T205046UTC-7935D5Fs2Z@https://fadeu-old.urantiacos.cl/
DTSTAMP:20260420T205046Z
DESCRIPTION:Jean Marc Besse\n&nbsp\;\n&nbsp\;\n\nDirector de Estudios de L'
 &Eacute\;cole des Hautes &Eacute\;tudes en Sciences Sociales de Par&iacute
 \;s (EHESS)\, Doctor en Historia por la Universit&eacute\; Paris 1 Panth&e
 acute\;on-Sorbonne y Directeur de recherche au CNRS.\nAutor de diversos Li
 bros\, entre los cuales destacan: Habiter. Un monde &agrave\; mon image\, 
 Flamarion\, Paris\, 2013\; Voir la terre. Six essais sur le paysage et la 
 g&eacute\;ographie\, Actes Sud\, Arles\, 2000\; Les grandeurs de la Terre.
  Aspects du savoir g&eacute\;ographique &agrave\; la Renaissance\, ENS Edi
 tions\, Lyon\, 2003\; Face au monde. Atlas\, jardins\, g&eacute\;oramas\, 
 Descl&eacute\;e de Brouwer\, Paris\, 2003\; Le go&ucirc\;t du monde. Exerc
 ices de paysage\, Actes Sud/ENSP\, Arles\, 2009. Il a co-dirig&eacute\; &e
 acute\;galement deux ouvrages: Les m&eacute\;ditations cosmographiques &ag
 rave\; la Renaissance\, Presses universitaires Paris-Sorbonne\, Paris\, 20
 09 (avec M.-D. Couzinet et F. Lestringant)\, et Naissances de la g&eacute\
 ;ographie moderne (1760-1860). Lieux\, pratiques et formation des savoirs 
 de l&rsquo\;espace en France\, ENS &eacute\;ditions\, Lyon\, 2010 (avec H.
  Blais et I. Surun).\n\nFecha_\nJueves 21 de junio de 2018\, 18.45 hrs.\n&
 nbsp\;\n&nbsp\;\nLugar_\nAuditorio FCV\, campus lo Contador\, El Comendado
 r 1936\, Providencia.\n&nbsp\;\n&nbsp\;\nOrganizan_\nMag&iacute\;ster en A
 rquitectura del Paisaje UC (MAPA UC)\n&nbsp\;&nbsp\;\n\n&nbsp\; https://fa
 deu-old.urantiacos.cl/agenda/evento/1582-conferencia-pensar-y-actuar-con-e
 l-paisaje-jean-marc-besseento
DTSTART:20180621T224500Z
DTEND:20180621T234500Z
LOCATION:Auditorio Fernando Castillo Velasco. Edificio ARQ (El Comendador 1
 936\, Providencia\, Región Metropolitana\, Chile)
SUMMARY:Conferencia 'Pensar y actuar con el paisaje'/ Jean Marc Besseento
URL:https://fadeu-old.urantiacos.cl/agenda/evento/1582-conferencia-pensar-y
 -actuar-con-el-paisaje-jean-marc-besseento
END:VEVENT
BEGIN:VEVENT
UID:20260420T205046UTC-7942orkst6@https://fadeu-old.urantiacos.cl/
DTSTAMP:20260420T205046Z
DESCRIPTION:Encuentro 'La soledad de los edificios: La Torre Villavicencio'
  del Ciclo Agenda Patrimonial del&nbsp\;MAPC UC. Presenta Umberto Bonomo y
  moderan&nbsp\;Fernando Perez\,&nbsp\;Cristobal Molina\,&nbsp\;Miguel Lawn
 er\,&nbsp\;Hugo Gagger y&nbsp\;David Maulen.\nPresenta_\nUmberto Bonomo\, 
 Director del Centro del Patrimonio Cultural UC\nModera_\nFernando Perez / 
 Profesor Titular Escuela de Arquitectura UCCristobal Molina /&nbsp\;Coordi
 nador del Área de Arquitectura&nbsp\;del Ministerio de las Culturas\, las
  Artes y el PatrimonioMiguel Lawner /&nbsp\;Ex Director Ejecutivo CORMUHug
 o Gagger / Arquitecto UNCTAD IIIDavid Maulen /&nbsp\;Profesor Asociado AVI
  UNIACC\n&nbsp\;\nFecha_\nJueves 21 de junio de 2018\, 13.00 hrs.\n&nbsp\;
 \nLugar_\nAuditorio FCV\, campus Lo Contador. El Comendador 1936\, Provide
 ncia.\n&nbsp\;\n&nbsp\;\nOrganizan_&nbsp\;\nCentro UC Patrimonio Cultural
 \nMag&iacute\;ster en Patrimonio Cultural UC&nbsp\;\nEscuela de Arquitectu
 ra UC\n&nbsp\;\n\n&nbsp\;\nNoticias\nContacto:&nbsp\;redesarq@uc.cl&nbsp\;
 | +56 2 2354 7747www.arquitectura.uc.cl https://fadeu-old.urantiacos.cl/ag
 enda/evento/1585-la-soledad-de-los-edificios-la-torre-villavicencio-ciclo-
 agenda-patrimonial-mapc
DTSTART:20180621T170000Z
DTEND:20180621T183000Z
LOCATION:Auditorio Fernando Castillo Velasco. Edificio ARQ (El Comendador 1
 936\, Providencia\, Región Metropolitana\, Chile)
SUMMARY:'La soledad de los edificios: La Torre Villavicencio' / Ciclo Agend
 a Patrimonial / MAPC
URL:https://fadeu-old.urantiacos.cl/agenda/evento/1585-la-soledad-de-los-ed
 ificios-la-torre-villavicencio-ciclo-agenda-patrimonial-mapc
END:VEVENT
BEGIN:VEVENT
UID:20260420T205046UTC-79478Be7IG@https://fadeu-old.urantiacos.cl/
DTSTAMP:20260420T205046Z
DESCRIPTION:Charla informativa 21 de Junio\, 13.00 Hrs para el 'Workshop Co
 nstruye Solar 2019' a desarrollarse entre el 12 y 27 de Julio 2018.&nbsp\;
 Dirigido a estudiantes de Pregrado\, con pre requisito del curso AQC0200\,
  y postgrado de la Escuela de Arquitectura.\nCurso interdisciplinario como
  primera aproximaci&oacute\;n a la propuesta proyectual.&nbsp\;Convalidabl
 e por 5 cr&eacute\;ditos OPR.\nFecha_\nJueves 21 de junio de 2018\, 13.00 
 hrs.\n&nbsp\;\nLugar_\nSala 17 (Piscina)\, campus Lo Contador. El Comendad
 or 1916\, Providencia.\n&nbsp\;\nOrganizan_\nEscuela de Arquitectura UC\nM
 ASE UC\nEscuela de Construcci&oacute\;n Civil UC\n&nbsp\;\n\nNoticiasConta
 cto:&nbsp\;redesarq@uc.cl&nbsp\;| +56 2 2354 7747www.arquitectura.uc.c htt
 ps://fadeu-old.urantiacos.cl/agenda/evento/1586-charla-informativa-worksho
 p-construye-solar
DTSTART:20180621T170000Z
DTEND:20180621T180000Z
LOCATION:Sala 17 Casona\, Campus Lo Contador (El Comendador 1916\, Providen
 cia\, Región Metropolitana\, Chile)
SUMMARY:Charla Informativa 'Workshop Construye Solar'
URL:https://fadeu-old.urantiacos.cl/agenda/evento/1586-charla-informativa-w
 orkshop-construye-solar
END:VEVENT
BEGIN:VEVENT
UID:20260420T205046UTC-7951fznwVf@https://fadeu-old.urantiacos.cl/
DTSTAMP:20260420T205046Z
DESCRIPTION:'Cork: New Uses in Architecture'\nEl uso del corcho es una de l
 as tendencias m&aacute\;s prometedoras en el desarrollo sostenible\, debid
 o a sus propiedades naturales &uacute\;nicas\, cualidades ambientales exce
 pcionalmente buenas y su alto potencial para incorporar tecnolog&iacute\;a
  innovadora. Hoy\, entre otros usos\, vemos el corcho utilizado como texti
 l para prendas de vestir\, en piezas de autom&oacute\;viles y como escudo 
 t&eacute\;rmico en artesan&iacute\;as espaciales. Esta diversidad es cruci
 al para la viabilidad del sector. Sin embargo\, todav&iacute\;a hay una fa
 lta de informaci&oacute\;n y difusi&oacute\;n dentro de los sectores de in
 genier&iacute\;a y arquitectura\; las partes interesadas carecen de conoci
 miento para usar y seleccionar materiales de corcho para la construcci&oac
 ute\;n\, en comparaci&oacute\;n con otros productos de la competencia.\n&n
 bsp\;\nEsta conferencia expone una investigaci&oacute\;n que explora el de
 sperdicio de la industria del corcho\, su reciclaje y los nuevos materiale
 s generados a partir de ello\, que a&uacute\;n se encuentran en etapa de d
 esarrollo con un enorme potencial para la construcci&oacute\;n. El objetiv
 o es probarlos o adaptarlos para su uso en la construcci&oacute\;n\, con l
 a esperanza de que\, en el futuro\, exista una mayor aplicaci&oacute\;n en
  la arquitectura\, ampli&aacute\;ndose la sostenibilidad\, en el negocio d
 e la construcci&oacute\;n\, as&iacute\; como en el sector del corcho.\n&nb
 sp\;\nCristina Verissimo&nbsp\;se gradu&oacute\; en Arquitectura en la Fac
 uldade de Arquitectura de la Universidade Tecnica de Lisboa (FA-UTL) y tie
 ne un t&iacute\;tulo de maestr&iacute\;a en GSD\, Universidad de Harvard. 
 Trabaj&oacute\; con el arquitecto Jo&atilde\;o Lu&iacute\;s Carrilho da Gr
 a&ccedil\;a (1985-88) y en la oficina de Zaha Hadid (1989-91). Fund&oacute
 \; la oficina de CVDB Arquitectos con Diogo Burnay en 1998. El trabajo de 
 la oficina ha ganado premios nacionales e internacionales. Fue profesora d
 e taller en la Facultad de Arquitectura de la Universidad T&eacute\;cnica 
 de Lisboa\, entre 2002 y 2012. Es profesora de pr&aacute\;ctica desde 2012
  en la Facultad de Arquitectura y Planificaci&oacute\;n de la Universidad 
 de Dalhousie en Halifax\, Canad&aacute\;.\n&nbsp\;\nFecha_\nMi&eacute\;rco
 les 20 Junio\, 18.30hrs.\nLugar_\nAuditorio FCV\, Escuela de Arquitectura 
 UC. El Comendador 1936\, Providencia.\nInvitan_\nPontificia Universidad Ca
 t&oacute\;lica de Chile\, Escuela de Arquitectura UC\nOrganizan_\nMagister
  en Proyecto Urbano UC + Laboratorio Ciudad y Movilidad UC\n&nbsp\;\n&nbsp
 \;\nApoyan _Doctorado en Arquitectura y Estudios Urbanos FADEU\n&nbsp\;\n&
 nbsp\;\n\nHiperv&iacute\;nculo del estudio_ http://www.cvdbarquitectos.com
 /&nbsp\;\n\n\n&nbsp\;\nNoticiasContacto:&nbsp\;redesarq@uc.cl&nbsp\;| +56 
 2 2354 7747www.arquitectura.uc.cl https://fadeu-old.urantiacos.cl/agenda/e
 vento/1589-cristina-verissimo-cork-new-uses-in-architecture
DTSTART:20180620T223000Z
DTEND:20180620T233000Z
LOCATION:Auditorio Fernando Castillo Velasco. Edificio ARQ (El Comendador 1
 936\, Providencia\, Región Metropolitana\, Chile)
SUMMARY:Cristina Verissimo: 'Cork: New Uses in Architecture'
URL:https://fadeu-old.urantiacos.cl/agenda/evento/1589-cristina-verissimo-c
 ork-new-uses-in-architecture
END:VEVENT
BEGIN:VEVENT
UID:20260420T205046UTC-7960j6HxjJ@https://fadeu-old.urantiacos.cl/
DTSTAMP:20260420T205046Z
DESCRIPTION:EARTH BECAME SEAVideo de Emma Critchley para Ciudades S&iacute\
 ;smicas\nProyecci&oacute\;n del mediometraje&nbsp\;&ldquo\;Earth became se
 a&rdquo\;&nbsp\;realizado en Chile a principios del 2017 por la destacada 
 artista visual brit&aacute\;nica&nbsp\;Emma Critchley&nbsp\;en base a un t
 exto de&nbsp\;Alejandro Crispiani. Esta obra fue realizada en el contexto 
 del&nbsp\;proyecto Ciudades S&iacute\;smicas. Lejos de los clich&eacute\;s
  de los documentales sobre terremotos\, el film de Emma Critchley explora 
 las dos facetas de la ciudad\, la ciudad construida y su contracara\, la c
 iudad destruida\, siempre latente esta &uacute\;ltima en el caso de Chile 
 y su &ldquo\;tierra activa&rdquo\;.\nAntes de la proyecci&oacute\;n del fi
 lm\, habr&aacute\; una introducci&oacute\;n a cargo de la curadora&nbsp\;P
 amela Prado\, quien presentar&aacute\; la obra de Critchley y una reflexi&
 oacute\;n sobre arte y terremotos. Luego de la proyecci&oacute\;n habr&aac
 ute\; un live-streaming con la autora inglesa\, incluyendo los comentarios
  del profesor&nbsp\;Alejandro Crispiani\, para posteriormente dar paso al 
 debate con el p&uacute\;blico.\nFecha_\nMi&eacute\;rcoles 20 de Junio de 2
 018\, 13.30 hrs.\n&nbsp\;\n&nbsp\;\nLugar_\nAuditorio FCV\, campus Lo Cont
 ador. El Comendador 1936\, Providencia.\n&nbsp\;\n&nbsp\;\n&nbsp\;\nEmma C
 ritchley\nEmma is an artist who works with a combination of photography\, 
 film and audio-visual installation\, primarily to explore the human relati
 onship with the underwater environment. Emma is Royal College of Art alumn
 i and has developed works funded by institutional organisations including 
 The National Media Museum\, The Photographers Gallery\, The Arts Council E
 ngland\, The British Council\, the Singapore International Foundation and 
 INTERREG IVC (financed by the European Regional Development Fund). Awards 
 include the Royal College of Art Sustain &lsquo\;Moving Minds&rsquo\; awar
 d\, winner of the British Underwater Image Festival and a number of awards
  with the Saatchi Gallery including finalist in 2011 'New Sensations'. Her
  work has been exhibited extensively both nationally and internationally\,
  including exhibitions at The Australian Centre of Photography\, the ICA S
 ingapore\, Gerhard Marcks Haus Germany\, Eyebeam New York\, The National P
 ortrait Gallery\, The Turner Contemporary\, The Photographers Gallery and 
 the Royal Academy. Her recent commission for Opera North Projects toured t
 o the Southbank Centre and the BALTIC Centre for contemporary art and Leed
 s Central Library. Emma&rsquo\;s underwater work has enabled her to explor
 e waters across the globe\, with recent artist residencies in New York\, B
 arbados and Singapore. As a qualified HSE commercial diver she also works 
 within film and TV.\nEmma es una artista que trabaja con una combinaci&oac
 ute\;n de fotograf&iacute\;a\, cine y instalaci&oacute\;n audiovisual\, pr
 incipalmente para explorar la relaci&oacute\;n humana con el entorno subma
 rino. Emma es alumna del Royal College of Art y ha desarrollado trabajos f
 inanciados por organizaciones institucionales como The National Media Muse
 um\, The Photographers Gallery\, The Arts Council England\, The British Co
 uncil\, Singapore International Foundation e INTERREG IVC (financiado por 
 el Fondo Europeo de Desarrollo Regional) . Los premios incluyen el premio 
 Royal College of Art Sustain 'Moving Minds'\,&nbsp\;ganadora del British U
 nderwater Image Festival y una serie de premios con la Galer&iacute\;a Saa
 tchi\, incluido el finalista en 2011 'New Sensations'. Su trabajo ha sido 
 exhibido extensamente tanto a nivel nacional como internacional\, incluyen
 do exhibiciones en el Centro Australiano de Fotograf&iacute\;a\, el ICA Si
 ngapur\, Gerhard Marcks Haus Germany\, Eyebeam New York\, The National Por
 trait Gallery\, The Turner Contemporary\, The Photographers Gallery y Roya
 l Academy.&nbsp\;En su reciente comisi&oacute\;n para Opera North Projects
  viaj&oacute\; al Southbank Center\, al BALTIC Centre for Contemporary Art
  y a la Biblioteca Central de Leeds. El trabajo submarino de Emma le ha pe
 rmitido explorar aguas en todo el mundo\, con residencias de artistas reci
 entes en Nueva York\, Barbados y Singapur. Como buzo comercial calificado 
 de HSE\, tambi&eacute\;n trabaja en cine y televisi&oacute\;n.&nbsp\;\n\nN
 oticias\nContacto:&nbsp\;redesarq@uc.cl&nbsp\;| +56 2 2354 7747www.arquite
 ctura.uc.cl https://fadeu-old.urantiacos.cl/agenda/evento/1587-mediometraj
 e-earth-became-sea-emma-critchley
DTSTART:20180620T173000Z
DTEND:20180620T183000Z
LOCATION:Auditorio Fernando Castillo Velasco. Edificio ARQ (El Comendador 1
 936\, Providencia\, Región Metropolitana\, Chile)
SUMMARY:mediometraje 'EARTH BECAME SEA' / Emma Critchley
URL:https://fadeu-old.urantiacos.cl/agenda/evento/1587-mediometraje-earth-b
 ecame-sea-emma-critchley
END:VEVENT
BEGIN:VEVENT
UID:20260420T205046UTC-7973nTiUvI@https://fadeu-old.urantiacos.cl/
DTSTAMP:20260420T205046Z
DESCRIPTION:&ldquo\;CVDB: Urban Landscapes&rdquo\;\n&nbsp\;\nCristina Veris
 simo&nbsp\;se gradu&oacute\; en Arquitectura en la Faculdade de Arquitectu
 ra de la Universidade Tecnica de Lisboa (FA-UTL) y tiene un t&iacute\;tulo
  de maestr&iacute\;a en GSD\, Universidad de Harvard. Trabaj&oacute\; con 
 el arquitecto Jo&atilde\;o Lu&iacute\;s Carrilho da Gra&ccedil\;a (1985-88
 ) y en la oficina de Zaha Hadid (1989-91). Fund&oacute\; la oficina de CVD
 B Arquitectos con Diogo Burnay en 1998. El trabajo de la oficina ha ganado
  premios nacionales e internacionales. Ense&ntilde\;&oacute\; taller de ar
 quitectura en la Facultad de Arquitectura de la Universidad T&eacute\;cnic
 a de Lisboa desde 2002-2012. Es profesora de pr&aacute\;ctica desde 2012 e
 n la Facultad de Arquitectura y Planificaci&oacute\;n de la Universidad de
  Dalhousie en Halifax\, Canad&aacute\;.\n&nbsp\;\nCVDB ARQUITECTOS\n&nbsp\
 ;\nCVDB ARQUITECTOS&nbsp\;fue fundado por Cristina Ver&iacute\;ssimo y Dio
 go Burnay en 1999. Los proyectos de la oficina se han desarrollado desde 2
 009\, en asociaci&oacute\;n con Tiago Filipe Santos. Su trabajo abarca des
 de el proyecto urbano hasta la escala arquitect&oacute\;nica\, pasando por
  la rehabilitaci&oacute\;n de edificios hist&oacute\;ricos\, hasta la arqu
 itectura de interiores y el desarrollo de estructuras ef&iacute\;meras. El
  estudio imparte una pr&aacute\;ctica profesional asociada a la investigac
 i&oacute\;n arquitect&oacute\;nica\, entendiendo cada proyecto como un cam
 po participativo\, abierto a todos los involucrados en el proceso de dise&
 ntilde\;o. Se trata de una labor proyectual que explora t&eacute\;cnicas c
 onstructivas y m&eacute\;todos de dise&ntilde\;o contempor&aacute\;neos qu
 e posicionan la arquitectura como parte de un paisaje\, teniendo en cuenta
  tanto la experiencia colectiva como la percepci&oacute\;n del individuo e
 n el espacio p&uacute\;blico. La oficina ha sido destacada con varios prem
 ios nacionales e internacionales. Su trabajo se ha exhibido y publicado en
  Europa\, Am&eacute\;rica del Sur\, Estados Unidos y Canad&aacute\;.&nbsp\
 ;\n&nbsp\;\nFecha_\nMartes 19 Junio\, 18.30hrs.\nLugar_\nAuditorio FCV\, E
 scuela de Arquitectura UC. El Comendador 1936\, Providencia.\nInvitan_\nPo
 ntificia Universidad Cat&oacute\;lica de Chile\, Escuela de Arquitectura U
 C\nOrganizan_\nMagister en Proyecto Urbano UC + Laboratorio Ciudad y Movil
 idad UC\n&nbsp\;\nApoyan _Doctorado en Arquitectura y Estudios Urbanos FAD
 EU\nHiperv&iacute\;nculo del estudio_ http://www.cvdbarquitectos.com/\n\n&
 nbsp\;\nNoticiasContacto:&nbsp\;redesarq@uc.cl&nbsp\;| +56 2 2354 7747www.
 arquitectura.uc.cl https://fadeu-old.urantiacos.cl/agenda/evento/1590-cris
 tina-verissimo-cvdb-urban-landscapes
DTSTART:20180619T223000Z
DTEND:20180619T233000Z
LOCATION:Auditorio Fernando Castillo Velasco. Edificio ARQ (El Comendador 1
 936\, Providencia\, Región Metropolitana\, Chile)
SUMMARY:Cristina Verissimo: 'CVDB: Urban Landscapes'
URL:https://fadeu-old.urantiacos.cl/agenda/evento/1590-cristina-verissimo-c
 vdb-urban-landscapes
END:VEVENT
END:VCALENDAR
