BEGIN:VCALENDAR
VERSION:2.0
PRODID:-//https://fadeu-old.urantiacos.cl///NONSGML kigkonsult.se iCalcreator 2.10.15//
METHOD:PUBLISH
BEGIN:VEVENT
UID:20260423T161808UTC-9425u1TVxZ@https://fadeu-old.urantiacos.cl/
DTSTAMP:20260423T161808Z
DESCRIPTION:Como ha puntualizado Isabel Graw en su relectura de Marx desde 
 el mercado del&nbsp\;arte\, el valor se construye por medio del acuerdo en
 tre dos o m&aacute\;s personas. As&iacute\;\,&nbsp\;al implicar una transa
 cci&oacute\;n\, la definici&oacute\;n del valor ocurre en la esfera social
 . Ser&iacute\;a&nbsp\;il&oacute\;gico entonces hablar de valores intr&iacu
 te\;nsecos\, indiscutibles o indudables\, a menos&nbsp\;que hacerlo fuese 
 un intento por imponerlos de forma unilateral.&nbsp\;A su vez\, si vemos a
  la arquitectura como un producto concreto\, con un valor&nbsp\;monetario 
 determinado por variables como el suelo\, superficie o materiales\, los&nb
 sp\;criterios se reducir&iacute\;an a factores objetivos &ndash\; valor de
  uso &ndash\; excluyendo a aquellos&nbsp\;aspectos intangibles que conform
 an lo que com&uacute\;nmente denominamos como&nbsp\;&lsquo\;valor arquitec
 t&oacute\;nico&rsquo\;. As&iacute\;\, tensionados desde esos dos extremos\
 , los criterios que&nbsp\;definen el valor en arquitectura son dif&iacute\
 ;ciles de aprehender.\nAl igual que en otras esferas del conocimiento\, es
  muy probable que los temas en&nbsp\;arquitectura afloren justamente cuand
 o mayor incertidumbre existe en torno a&nbsp\;ellos. Eso explica por qu&ea
 cute\;\, casi una d&eacute\;cada despu&eacute\;s de la mayor crisis econ&o
 acute\;mica&nbsp\;de este siglo (producida en gran parte por un juego mone
 tario abstracto con&nbsp\;productos arquitect&oacute\;nicos concretos)\, l
 a pregunta por el valor haya resurgido con&nbsp\;tanta fuerza al interior 
 de nuestra disciplina. A diferencia de &eacute\;pocas anteriores&nbsp\;don
 de las certezas heredadas permit&iacute\;an desentendernos de esta preocup
 aci&oacute\;n\,&nbsp\;la carencia de seguridades respecto al valor de la a
 rquitectura nos ha llevado&nbsp\;hoy a repensar estos problemas y replante
 ar sus coordenadas. &iquest\;Qu&eacute\; es lo que&nbsp\;valoramos? &iques
 t\;Cu&aacute\;les son nuestros valores? &iquest\;Compartimos los mismos va
 lores&nbsp\;dentro de la disciplina? &iquest\;Se puede crear valor con arq
 uitectura? &iquest\;C&oacute\;mo afectan a la&nbsp\;arquitectura otras l&o
 acute\;gicas de valor?\nSon esas nuevas ideas sobre el concepto de valor e
 n arquitectura\, as&iacute\; como&nbsp\;recientes interpretaciones de sus 
 criterios hist&oacute\;ricos\, las que esperamos ver en&nbsp\;aquellos pro
 yectos\, investigaciones o ensayos que se presenten a este n&uacute\;mero&
 nbsp\;97 de revista ARQ. Sabemos que probablemente no lleguemos a una defi
 nici&oacute\;n&nbsp\;estable de valor en arquitectura\, pero creemos que m
 ientras m&aacute\;s preguntas&nbsp\;planteemos sobre el tema\, m&aacute\;s
  valiosa ser&aacute\; nuestra contribuci&oacute\;n.\nCalendarioApertura co
 nvocatoria: mayo de 2017Cierre convocatoria: 24 de julio de 2017Confirmaci
 &oacute\;n de selecci&oacute\;n: septiembre de 2017Publicaci&oacute\;n del
  n&uacute\;mero: diciembre de 2017\nContactoEnviar material a:&nbsp\;revis
 ta@edicionesarq.clAsunto del mensaje:&nbsp\;&ldquo\;Material ARQ 97&rdquo\
 ;\n+ Informaciones aqu&iacute\;. https://fadeu-old.urantiacos.cl/agenda/ev
 ento/997-cierre-convocatoria-revista-arq-97-valor
DTSTART:20170624T040000Z
LOCATION:Escuela de Arquitectura\, Campus Lo Contador (El Comendador 1916\,
  Providencia\, Providencia\, Región Metropolitana\, Chile)
SUMMARY:Cierre Convocatoria Revista ARQ #97: Valor
URL:https://fadeu-old.urantiacos.cl/agenda/evento/997-cierre-convocatoria-r
 evista-arq-97-valor
END:VEVENT
BEGIN:VEVENT
UID:20260423T161808UTC-9435raEdhu@https://fadeu-old.urantiacos.cl/
DTSTAMP:20260423T161808Z
DESCRIPTION:En l&iacute\;nea con los ejes centrales del Plan de Desarrollo 
 de la UC 2015&ndash\;2020 el Centro de Pol&iacute\;ticas P&uacute\;blicas 
 con la colaboraci&oacute\;n de Clapes UC organiz&oacute\; un ciclo de conv
 ersaciones con los principales candidatos presidenciales 2017. El objetivo
  de esta actividad es proveer un espacio abierto a la comunidad universita
 ria y a la ciudadan&iacute\;a\, para conocer en mayor profundidad las idea
 s y l&iacute\;neas program&aacute\;ticas de los que se perfilan como princ
 ipales candidatos para asumir la presidencia de nuestro pa&iacute\;s. La U
 niversidad provee un espacio neutro y ambiente propicio para darle altura 
 de miras a una actividad que contribuir&aacute\; a la entrega de informaci
 &oacute\;n necesaria para tomar una decisi&oacute\;n informada e incentiva
 r el esp&iacute\;ritu de participaci&oacute\;n c&iacute\;vica de nuestros 
 acad&eacute\;micos\, estudiantes y funcionarios.\nLos encuentros ser&aacut
 e\;n abiertos al p&uacute\;blico y contar&aacute\;n con un panel de tres e
 ntrevistadores compuesto por Ignacio Irarr&aacute\;zaval\, director del Ce
 ntro de Pol&iacute\;ticas P&uacute\;blicas UC\, o Francisca Alessandri\, c
 oordinadora de la Encuesta Nacional Bicentenario UC &ndash\; GfK Adimark\;
  un periodista representante de El Mercurio y otro de Tele13 Radio. Adem&a
 acute\;s de los entrevistadores\, la Comunidad UC podr&aacute\; realizar s
 us preguntas previamente seleccionadas. Para participar inscr&iacute\;bete
  aqu&iacute\; o env&iacute\;a tus preguntas aqu&iacute\;.\n+ Todos los enc
 uentros con los candidatos se transmitir&aacute\;n en este link.\nFechasMi
 &eacute\;rcoles 14 de junio de 2017\, 12.50 hrs. Felipe Kast (reemplazando
  a Beatriz S&aacute\;nchez)Jueves 15 de junio de 2017\, 12.50 hrs. Sebasti
 &aacute\;n Pi&ntilde\;eraMartes 20 de junio de 2017\, 12.50 hrs. Alejandro
  GuillierJueves 22 de junio de 2017\, 12.20 hrs. Carolina Goic (cambio de 
 horario)\n&nbsp\;\n https://fadeu-old.urantiacos.cl/agenda/evento/1041-can
 didatos-presidenciales-en-la-uc
DTSTART:20170622T162000Z
DTEND:20170622T173000Z
LOCATION:Salón de Honor\, Campus Casa Central UC (Av Libertador Bernardo O'
 Higgins 340\, Santiago\, Región Metropolitana\, Chile)
SUMMARY:Candidatos Presidenciales en la UC
URL:https://fadeu-old.urantiacos.cl/agenda/evento/1041-candidatos-presidenc
 iales-en-la-uc
END:VEVENT
BEGIN:VEVENT
UID:20260423T161808UTC-944217vlwW@https://fadeu-old.urantiacos.cl/
DTSTAMP:20260423T161808Z
DESCRIPTION:Acad&eacute\;micos\, arquitectos y especialistas revisar&aacute
 \;n los principales desaf&iacute\;os de la vivienda social sustentable en 
 Chile y el mundo\, dar&aacute\;n a conocer las &uacute\;ltimas tendencias 
 en arquitectura y construcci&oacute\;n\, y expondr&aacute\;n a partir de p
 royectos reales la soluciones a problem&aacute\;ticas surgidas a partir de
  una discusi&oacute\;n multidisciplinaria. El enfoque de la discusi&oacute
 \;n y las conclusiones ser&aacute\;n guiadas por la sustentabilidad de los
  proyectos y soluciones aplicadas.\nPrograma\n09:20 a 09:45 hrs. Acreditac
 i&oacute\;n\n09:45 a 09:50 hrs. Presentaci&oacute\;n\n09:50 a 10:00 hrs. P
 alabras de Bienvenida Francisco Lozano\, Director Centro de Innovaci&oacut
 e\;n en&nbsp\;Madera UC Corma y Gerente de Innovaci&oacute\;n de Arauco.\n
 10:00 a 10:40 hrs. &ldquo\;Presentaci&oacute\;n Internacional- T&iacute\;t
 ulo por definir&rdquo\; Alejandro Vallejo y Michael&nbsp\;Smith\, Costa Ri
 ca.\n10:40 a 11:20 hrs. &ldquo\;Barrio Ecosustentable de Cha&ntilde\;aral&
 rdquo\; Juan Jos&eacute\; Ugarte\, Director del Centro&nbsp\;de Innovaci&o
 acute\;n en Madera UC Corma.\n11:20 a 11:40 hrs. Coffee break\n11:40 a 12:
 20 hrs. Expositor por confirmar\n12:20 a 12:50 hrs. Ronda de preguntas. Mo
 dera Ra&uacute\;l Sohr. Periodista y analista internacional en cambio clim
 &aacute\;tico.\n12:50 a 13:00 hrs. Cierre y c&oacute\;ctel\n13:00 a 14:30 
 hrs. Almuerzo libre\n14:30 a 14:40 hrs. Acreditaci&oacute\;n\n14:40 a 15:2
 0 hrs. &ldquo\;Desempe&ntilde\;o ac&uacute\;stico y ambiental de Barrio Ec
 osustentable Cha&ntilde\;aral&rdquo\;&nbsp\;Felipe Victorero\, Subdirector
  de Transferencia\, CIM UC-Corma.\n15:20 a 16:00 hrs. &ldquo\;Nuevos siste
 mas de construcci&oacute\;n en madera de alto est&aacute\;ndar en el mundo
 &rdquo\;&nbsp\;Cristian Schmitt\, arquitecto y acad&eacute\;mico del Centr
 o de Innovaci&oacute\;n&nbsp\;en Madera UC-Corma.\n16:00 a 16:20 hrs. Coff
 ee break\n16:20 a 17:00 hrs. Expositor por confirmar\n17:00 a 17:30 hrs. R
 onda de preguntas. Modera Stephanie Cobo.\n17:30 a 17: 35 hrs. Cierre\n&nb
 sp\;\nPrecios entradasEntrada: $90.000 / Preventa (hasta el 31 de mayo): $
 60.000.- / Estudiantes:$25.000.\nInvitaCentro UC de Innovaci&oacute\;n en 
 Madera\nPatrocinaMinisterio de Vivienda y Urbanismo\n+ Inscripciones a tra
 v&eacute\;s del formulario. M&aacute\;s informaci&oacute\;n a trav&eacute\
 ;s del correo:&nbsp\;contactocim@uc.cl\n&nbsp\;\n\n&nbsp\; https://fadeu-o
 ld.urantiacos.cl/agenda/evento/989-congreso-de-vivienda-social-sustentable
DTSTART:20170621T132000Z
DTEND:20170621T220000Z
LOCATION:Centro de Innovación UC Campus San Joaquin  (Vicuña Mackenna 4860\
 , Macul\, Región Metropolitana\, Chile)
SUMMARY:Congreso de Vivienda Social Sustentable
URL:https://fadeu-old.urantiacos.cl/agenda/evento/989-congreso-de-vivienda-
 social-sustentable
END:VEVENT
BEGIN:VEVENT
UID:20260423T161808UTC-9450ig7OFv@https://fadeu-old.urantiacos.cl/
DTSTAMP:20260423T161808Z
DESCRIPTION:Seminario Proyectando el PaisajeDi&aacute\;logos en torno al pa
 trimonio natural y geograf&iacute\;aMayo 16 &ndash\; Junio 27\, 2017\nMart
 es 16 de mayo &ndash\; 18:30 Auditorio Arquitectura&ldquo\;Flora Nativa: C
 onstruyendo la identidad de nuestro paisaje&rdquo\;MONICA MUSALEM Ing. Agr
 &oacute\;nomo UC. Post&iacute\;tulo Arquitectura Del Paisaje U. de Chile\n
 Martes 23 de mayo &ndash\; 18:30 Auditorio ArquitecturaPromenade Geogr&aac
 ute\;fica como espacio memorable: 3 propuestas en verde&rdquo\;SANDRA ITUR
 RIAGA. Arquitecto UC. Magister Arquitectura\, U. Polit&eacute\;cnica de Ba
 rcelona\nMartes 30 de mayo &ndash\; 18:30 Auditorio FADEU&ldquo\;El paisaj
 e como patrimonio: Parque Las Majadas de Pirque&rdquo\;ALEJANDRA BOSCH. Ar
 quitecto UC. Magister Landscape Urbanism\, Architectural Association Londo
 n.\nMartes 06 de junio &ndash\; 18:30 Auditorio Arquitectura&ldquo\;Leyend
 o el paisaje&rdquo\;STUART MOORE &amp\; CSM DESIGN. Landscape Architect U.
 California\, Berkeley\nMartes 13 de junio &ndash\; 18:30 Auditorio FADEU&l
 dquo\;De la materia a la obra&rdquo\;VICENTE GAJARDO. Escultor Chileno Pre
 mio Altazor a las Artes Nacionales 2012.\nMartes 20 de junio &ndash\; 18:3
 0 Auditorio Arquitectura&ldquo\;Proyecto de Paisaje&rdquo\;JUAN GRIMM. Arq
 uitecto y Paisajista UC.\nMartes 27 &ndash\; 18:30 Auditorio Arquitectura&
 ldquo\;Del Jard&iacute\;n a la Infraestructura Verde. Conceptos\, estrateg
 ias y operatorias de proyecto&rdquo\;OSVALDO MORENO. Arquitecto U. de Chil
 e. Magister en Paisaje\, Medio Ambiente y Ciudad\, U. Nacional de la Plata
 . Director MAPA UC.\nVISITAS A TERRENO (optativas)S&aacute\;bado 20 de may
 o &ndash\; 10:00 a 13:00 Vivero PumahuidaM&Oacute\;NICA MUSALEMS&aacute\;b
 ado 03 de junio - 10:00 a 13:00 Majadas de PirqueALEJANDRA BOSCH\nCoordina
 ci&oacute\;n Acad&eacute\;micaFrancisco Croxatto / Camila Romero\nInvitaDi
 plomado en Dise&ntilde\;o de Paisaje UC\nColaboraMag&iacute\;ster en Arqui
 tectura del Paisaje UC\nLugarAuditorios Arquitectura y FADEU. Campus Lo Co
 ntador. El comendador 1916\, Providencia\nArancel p&uacute\;blico general:
  $ $95.000Ex alumnos UC: $ $75.000Estudiantes otras universidades: $50.000
 Arancel libre a estudiantes y profesores UC\nInscripciones abiertas / Cupo
 s limitadosEscribir a Richard Asto: andes.ua.asto@ gmail.comTel&eacute\;fo
 no: 23547747\nSe entregar&aacute\; un certificado de asistencia una vez co
 ncluido el seminario.\n&nbsp\;\n https://fadeu-old.urantiacos.cl/agenda/ev
 ento/951-seminario-proyectando-el-paisaje-2017
DTSTART:20170620T223000Z
DTEND:20170621T000000Z
LOCATION:Campus Lo Contador (El Comendador 1916\, Providencia\, Providencia
 \, Región Metropolitana\, Chile)
SUMMARY:Seminario Proyectando el Paisaje 2017
URL:https://fadeu-old.urantiacos.cl/agenda/evento/951-seminario-proyectando
 -el-paisaje-2017
END:VEVENT
BEGIN:VEVENT
UID:20260423T161808UTC-9458cm5XC1@https://fadeu-old.urantiacos.cl/
DTSTAMP:20260423T161808Z
DESCRIPTION:En l&iacute\;nea con los ejes centrales del Plan de Desarrollo 
 de la UC 2015&ndash\;2020 el Centro de Pol&iacute\;ticas P&uacute\;blicas 
 con la colaboraci&oacute\;n de Clapes UC organiz&oacute\; un ciclo de conv
 ersaciones con los principales candidatos presidenciales 2017. El objetivo
  de esta actividad es proveer un espacio abierto a la comunidad universita
 ria y a la ciudadan&iacute\;a\, para conocer en mayor profundidad las idea
 s y l&iacute\;neas program&aacute\;ticas de los que se perfilan como princ
 ipales candidatos para asumir la presidencia de nuestro pa&iacute\;s. La U
 niversidad provee un espacio neutro y ambiente propicio para darle altura 
 de miras a una actividad que contribuir&aacute\; a la entrega de informaci
 &oacute\;n necesaria para tomar una decisi&oacute\;n informada e incentiva
 r el esp&iacute\;ritu de participaci&oacute\;n c&iacute\;vica de nuestros 
 acad&eacute\;micos\, estudiantes y funcionarios.\nLos encuentros ser&aacut
 e\;n abiertos al p&uacute\;blico y contar&aacute\;n con un panel de tres e
 ntrevistadores compuesto por Ignacio Irarr&aacute\;zaval\, director del Ce
 ntro de Pol&iacute\;ticas P&uacute\;blicas UC\, o Francisca Alessandri\, c
 oordinadora de la Encuesta Nacional Bicentenario UC &ndash\; GfK Adimark\;
  un periodista representante de El Mercurio y otro de Tele13 Radio. Adem&a
 acute\;s de los entrevistadores\, la Comunidad UC podr&aacute\; realizar s
 us preguntas previamente seleccionadas. Para participar inscr&iacute\;bete
  aqu&iacute\; o env&iacute\;a tus preguntas aqu&iacute\;.\n+ Todos los enc
 uentros con los candidatos se transmitir&aacute\;n en este link.\nFechasMi
 &eacute\;rcoles 14 de junio de 2017\, 12.50 hrs. Felipe Kast (reemplazando
  a Beatriz S&aacute\;nchez)Jueves 15 de junio de 2017\, 12.50 hrs. Sebasti
 &aacute\;n Pi&ntilde\;eraMartes 20 de junio de 2017\, 12.50 hrs. Alejandro
  GuillierJueves 22 de junio de 2017\, 12.50 hrs. Carolina Goic\n&nbsp\;\n 
 https://fadeu-old.urantiacos.cl/agenda/evento/1039-candidatos-presidencial
 es-en-la-uc
DTSTART:20170620T165000Z
DTEND:20170620T180000Z
LOCATION:Salón de Honor\, Campus Casa Central UC (Av Libertador Bernardo O'
 Higgins 340\, Santiago\, Región Metropolitana\, Chile)
SUMMARY:Candidatos Presidenciales en la UC
URL:https://fadeu-old.urantiacos.cl/agenda/evento/1039-candidatos-presidenc
 iales-en-la-uc
END:VEVENT
END:VCALENDAR
