BEGIN:VCALENDAR
VERSION:2.0
PRODID:-//https://fadeu-old.urantiacos.cl///NONSGML kigkonsult.se iCalcreator 2.10.15//
METHOD:PUBLISH
BEGIN:VEVENT
UID:20260420T015157UTC-8615lncTGj@https://fadeu-old.urantiacos.cl/
DTSTAMP:20260420T015157Z
DESCRIPTION: https://fadeu-old.urantiacos.cl/agenda/evento/1886-sello-de-ex
 celencia-a-la-artesania
DTSTART:20190626T040000Z
LOCATION:Campus Lo Contador (El Comendador 1916\, Providencia\, Providencia
 \, Región Metropolitana\, Chile)
SUMMARY:Sello de Excelencia a la Artesanía
URL:https://fadeu-old.urantiacos.cl/agenda/evento/1886-sello-de-excelencia-
 a-la-artesania
END:VEVENT
BEGIN:VEVENT
UID:20260420T015157UTC-8618gOUudh@https://fadeu-old.urantiacos.cl/
DTSTAMP:20260420T015157Z
DESCRIPTION:Tenemos el agrado de invitarlos(as) a la quinta sesi&oacute\;n 
 de la&nbsp\;Serie: Jornadas de Investigaci&oacute\;n en el Instituto - 201
 9.&nbsp\;\nEn esta ocasi&oacute\;n el investigador post-doctoral del Insti
 tuto de Estudios Urbanos y Territoriales\,&nbsp\;Pablo Navarrete&nbsp\;dic
 tar&aacute\; la charla:&nbsp\;De la Sobrevivencia a la Movilidad Social: P
 ol&iacute\;ticas Locales de Apoyo a la Econom&iacute\;a Informal en Santia
 go de Chile.\nLa actividad se realizar&aacute\; el d&iacute\;a&nbsp\;marte
 s 25 de junio a partir de las 13:00 h.&nbsp\;en el Sal&oacute\;n Sergio La
 rra&iacute\;n.&nbsp\;El Comendador 1916\, Providencia.\nCupos limitados e 
 inscripciones&nbsp\;aqu&iacute\;.Se compartir&aacute\; un almuerzo liviano
  con los asistentes\, previa inscripci&oacute\;n&nbsp\;hasta el lunes 24 d
 e junio.\n&nbsp\;\n https://fadeu-old.urantiacos.cl/agenda/evento/1897-cha
 rla-de-la-sobrevivencia-a-la-movilidad-social-politicas-locales-de-apoyo-a
 -la-economia-informal-en-santiago-de-chile
DTSTART:20190625T170000Z
DTEND:20190625T180000Z
LOCATION:Salón Sergio Larraín\, Campus Lo Contador ()
SUMMARY: Charla: De la Sobrevivencia a la Movilidad Social: Políticas Local
 es de Apoyo a la Economía Informal en Santiago de Chile.
URL:https://fadeu-old.urantiacos.cl/agenda/evento/1897-charla-de-la-sobrevi
 vencia-a-la-movilidad-social-politicas-locales-de-apoyo-a-la-economia-info
 rmal-en-santiago-de-chile
END:VEVENT
BEGIN:VEVENT
UID:20260420T015157UTC-8623dIMhIt@https://fadeu-old.urantiacos.cl/
DTSTAMP:20260420T015157Z
DESCRIPTION:La importancia de la cultura organizacional y c&oacute\;mo esto
  puede ayudar a conectar los prop&oacute\;sitos de las personas con los pr
 op&oacute\;sitos de la empresa\, es el tema que abordar&aacute\; esta nuev
 a Morning Meeting.\n\nExpone:Roberto Puentes\, fundador y director ejecuti
 vo de&nbsp\;&ldquo\;Belab&rdquo\;\, Centro de Liderazgo Inspiracional\, qu
 e busca apoyar a las personas a reinventarse en su &aacute\;mbito de desar
 rollo a trav&eacute\;s del descubrimiento\, activaci&oacute\;n y expansi&o
 acute\;n de las pasiones y capacidades de las personas.\nMorning&nbsp\;Mee
 tingIniciativa liderada por Chile Dise&ntilde\;o\, que re&uacute\;ne a exp
 ertos de diferentes &aacute\;reas vinculadas al ecosistema del Dise&ntilde
 \;o\, con el objeto de generar reflexi&oacute\;n y nuevas aproximaciones a
  la disciplina.&nbsp\;&nbsp\;\n&nbsp\;_13 de junio_9:00 am&nbsp\;_Auditori
 o FADEU\, Campus Lo Contador (El Comendador 1916\, Providencia).&nbsp\; ht
 tps://fadeu-old.urantiacos.cl/agenda/evento/1884-morning-meeting-liderar-e
 l-diseno-de-culturas-organizacionales
DTSTART:20190625T130000Z
DTEND:20190625T140000Z
LOCATION:Auditorio FADEU\, Campus Lo Contador PUC (El Comendador 1916\, Pro
 videncia\, Providencia\, Región Metropolitana\, Chile)
SUMMARY:Morning Meeting | Liderar el diseño de culturas organizacionales
URL:https://fadeu-old.urantiacos.cl/agenda/evento/1884-morning-meeting-lide
 rar-el-diseno-de-culturas-organizacionales
END:VEVENT
END:VCALENDAR
