BEGIN:VCALENDAR
VERSION:2.0
PRODID:-//https://fadeu-old.urantiacos.cl///NONSGML kigkonsult.se iCalcreator 2.10.15//
METHOD:PUBLISH
BEGIN:VEVENT
UID:20260423T145451UTC-80124TAt8f@https://fadeu-old.urantiacos.cl/
DTSTAMP:20260423T145451Z
DESCRIPTION:En dicha instancia\, expondr&aacute\;n los profesores de la Esc
 uela Dise&ntilde\;o UC: Francisco G&aacute\;lvez\, Sergio Ram&iacute\;rez 
 y Justine Graham.\nLugarEspacio Dise&ntilde\;o\, Centro Cultural Gabriela 
 Mistral (GAM)\n&nbsp\;\n&nbsp\;\n https://fadeu-old.urantiacos.cl/agenda/e
 vento/1077-charla-territorios-tipograficos-por-francisco-galvez-sergio-ram
 irez-y-justine-graham
DTSTART:20170701T210000Z
DTEND:20170701T223000Z
LOCATION:Centro Cultural Gabriela Mistral (GAM) (Av Libertador Bernardo O'H
 iggins 246\, Santiago\, Región Metropolitana\, Chile)
SUMMARY:Charla Territorios tipográficos\, por Francisco Gálvez\, Sergio Ram
 írez y Justine Graham
URL:https://fadeu-old.urantiacos.cl/agenda/evento/1077-charla-territorios-t
 ipograficos-por-francisco-galvez-sergio-ramirez-y-justine-graham
END:VEVENT
BEGIN:VEVENT
UID:20260423T145451UTC-80161waCxI@https://fadeu-old.urantiacos.cl/
DTSTAMP:20260423T145451Z
DESCRIPTION:Extreme Environments Inhabitation WorkshopProceso de dise&ntild
 e\;o para la fabricaci&oacute\;n basado en restricciones31 de julio y el 1
 8 de Agosto de 2017\nEntre el 31 de julio y el 18 de Agosto de 2017 se rea
 lizar&aacute\; el Extreme Environments Inhabitation Workshop que explorar&
 aacute\; el desaf&iacute\;o de dise&ntilde\;ar asentamientos\, bajo las co
 ndiciones del desierto m&aacute\;s &aacute\;rido del mundo. El Workshop se
  enfocar&aacute\; en el dise&ntilde\;o de procesos para el desarrollo de m
 ateriales con los excedentes de los procesos mineros. Este desaf&iacute\;o
  se plantea desde el dise&ntilde\;o de las tecnolog&iacute\;as de construc
 ci&oacute\;n\, el estudio de materias primas disponibles en el lugar\, y l
 a posici&oacute\;n geogr&aacute\;fica del desierto de Atacama.\nEl Worksho
 p incluye un viaje al Desierto de Atacama entre el 31 de julio y el 5 de a
 gosto\, donde se visitar&aacute\;n la Estaci&oacute\;n Experimental del Ce
 ntro del Desierto de Atacama en Alto Patache\, operaciones mineras y el ob
 servatorio astron&oacute\;mico ALMA. Posteriormente\, el trabajo continuar
 &aacute\; por dos semanas en la Escuela de Arquitectura de la Universidad 
 Cat&oacute\;lica en Santiago de Chile\, donde se estudiar&aacute\;n tecnol
 og&iacute\;as de modelaci&oacute\;n y de fabricaci&oacute\;n digital hacie
 ndo uso del laboratorio de prototipos.\nEEI es organizado por Universal Pr
 ojects en conjunto con el Massachusetts Institute of Technology\, MISTI Ch
 ile\; el Centro del Desierto de Atacama de la Pontificia Universidad Cat&o
 acute\;lica de Chile\; y los departamentos de arquitectura de MIT y PUC. L
 as inscripciones se encuentran abiertas a estudiantes y j&oacute\;venes pr
 ofesionales de arquitectura\, ingenier&iacute\;a y &aacute\;reas afines\, 
 quienes trabajar&aacute\;n en conjunto con estudiantes de arquitectura e i
 ngenier&iacute\;a mec&aacute\;nica del MIT. El workshop y las charlas asoc
 iadas ser&aacute\;n impartidas en ingl&eacute\;s.\nPostulaci&oacute\;nSe h
 ar&aacute\; en l&iacute\;nea en el sitio http://eei.universalprojects.cl/ 
 hasta el d&iacute\;a viernes 30 de junio de 2017. El trabajo a desarrollar
  requiere manejo avanzado de Adobe Photoshop e Illustrator\, Rhinoceros y 
 Grasshopper 3D. El workshop no provee licencias fuera de los laboratorios 
 de la universidad\, sin embargo se pueden descargar versiones de prueba de
 sde sus sitios respectivos:\n\nAdobe Creative Cloud [www.adobe.com]\nRhino
 ceros [www.rhino3d.com]\nGrasshopper 3D [www.grasshopper3d.com]\n\nEl domi
 nio de otras herramientas digitales (como Autodesk Maya\, o Dassault Syst&
 egrave\;mes Solidworks)\, y de programaci&oacute\;n en Python\, es deseabl
 e pero no obligatorio.\nEl Workshop tiene un valor de US$ 850\, que incluy
 e pasajes desde Santiago\, traslados y estad&iacute\;a en Alto Patache y S
 an Pedro de Atacama. Se ofrecer&aacute\;n 6 medias becas a los estudiantes
  interesados\, los cupos son limitados.\nEstudiantes Arquitectura UCEl Wor
 kshop puede ser convalidado por un Curso OPR de 5 cr&eacute\;ditos para es
 tudiantes de pre y postgrado. Estudiantes interesados en el workshop deben
  postular a trav&eacute\;s de la postulaci&oacute\;n en l&iacute\;nea ofic
 ial en http://eei.universalprojects.cl/ y escribir al correo fjquinta@ uc.
 cl una vez que hayan sido aceptados.\n&ndash\;&ndash\;&ndash\;\nFecha: 31 
 de julio al 18 de agosto de 2017Lugar: Desierto de Atacama y Santiago de C
 hile.Informaci&oacute\;n e inscripciones: http://eei.universalprojects.cl/
 Cierre de inscripciones: viernes 30 de junio.Invitados: Caitlin Mueller (M
 IT) Skylar Tibbits (MIT)\, Pablo Osses (Geograf&iacute\;a\, PUC)\, Pedro A
 lonso (Arquitectura\, PUC)Profesores: Paloma Gonz&aacute\;lez (MIT\, UP)\,
  Jos&eacute\; Hern&aacute\;ndez (PUC\, UP).Organizan: Universal Projects (
 UP)\, MIT MISTI Chile y PUCAuspician: MIT MISTI Chile y MIT Sloan Latin Am
 ericaPatrocinadores: Centro del Desierto de Atacama UC\, Escuela de Arquit
 ectura MIT y UC\n&ndash\;&ndash\;&ndash\;\nPrograma p&uacute\;blico:Presen
 taci&oacute\;n y bienvenida al WorkshopLunes 31 de julio 17.00\nCharla Sky
 lar TibbitsLunes 7 de agosto 18.30 &ndash\; Auditorio Arquitectura\nCierre
  del workshop\, presentaci&oacute\;n final de los resultadosViernes 18 de 
 agosto 16.00\nCharla Caitlin MullerViernes 18 de agosto 19.00 &ndash\; Aud
 itorio Arquitectura\n&ndash\;&ndash\;&ndash\;\nMIT Assistant Professor Sky
 lar Tibbits es co-director y fundador del Self-Assembly Lab de MIT (labora
 torio de autoensamblaje)\, que forma parte del MIT International Design Ce
 nter. El Self-Assembly Lab se centra en tecnolog&iacute\;as materiales pro
 gramables y auto-ensamblable para innovaci&oacute\;n en procesos de manufa
 ctura y construcci&oacute\;n. Skylar es Profesor Asistente en el Departame
 nto de Arquitectura de MIT donde imparte talleres de pre y posgrado\, y el
  seminario How to Make (Almost) Anything junto a el profesor Neil Gershenf
 eld. Establecida in 2007\, Skylar Tibbits es tambi&eacute\;n fundador y di
 rector de la oficina multidiscipliaria de dise&ntilde\;o\, SJET LLC.\nwww.
 selfassemblylab.net\nMIT - Caitlin Mueller es investigadora\, dise&ntilde\
 ;adora y profesora dedicada al estudio del v&iacute\;nculo entre arquitect
 ura e ingenier&iacute\;a estructural. Actualmente ella es profesor asisten
 te en el Building Technology Program\, donde dirige el grupo de investigac
 i&oacute\;n en estructuras digitales y co-dirige el Structural Design Lab.
  Como investigadora\, la profesora M&uuml\;ller se centra en desarrollar n
 uevos m&eacute\;todos y herramientas digitales para sintetizar intenciones
  arquitect&oacute\;nicas y estructurales en etapas tempranas del dise&ntil
 de\;o. Tambi&eacute\;n trabaja en el campo de la fabricaci&oacute\;n digit
 al\, con foco en el v&iacute\;nculo entre alto rendimiento estructural y m
 etodos computacionales.\ndigitalstructures.mit.edu/\nPaloma Gonzalez MS MI
 T\, MARQ PUC\, es candidata a PhD en Design and Computation en el MIT. Su 
 investigaci&oacute\;n se centra en c&oacute\;mo el espacio afecta el movim
 iento de las personas. A trav&eacute\;s del desarrollo de investigaci&oacu
 te\;n emp&iacute\;rica con medios tecnologicos\, Paloma busca cuantificar 
 estos efectos y usarlos para informar el proceso de dise&ntilde\;o. Esta i
 nvestigaci&oacute\;n se origina en su tesis de master en el MIT &ldquo\;Es
 pacio y Movimiento&rdquo\; (2015) la cual continua desarrollando\, contand
 o con una exhibici&oacute\;n denominada WalkAcross en el MIT Museum (2014 
 &ndash\; 2020). Sus intereses van desde la ciencia cognitiva\, desarrollo 
 de software\, aplicaciones de sensores\, realidad virtual para estudios co
 nductuales espaciales\, simulaci&oacute\;n y visualizaci&oacute\;n de dato
 s\, hasta la fabricaci&oacute\;n digital y exploraciones materiales. Palom
 a es socia y co-directoria del area de Asentamientos UP.\nJos&eacute\; Her
 n&aacute\;ndez MA MARQ &ndash\; PUC\, se ha especializado en modelaci&oacu
 te\;n\, fabricaci&oacute\;n y teor&iacute\;a de la arquitectura digital. H
 a trabajado como programador y dise&ntilde\;ador de interacci&oacute\;n en
  varios proyectos en Santiago y para la exhibici&oacute\;n Energy\, en el 
 museo MAXXI en Roma (2013). Desde el 2011 ha sido instructor de Rhino en v
 arios talleres de investigaci&oacute\;n en la PUC. Ha colaborado en exposi
 ciones en la galer&iacute\;a Gonzalez &amp\; Gonzalez en Santiago (2012)\,
  el Pratt Institute en Nueva York (2013)\, la Architectural Association en
  Londres (2014)\, y Monolith Controversies\, pabell&oacute\;n chileno para
  la 14&ordf\; bienal de arquitectura de Venecia\, ganador del le&oacute\;n
  de plata a las representaciones nacionales. Jose es socio y co-director d
 e las &aacute\;reas de Informatica Urbana y Tecnolog&iacute\;as de UP.\n&n
 bsp\;\n https://fadeu-old.urantiacos.cl/agenda/evento/1061-cierre-postulac
 iones-workshop-extreme-environments-inhabitation
DTSTART:20170630T040000Z
LOCATION:Escuela de Arquitectura\, Campus Lo Contador (El Comendador 1916\,
  Providencia\, Providencia\, Región Metropolitana\, Chile)
SUMMARY:Cierre postulaciones: Workshop Extreme Environments Inhabitation
URL:https://fadeu-old.urantiacos.cl/agenda/evento/1061-cierre-postulaciones
 -workshop-extreme-environments-inhabitation
END:VEVENT
BEGIN:VEVENT
UID:20260423T145451UTC-8036JZltUR@https://fadeu-old.urantiacos.cl/
DTSTAMP:20260423T145451Z
DESCRIPTION:Comenzaron las postulaciones para alumnos que quieran sumarse c
 omo ayudantes de investigaci&oacute\;n y creaci&oacute\;n o presentar proy
 ectos propios en temas que pongan en di&aacute\;logo la propia disciplina 
 con la fe\nBajo este lema\, la Direcci&oacute\;n de Pastoral y Cultura Cri
 stiana en conjunto con la Vicerrector&iacute\;a de Investigaci&oacute\;n\,
  convocan al IV Concurso de Investigaci&oacute\;n y Creaci&oacute\;n para 
 Alumnos\, en las categor&iacute\;as de Ayudant&iacute\;a y Proyecto Propio
 .\nEl per&iacute\;odo de postulaci&oacute\;n\, para participar de esta nue
 va edici&oacute\;n del concurso\, ser&aacute\; desde el 23 de mayo hasta e
 l 29 de junio de 2017. Dicha postulaci&oacute\;n deber&aacute\; realizarse
  en l&iacute\;nea en pastoral.uc.cl/concursoalumnos\n&ldquo\;Hoy invitamos
  a todos los alumnos de la UC a que con valent&iacute\;a salgan a descubri
 r el mundo\, con los pies puestos en la vida universitaria y la mirada en 
 el pa&iacute\;s. Evangelizar desde la investigaci&oacute\;n y la creaci&oa
 cute\;n es una labor clave de la Pastoral UC. Queremos fomentar propuestas
  que pongan en di&aacute\;logo la Fe y la Raz&oacute\;n desde cada discipl
 ina. Por eso\, en conjunto con la VRI financiamos los mejores proyectos de
  alumnos que apuntan a este objetivo&rdquo\; explica Guillermo Tagle\, Dir
 ector de la Pastoral UC.\nEl objetivo de este concurso es incentivar a los
  estudiantes a que contribuyan a la misi&oacute\;n evangelizadora de la Un
 iversidad Cat&oacute\;lica de Chile a trav&eacute\;s de la investigaci&oac
 ute\;n y la creaci&oacute\;n\, participando en proyectos que promuevan el 
 di&aacute\;logo expl&iacute\;cito de la fe con la raz&oacute\;n y la cultu
 ra actual\, con la convicci&oacute\;n que mediante la fe se encuentran res
 puestas m&aacute\;s profundas a las necesidades del hombre contempor&aacut
 e\;neo. Adem&aacute\;s\, esta iniciativa busca potenciar la incorporaci&oa
 cute\;n temprana de alumnos a la actividad acad&eacute\;mica y motivar la 
 vinculaci&oacute\;n de maestros con estudiantes.\nLa convocatoria est&aacu
 te\; abierta para todos aquellos estudiantes de Pregrado de la Pontificia 
 Universidad Cat&oacute\;lica de Chile\, cuyas propuestas presenten una cla
 ra identidad cat&oacute\;lica y que cuenten con el apoyo de un profesor tu
 tor de alguna unidad acad&eacute\;mica.\n&nbsp\;\n https://fadeu-old.urant
 iacos.cl/agenda/evento/1043-cierre-postulaciones-iv-concurso-de-investigac
 ion-y-creacion-para-alumnos-a-descubrir-con-valentia
DTSTART:20170629T040000Z
LOCATION:Todos los campus\, Pontifícia Universidad Católica de Chile (Santi
 ago\, Región Metropolitana\, Chile)
SUMMARY:Cierre postulaciones IV Concurso de Investigación y Creación para A
 lumnos 'A descubrir con valentía”
URL:https://fadeu-old.urantiacos.cl/agenda/evento/1043-cierre-postulaciones
 -iv-concurso-de-investigacion-y-creacion-para-alumnos-a-descubrir-con-vale
 ntia
END:VEVENT
BEGIN:VEVENT
UID:20260423T145451UTC-804493dAuI@https://fadeu-old.urantiacos.cl/
DTSTAMP:20260423T145451Z
DESCRIPTION:En la segunda sesi&oacute\;n del ciclo de conferencias organiza
 do por Ladera Sur y el MAPA UC\, Alexis Segovia\, profesor del curso 'Ecos
 istemas Glaciares' del Mag&iacute\;ster en &Aacute\;reas Silvestres de la 
 Universidad de Chile\, Pablo Valenzuela Ingeniero Civil y fot&oacute\;graf
 o especializado en paisajes glaciares\, Carlos Hevia\, arquitecto y monta&
 ntilde\;ista U de Chile y javiera Valencia\, ge&oacute\;grafa UC que traba
 jo en la Fundaci&oacute\;n Tompkins Conservation\, hablar&aacute\;n sobre 
 los glaciares es Chile desde sus respectivas disciplinas.\nInvitanMAPA UCL
 adera SUREnterreno Chile\n&nbsp\;\n&nbsp\;\n\n&nbsp\; https://fadeu-old.ur
 antiacos.cl/agenda/evento/1071-ciclo-inspirados-por-la-naturaleza-glaciare
 s-en-chile
DTSTART:20170628T230000Z
DTEND:20170629T003000Z
LOCATION:Auditorio FADEU\, Campus Lo Contador PUC (El Comendador 1916\, Pro
 videncia\, Providencia\, Región Metropolitana\, Chile)
SUMMARY:Ciclo Inspirados por la Naturaleza: Glaciares en Chile
URL:https://fadeu-old.urantiacos.cl/agenda/evento/1071-ciclo-inspirados-por
 -la-naturaleza-glaciares-en-chile
END:VEVENT
BEGIN:VEVENT
UID:20260423T145451UTC-8048RuV3K1@https://fadeu-old.urantiacos.cl/
DTSTAMP:20260423T145451Z
DESCRIPTION:Seminario Proyectando el PaisajeDi&aacute\;logos en torno al pa
 trimonio natural y geograf&iacute\;aMayo 16 &ndash\; Junio 27\, 2017\nMart
 es 16 de mayo &ndash\; 18:30 Auditorio Arquitectura&ldquo\;Flora Nativa: C
 onstruyendo la identidad de nuestro paisaje&rdquo\;MONICA MUSALEM Ing. Agr
 &oacute\;nomo UC. Post&iacute\;tulo Arquitectura Del Paisaje U. de Chile\n
 Martes 23 de mayo &ndash\; 18:30 Auditorio ArquitecturaPromenade Geogr&aac
 ute\;fica como espacio memorable: 3 propuestas en verde&rdquo\;SANDRA ITUR
 RIAGA. Arquitecto UC. Magister Arquitectura\, U. Polit&eacute\;cnica de Ba
 rcelona\nMartes 30 de mayo &ndash\; 18:30 Auditorio FADEU&ldquo\;El paisaj
 e como patrimonio: Parque Las Majadas de Pirque&rdquo\;ALEJANDRA BOSCH. Ar
 quitecto UC. Magister Landscape Urbanism\, Architectural Association Londo
 n.\nMartes 06 de junio &ndash\; 18:30 Auditorio Arquitectura&ldquo\;Leyend
 o el paisaje&rdquo\;STUART MOORE &amp\; CSM DESIGN. Landscape Architect U.
 California\, Berkeley\nMartes 13 de junio &ndash\; 18:30 Auditorio FADEU&l
 dquo\;De la materia a la obra&rdquo\;VICENTE GAJARDO. Escultor Chileno Pre
 mio Altazor a las Artes Nacionales 2012.\nMartes 20 de junio &ndash\; 18:3
 0 Auditorio Arquitectura&ldquo\;Proyecto de Paisaje&rdquo\;JUAN GRIMM. Arq
 uitecto y Paisajista UC.\nMartes 27 &ndash\; 18:30 Auditorio Arquitectura&
 ldquo\;Del Jard&iacute\;n a la Infraestructura Verde. Conceptos\, estrateg
 ias y operatorias de proyecto&rdquo\;OSVALDO MORENO. Arquitecto U. de Chil
 e. Magister en Paisaje\, Medio Ambiente y Ciudad\, U. Nacional de la Plata
 . Director MAPA UC.\nVISITAS A TERRENO (optativas)S&aacute\;bado 20 de may
 o &ndash\; 10:00 a 13:00 Vivero PumahuidaM&Oacute\;NICA MUSALEMS&aacute\;b
 ado 03 de junio - 10:00 a 13:00 Majadas de PirqueALEJANDRA BOSCH\nCoordina
 ci&oacute\;n Acad&eacute\;micaFrancisco Croxatto / Camila Romero\nInvitaDi
 plomado en Dise&ntilde\;o de Paisaje UC\nColaboraMag&iacute\;ster en Arqui
 tectura del Paisaje UC\nLugarAuditorios Arquitectura y FADEU. Campus Lo Co
 ntador. El comendador 1916\, Providencia\nArancel p&uacute\;blico general:
  $ $95.000Ex alumnos UC: $ $75.000Estudiantes otras universidades: $50.000
 Arancel libre a estudiantes y profesores UC\nInscripciones abiertas / Cupo
 s limitadosEscribir a Richard Asto: andes.ua.asto@ gmail.comTel&eacute\;fo
 no: 23547747\nSe entregar&aacute\; un certificado de asistencia una vez co
 ncluido el seminario.\n&nbsp\;\n https://fadeu-old.urantiacos.cl/agenda/ev
 ento/953-seminario-proyectando-el-paisaje-2017
DTSTART:20170627T223000Z
DTEND:20170628T000000Z
LOCATION:Campus Lo Contador (El Comendador 1916\, Providencia\, Providencia
 \, Región Metropolitana\, Chile)
SUMMARY:Seminario Proyectando el Paisaje 2017
URL:https://fadeu-old.urantiacos.cl/agenda/evento/953-seminario-proyectando
 -el-paisaje-2017
END:VEVENT
BEGIN:VEVENT
UID:20260423T145451UTC-80564l865d@https://fadeu-old.urantiacos.cl/
DTSTAMP:20260423T145451Z
DESCRIPTION:Tenemos el honor de invitarlo(a) a ud. al Debate que se realiza
 r&aacute\; entre asesores de precandidatos presidenciales sobre temas de c
 iudad.\nEl debate ser&aacute\; moderado por Manuel Valencia\, Periodista &
 aacute\;rea ciudad El Mercurio\, y los participantes son:\nGloria Hutt por
  Felipe KastPilar Gim&eacute\;nez por Sebasti&aacute\;n Pi&ntilde\;eraClem
 ente P&eacute\;rez por Carolina Goic&Aacute\;lvaro Miranda por Alberto May
 olErnesto L&oacute\;pez por Beatriz S&aacute\;nchezGenaro Cuadros por Alej
 andro Guiller\n+ Los cupos son limitados y las inscripciones se realizan c
 on Daniela V&aacute\;squez al mail sec_docencia@uc.cl\nOrganizaInstituto d
 e Estudios Urbanos y Territoriales UCCentro de Desarrollo Urbano Sustentab
 le - CEDEUS\n&nbsp\;\n https://fadeu-old.urantiacos.cl/agenda/evento/1065-
 debate-asesores-de-precandidatos-presidenciales-propuesta-para-mejores-ciu
 dades
DTSTART:20170627T223000Z
DTEND:20170628T010000Z
LOCATION:Auditorio FADEU\, Campus Lo Contador PUC (El Comendador 1916\, Pro
 videncia\, Providencia\, Región Metropolitana\, Chile)
SUMMARY:Debate Asesores de Precandidatos Presidenciales: propuesta para mej
 ores ciudades
URL:https://fadeu-old.urantiacos.cl/agenda/evento/1065-debate-asesores-de-p
 recandidatos-presidenciales-propuesta-para-mejores-ciudades
END:VEVENT
BEGIN:VEVENT
UID:20260423T145451UTC-80607HD1oh@https://fadeu-old.urantiacos.cl/
DTSTAMP:20260423T145451Z
DESCRIPTION:Tenemos el agrado de invitarlos(as) a la Charla Los espacios ot
 ros en las ciudades latinoamericanas. Re-definici&oacute\;n de la inclusi&
 oacute\;n desde la exclusi&oacute\;n espacial dictada por Diana Padilla\, 
 quien realiza actualmente una pasant&iacute\;a en el Instituto de Estudios
  Urbanos y Territoriales UC. Diana cursa el Doctorado en Filosof&iacute\;a
  con orientaci&oacute\;n en Arquitectura y Asuntos Urbanos\, UANL-FARQ\, M
 &eacute\;xico.\nInvita y organizaInstituto de Estudios Urbanos y Territori
 ales IEUT UC\n&nbsp\;\n https://fadeu-old.urantiacos.cl/agenda/evento/1067
 -charla-los-espacios-otros-en-las-ciudades-latinoamericanas-re-definicion-
 de-la-inclusion-desde-la-exclusion-espacial-por-diana-padilla
DTSTART:20170627T180000Z
DTEND:20170627T193000Z
LOCATION:Sala de Consejo\, 4to piso Instituto de Estudios Urbanos y Territo
 riales\, Campus Lo Contador (El Comendador 1916\, Providencia\, Región Met
 ropolitana\, Chile)
SUMMARY:Charla 'Los espacios otros en las ciudades latinoamericanas: Re-def
 inición de la inclusión desde la exclusión espacial'\, por Diana Padilla
URL:https://fadeu-old.urantiacos.cl/agenda/evento/1067-charla-los-espacios-
 otros-en-las-ciudades-latinoamericanas-re-definicion-de-la-inclusion-desde
 -la-exclusion-espacial-por-diana-padilla
END:VEVENT
END:VCALENDAR
