BEGIN:VCALENDAR
VERSION:2.0
PRODID:-//https://fadeu-old.urantiacos.cl///NONSGML kigkonsult.se iCalcreator 2.10.15//
METHOD:PUBLISH
BEGIN:VEVENT
UID:20260420T191420UTC-8892a8ukof@https://fadeu-old.urantiacos.cl/
DTSTAMP:20260420T191420Z
DESCRIPTION:\n\n13:00 &ndash\; 13:30&nbsp\;| Inauguraci&oacute\;n: Palabras
  del Director\n13:30 &ndash\; 18:00&nbsp\;| Exhibici&oacute\;n abierta de 
 talleres\n18:30&nbsp\;| Desfile Indumentaria\n19:30&nbsp\;| Cierre y premi
 aci&oacute\;n\n*por definir&nbsp\;| Closing night\n&nbsp\;\n+ info aqu&iac
 ute\;.&nbsp\;\n&nbsp\;\n https://fadeu-old.urantiacos.cl/agenda/evento/159
 8-open-day
DTSTART:20180706T170000Z
DTEND:20180706T230000Z
LOCATION:Escuela de Diseño UC\, Campus Lo Contador (El Comendador\, Provide
 ncia\, Providencia\, Región Metropolitana\, Chile)
SUMMARY:Open Day
URL:https://fadeu-old.urantiacos.cl/agenda/evento/1598-open-day
END:VEVENT
BEGIN:VEVENT
UID:20260420T191420UTC-8896vBp5UG@https://fadeu-old.urantiacos.cl/
DTSTAMP:20260420T191420Z
DESCRIPTION:\n\nEl lanzamiento de 'Dibujo y Proyecto' a cargo del docente\,
  investigador y arquitecto Germ&aacute\;n Hidalgo\, se realizar&aacute\; e
 l pr&oacute\;ximo 6 de julio\, en el Auditorio FADEU\, a las 18.30 hrs.\nE
 l segundo volumen de la serie 'Trazos'\, se centra en distintos casos de a
 rquitectura y paisaje en Latinoam&eacute\;rica\, continuando el trabajo re
 alizado en el primer volumen 'Sobre el Croquis'.\nEn sus m&aacute\;s de 10
 0 p&aacute\;ginas y profusas ilustraciones\, esta edici&oacute\;n discute 
 a trav&eacute\;s de los escritos de diversos autores\, casos que exponen e
 jemplarmente la relaci&oacute\;n entre dibujo y proyecto. Comentar&aacute\
 ;n el libro los arquitectos Alejandra Celed&oacute\;n y Mathias Klotz.\n''
 Considerar el dibujo como algo m&aacute\;s que un simple instrumento\, inc
 luso como un factor decisivo en el origen de un proyecto de arquitectura c
 omo lo propuso Robin Evans en su ensayo\, no ha sido una idea totalmente c
 omprendida ni admitida. En efecto\, aceptarla habr&iacute\;a significado\,
  en primer lugar\, comprender el dibujo arquitect&oacute\;nico en t&eacute
 \;rminos de representaci&oacute\;n y no s&oacute\;lo como un portador de s
 ignificados\; aquello que para Svletana Alpers\, en t&eacute\;rminos de ar
 te y pintura\, equival&iacute\;a a reclamar una noci&oacute\;n de represen
 tar o un inter&eacute\;s por lo que el propio hecho de representar signifi
 que.\n&nbsp\;\n\n\n https://fadeu-old.urantiacos.cl/agenda/evento/1588-lan
 zamiento-libro-dibujo-y-proyecto
DTSTART:20180705T223000Z
DTEND:20180705T233000Z
LOCATION:Auditorio FADEU\, Campus Lo Contador PUC (El Comendador 1916\, Pro
 videncia\, Providencia\, Región Metropolitana\, Chile)
SUMMARY:Lanzamiento libro 'Dibujo y Proyecto'
URL:https://fadeu-old.urantiacos.cl/agenda/evento/1588-lanzamiento-libro-di
 bujo-y-proyecto
END:VEVENT
BEGIN:VEVENT
UID:20260420T191420UTC-8902sAEfJI@https://fadeu-old.urantiacos.cl/
DTSTAMP:20260420T191420Z
DESCRIPTION:La exposici&oacute\;n&nbsp\;'Lo spazio comune moderno'\, curada
  por&nbsp\;Umberto Bonomo\,&nbsp\;&nbsp\;Director del Centro de Patrimonio
  Cultural UC\,&nbsp\;se inaugurar&aacute\;&nbsp\;el&nbsp\;05 de julio&nbsp
 \;en la&nbsp\;Universit&agrave\; Iuav di Venezia\,&nbsp\;y estar&aacute\; 
 abierta hasta el d&iacute\;a 20 del mismo mes.\n&nbsp\;\n\n&nbsp\;\n&iques
 t\;Cu&aacute\;l es la relaci&oacute\;n entre arquitectura y pol&iacute\;ti
 ca de vivienda? Esta exposici&oacute\;n explora esta compleja relaci&oacut
 e\;n para aclarar la forma en que el aparato estatal\, con sus institucion
 es y sus leyes\, ha esculpido la ciudad de Santiago de Chile en la que viv
 imos hoy.\n\nEste trabajo interdisciplinario se realiz&oacute\; a trav&eac
 ute\;s de la superposici&oacute\;n de aspectos legislativos con cuestiones
  de historia urbana y arquitectura.\nLa exposici&oacute\;n expone proyecto
 s en los que el espacio colectivo\, establecido legalmente en las primeras
  d&eacute\;cadas del siglo XX\, se consolida a mediados del siglo pasado y
  forma nuevos modelos urbanos\, capaces de transformar grandes porciones d
 e la ciudad de Santiago d&aacute\;ndole una imagen metropolitana. El espac
 io colectivo se considera aqu&iacute\; como el espesor que se encuentra en
 tre dos l&iacute\;neas de propiedad: la propiedad privada de la vivienda y
  la propiedad p&uacute\;blica de la calle\; un espacio com&uacute\;n a tod
 as las casas y apartamentos que componen un complejo residencial. Por lo t
 anto\, es un espacio de copropiedad y coexistencia.El espacio colectivo ha
  jugado un papel cada vez m&aacute\;s importante hasta convertirse\, en lo
 s a&ntilde\;os 60\, en el verdadero protagonista de la metr&oacute\;polis 
 que se estaba construyendo.\nPara este estudio hist&oacute\;rico\, la vari
 able de dise&ntilde\;o est&aacute\; asociada a seis propuestas desarrollad
 as por estudios j&oacute\;venes de arquitectura chilenos que intervienen e
 n las &aacute\;reas comunes de los principales complejos residenciales de 
 Santiago. Estas propuestas crean nuevos escenarios\, en algunos casos ut&o
 acute\;picos\, pero siempre sugestivos\, que contribuyen a abrir un debate
  tan urbano como arquitect&oacute\;nico sobre las necesidades de la vida m
 etropolitana del siglo XXI.\n1. UNIDAD VECINAL PORTALES 1954 - BONOMO + AM
 BROSO + FEUERHAKE2. UNIDAD VECINAL PROVIDENCIA 1955 - ARCADA3. VILLA OLIMP
 ICA 1960 - NICOL&Aacute\;S URZUA SOLER ARQUITECTOS4. VILLA FREI 1965 - MoV
 e ALBERTO MOLETTO + PAULA VELASCO5. REMODELACION SAN BORJA 1969 - LYON BEA
 LS ARQUITECTOS6. SECCIONAL TUPAC AMARU 1969 - FELIPE ALARC&Oacute\;N ARQUI
 TECTOS\nCuradores_\nUmberto Bonomo /&nbsp\;Director del Centro de Patrimon
 io Cultural UC - Universidad Cat&oacute\;lica Santiago de Chile\nAndrea Am
 broso /&nbsp\;Estudiante de doctorado en composici&oacute\;n arquitect&oac
 ute\;nica\, IUAV University of Venice\nParticipan_\nFacultad de Arquitectu
 ra Dise&ntilde\;o y Estudios Urbanos PUC\nCentro de Patrimonio Cultural de
  la UC\nEscuela de doctorado IUAV\nFecha_\n\n04 al 20 de julio de 2018.\n&
 nbsp\;\n&nbsp\;\nFecha Inauguraci&oacute\;n_\n&nbsp\;\n&nbsp\;\n5 de julio
  de 2018\, 12.00 hrs.\n&nbsp\;\n&nbsp\;\nLugar_\n&nbsp\;\n&nbsp\;\nCotonif
 icio veneziano: spazio espositivo Gino Valle\n&nbsp\;\n&nbsp\;\n\n&nbsp\; 
 https://fadeu-old.urantiacos.cl/agenda/evento/1600-exposicion-lo-spazio-co
 mune-moderno-umberto-bonomo-andrea-ambroso
DTSTART:20180705T160000Z
DTEND:20180705T170000Z
LOCATION:Universita Luav di Venezia (Santa Croce\, 191\, 30135 Venezia VE\,
  Italia)
SUMMARY:Exposición 'Lo spazio comune moderno'/ Umberto Bonomo + Andrea Ambr
 oso
URL:https://fadeu-old.urantiacos.cl/agenda/evento/1600-exposicion-lo-spazio
 -comune-moderno-umberto-bonomo-andrea-ambroso
END:VEVENT
BEGIN:VEVENT
UID:20260420T191420UTC-8912JT9gEI@https://fadeu-old.urantiacos.cl/
DTSTAMP:20260420T191420Z
DESCRIPTION:El martes 3 de julio se realizar&aacute\; este encuentro interd
 isciplinario sobre perspectivas\, planes e iniciativas Latinoamericanas pa
 ra construir ciudades m&aacute\;s sustentables e integradas.\nEn la confer
 encia mundial Habitat III\, convocada por Naciones Unidas en Julio del 201
 6\, cerca de 150 pa&iacute\;ses se comprometieron con la Nueva Agenda Urba
 na (NAU)\, que define una hoja de ruta para los pr&oacute\;ximos 20 a&ntil
 de\;os en aras de lograr un desarrollo urbano sustentable y una mejor cali
 dad de vida para los ciudadanos. Con esta tarea entre manos\, la Red de De
 sarrollo Urbano Sustentable en Latinoam&eacute\;rica y el Caribe\, REDEUS_
 LAC\, con el apoyo del Centro de Desarrollo Urbano Sustentable CEDEUS\, y 
 la Vicerrector&iacute\;a de Investigaci&oacute\;n de la Pontificia Univers
 idad Cat&oacute\;lica de Chile (PUC)\, convoca a este seminario internacio
 nal donde se presentar&aacute\;n perspectivas\, planes e iniciativas nacio
 nales y latinoamericanas para abordar la NAU.\nEl seminario Desaf&iacute\;
 os de la Nueva Agenda Urbana: Compartiendo Experiencias\, se realizar&aacu
 te\; en el Auditorio Fernando Castillo Velasco del Campus Lo Contador de l
 a PUC\, el martes 3 de julio entre las 9.00 y las 17.00 horas.\nLa jornada
  se iniciar&aacute\; con una charla del director de la Divisi&oacute\;n de
  Pol&iacute\;ticas Habitacionales del Ministerio de Vivienda y Urbanismo\,
  Carlos Marambio. A continuaci&oacute\;n\, Amado Villarreal\, investigador
  del Departamento de Econom&iacute\;a del Tecnol&oacute\;gico de Monterrey
 \, M&eacute\;xico\, presentar&aacute\; temas de creatividad y sustentabili
 dad urbana relevantes para la NAU en el contexto actual.\nDespu&eacute\;s 
 de estas dos reflexiones\, habr&aacute\; tres intervenciones que buscan -d
 e distinta forma- generar espacios inclusivos en nuestras ciudades. Mar&ia
 cute\;a Augusta Hermida\, de Llactalab\, Universidad de Cuenca\, Ecuador\,
  presentar&aacute\; el caso de Cuenca y su relaci&oacute\;n el r&iacute\;o
 \; Rodrigo Mora\, investigador de CEDEUS y acad&eacute\;mico de la Univers
 idad Diego Portales\, presentar&aacute\; un estudio sobre bicicletas p&uac
 ute\;blicas en Santiago. Finalmente\, Arturo Torres\, del Colectivo Mu&eac
 ute\;vete\, presentar&aacute\; el proyecto Mapocho Pedaleable.\nEn la tard
 e\, se discutir&aacute\;n dos iniciativas de planificaci&oacute\;n en ejec
 uci&oacute\;n en Chile: Miguel Olivares\, de la Municipalidad de Santiago\
 , presentar&aacute\; el Plan Santiago Centro de esta Municipalidad y Andr&
 eacute\;s Letelier\, director del plan CREO Antofagasta\, presentar&aacute
 \; los lineamientos de esta iniciativa.\nEl seminario finalizar&aacute\; c
 on tres presentaciones que buscan generar espacios inclusivos urbanos. Cir
 ce Monteiro de INCITI\, Universidade Federal de Pernambuco\, Brasil\, pres
 entar&aacute\; el proyecto Parque Capibaribe en Recife\; Eduardo Carcavill
 a y Sebastian Salas de Agora 21\, presentar&aacute\;n la experiencia chile
 na con las Plazas de Bolsillo. Finalmente\, Rosanna Forray\, investigadora
  CEDEUS y acad&eacute\;mica PUC\, presentar&aacute\; un proyecto de constr
 ucci&oacute\;n sustentable de una avenida integrando diversas disciplinas 
 en su concepci&oacute\;n.\nLa asistencia es abierta y gratuita\, previa in
 scripci&oacute\;n en&nbsp\;este formulario.\nConsultas en&nbsp\;comunicaci
 ones@cedeus.cl\nLos primeros asistentes recibir&aacute\;n un ejemplar del 
 libro: &ldquo\;El camino de Latinoam&eacute\;rica y el Caribe hacia la sus
 tentabilidad urbana. Reflexi&oacute\;n y acci&oacute\;n en torno a la Nuev
 a Agenda Urbana de ONU Habitat III&rdquo\; producido por REDEUS_LAC.\nProg
 rama_\n&nbsp\;\n\n&nbsp\;\nNoticiasContacto:&nbsp\;redesarq@uc.cl&nbsp\;| 
 +56 2 2354 7747www.arquitectura.uc.cl https://fadeu-old.urantiacos.cl/agen
 da/evento/1595-seminario-internacional-desafios-de-la-nueva-agenda-urbana
DTSTART:20180703T130000Z
DTEND:20180703T210000Z
LOCATION:Auditorio Fernando Castillo Velasco. Edificio ARQ (El Comendador 1
 936\, Providencia\, Región Metropolitana\, Chile)
SUMMARY:Seminario Internacional: Desafíos de la Nueva Agenda Urbana
URL:https://fadeu-old.urantiacos.cl/agenda/evento/1595-seminario-internacio
 nal-desafios-de-la-nueva-agenda-urbana
END:VEVENT
END:VCALENDAR
