BEGIN:VCALENDAR
VERSION:2.0
PRODID:-//https://fadeu-old.urantiacos.cl///NONSGML kigkonsult.se iCalcreator 2.10.15//
METHOD:PUBLISH
BEGIN:VEVENT
UID:20260420T000148UTC-4673clt2gn@https://fadeu-old.urantiacos.cl/
DTSTAMP:20260420T000148Z
DESCRIPTION: https://fadeu-old.urantiacos.cl/agenda/evento/1899-workshop-de
 l-proyecto-al-articulo
DTSTART:20190708T130000Z
DTEND:20190708T180000Z
LOCATION:Salón Sergio Larraín\, Campus Lo Contador ()
SUMMARY:Workshop del Proyecto al Artículo 
URL:https://fadeu-old.urantiacos.cl/agenda/evento/1899-workshop-del-proyect
 o-al-articulo
END:VEVENT
BEGIN:VEVENT
UID:20260420T000148UTC-46752gUojE@https://fadeu-old.urantiacos.cl/
DTSTAMP:20260420T000148Z
DESCRIPTION:La Facultad de Arquitectura\, Dise&ntilde\;o y Estudios Urbanos
  realizar&aacute\; la cuarta versi&oacute\;n del proyecto Work in Progress
  2019 liderado por la acad&eacute\;mica Gloria Saravia y este a&ntilde\;o 
 cuenta con la participaci&oacute\;n de&nbsp\; la&nbsp\;Facultad de Arte de
  la UC y la Universidad del B&iacute\;o-B&iacute\;o.&nbsp\; Este proyecto 
 consta de una exposici&oacute\;n que convoca a artistas\, arquitectos y di
 se&ntilde\;adores\, invitados a reflexionar y trabajar un tema com&uacute\
 ;n\, desde la mirada creativa de las disciplinas proyectuales.&nbsp\;En es
 ta oportunidad el tema&nbsp\;se ha&nbsp\;titulado: 'INTERCULTURALIDAD'\,&n
 bsp\;donde&nbsp\;cada invitado abordar&aacute\; desde su disciplina y desd
 e su &oacute\;ptica de trabajo\, abarcando la interculturalidad como un to
 do\, ya sea a trav&eacute\;s de temas de migraci&oacute\;n\, modos distint
 os de habitar y otros.\nWIP contar&aacute\; con la exposici&oacute\;n de s
 iete invitados: el Decano FADEU UC\, Mario Ubilla\; la acad&eacute\;mica d
 e la escuela de Arquitectura y Directora de Comunicaciones FADEU UC\, Maca
 rena Cort&eacute\;s\; la acad&eacute\;mica de la escuela de Dise&ntilde\;o
  Elena Alfaro\; la artista medial Valentina Serrati de la escuela de Arte\
 ; el fot&oacute\;grafo Sebasti&aacute\;n Mej&iacute\;a\; la artista visual
  Carolina Maturana perteneciente al Doctorado en Arquitectura y Estudios U
 rbanos\, y el arquitecto Hern&aacute\;n Barr&iacute\;a de la UBB\nLa inaug
 uraci&oacute\;n se realizar&aacute\; el lunes 8 de julio\, a las 18:30 hor
 as\, en la Galer&iacute\;a de Arte del Centro de Extensi&oacute\;n UC (Av.
  Libertador Bernardo O&acute\;Higgins&nbsp\; 390).&nbsp\;La muestra perman
 ecer&aacute\; abierta hasta 27 de julio del 2019.\nInscripciones aqu&iacut
 e\;.\n&nbsp\;\n&nbsp\; https://fadeu-old.urantiacos.cl/agenda/evento/1890-
 exposicion-interdisciplinaria-fadeu-work-in-progress-interculturalidad
DTSTART:20190708T040000Z
LOCATION:Galería de Arte del Centro de Extensión UC\, Alameda 390 ()
SUMMARY:Exposición Interdisciplinaria FADEU Work in Progress 'INTERCULTURAL
 IDAD'
URL:https://fadeu-old.urantiacos.cl/agenda/evento/1890-exposicion-interdisc
 iplinaria-fadeu-work-in-progress-interculturalidad
END:VEVENT
END:VCALENDAR
