BEGIN:VCALENDAR
VERSION:2.0
PRODID:-//https://fadeu-old.urantiacos.cl///NONSGML kigkonsult.se iCalcreator 2.10.15//
METHOD:PUBLISH
BEGIN:VEVENT
UID:20260420T190908UTC-1287SzZBu4@https://fadeu-old.urantiacos.cl/
DTSTAMP:20260420T190908Z
DESCRIPTION:La charla 'Neoliberalismo con rostro humano' se dar&aacute\;&nb
 sp\;en el contexto de&nbsp\;AA Visiting School &lsquo\;Neoliberal Artifact
 s&rsquo\;&nbsp\;\nFERNANDO ATRIA\nAbogado de la Universidad de Chile.PhD\,
  Universidad de Edimburgo.\nPol&iacute\;tico y profesor en la Facultad de 
 Derecho\, Universidad de Chile y en la Universidad Adolfo Ib&aacute\;&ntil
 de\;ez\n&nbsp\;\nAbogado y profesor asociado del Departamento de Ciencias 
 del Derecho de la Universidad de Chile. Posee un doctorado en Derecho por 
 la Universidad de Edimburgo y obtuvo el premio europeo a la mejor tesis do
 ctoral en Teor&iacute\;a del Derecho el a&ntilde\;o 2000. Entre sus public
 aciones destacan: Veinte a&ntilde\;os Despu&eacute\;s: Neoliberalismo con 
 rostro humano (2013)\, La Constituci&oacute\;n tramposa (2013) y Derechos 
 sociales y educaci&oacute\;n: un nuevo paradigma de lo p&uacute\;blico (20
 14). Tambi&eacute\;n es coautor del libro El otro modelo: del orden neolib
 eral al r&eacute\;gimen de lo p&uacute\;blico (2014).\nFecha_\nViernes 13 
 de julio\, 13.00 hrs.\n&nbsp\;\nLugar_Auditorio FCV\, campus Lo Contador. 
 El Comendador 1936\, Providencia.\nOrganiza_Escuela de Arquitectura\, Pont
 ificia Universidad Cat&oacute\;lica de Chile\nInvitado_Architectural Assoc
 iation\, School of Architecture\n\nNoticiasContacto:&nbsp\;redesarq@uc.cl&
 nbsp\;| +56 2 2354 7747www.arquitectura.uc.cl https://fadeu-old.urantiacos
 .cl/agenda/evento/1603-neoliberalismo-con-rostro-humano-fernando-atria
DTSTART:20180713T170000Z
DTEND:20180713T180000Z
LOCATION:Auditorio Fernando Castillo Velasco. Edificio ARQ (El Comendador 1
 936\, Providencia\, Región Metropolitana\, Chile)
SUMMARY:Neoliberalismo con rostro humano / Fernando Atria
URL:https://fadeu-old.urantiacos.cl/agenda/evento/1603-neoliberalismo-con-r
 ostro-humano-fernando-atria
END:VEVENT
BEGIN:VEVENT
UID:20260420T190908UTC-1293cnPIFi@https://fadeu-old.urantiacos.cl/
DTSTAMP:20260420T190908Z
DESCRIPTION:\n\n\n\n\n\n\n\n\nEl pr&oacute\;ximo&nbsp\;12 de Julio a las 12
 :30 hrs.\, en el 2&ordm\; piso del Edificio de Laboratorios (ex Arte) se r
 ealizar&aacute\; la&nbsp\;Inauguraci&oacute\;n del Laboratorio de Sustenta
 bilidad FADEU.\nEn esta oportunidad se recibir&aacute\; formalmente de par
 te del profesor Claudio V&aacute\;squez un n&uacute\;mero importante de in
 strumentos de proyectos FONDECYT que quedar&aacute\;n en el Laboratorio. S
 e contar&aacute\; con la presencia del Decano de la Facultad de Arquitectu
 ra\, Dise&ntilde\;o y Estudios Urbanos\, Mario Ubilla\, el Director Interi
 no de la Escuela de Arquitectura\, Francisco Quintana y el Sub-Director de
  Investigaci&oacute\;n y Post-Grado\, Pedro Alonso.\n&nbsp\;\nFecha_\nJuev
 es&nbsp\;12 de Julio de 2018\, 12.30 hrs.\n&nbsp\;\nLugar_\n2&ordm\; piso 
 del Edificio de Laboratorios (ex Arte)\, campus Lo Contador. El Comendador
  1936\, Providencia.\n*Evento liberado.\n&nbsp\;\n\nNoticiasContacto:&nbsp
 \;redesarq@uc.cl&nbsp\;| +56 2 2354 7747www.arquitectura.uc.cl\n\n\n\n\n\n
 \n\n\n https://fadeu-old.urantiacos.cl/agenda/evento/1602-inauguracion-lab
 oratorio-de-sustentabilidad-fadeu
DTSTART:20180712T163000Z
DTEND:20180712T173000Z
LOCATION:2º piso del Edificio de Laboratorios (ex Arte) (El Comendador 1936
 \, Providencia\, Región Metropolitana\, Chile)
SUMMARY: Inauguración Laboratorio de Sustentabilidad FADEU
URL:https://fadeu-old.urantiacos.cl/agenda/evento/1602-inauguracion-laborat
 orio-de-sustentabilidad-fadeu
END:VEVENT
BEGIN:VEVENT
UID:20260420T190908UTC-12973Fs4XS@https://fadeu-old.urantiacos.cl/
DTSTAMP:20260420T190908Z
DESCRIPTION:El 'Workshop Construye Solar 2019' se desarrollar&aacute\; entr
 e el 12 y 27 de Julio 2018.&nbsp\;Dirigido a estudiantes de Pregrado\, con
  pre requisito del curso AQC0200\, y postgrado de la Escuela de Arquitectu
 ra.&nbsp\;Ser&aacute\; un curso interdisciplinario como primera aproximaci
 &oacute\;n a la propuesta proyectual.&nbsp\;Convalidable por 5 cr&eacute\;
 ditos OPR.\nEl workshop busca desarrollar el proyecto que concursar&aacute
 \; en la pr&oacute\;xima muestra de vivienda sustentable\, posiblemente en
 focado a la Edificaci&oacute\;n en Madera.\nEl Concurso Construye Solar se
  realiza cada dos a&ntilde\;os y participan universidades de todo el pa&ia
 cute\;s. Para m&aacute\;s informaci&oacute\;n sobre el mismo visitar este&
 nbsp\;link.\nConsultas a&nbsp\;cschmitt@uc.cl\nFecha Workshop_\n12 - 27 de
  julio de 2018.\n&nbsp\;\n&nbsp\;\nOrganizan_\nEscuela de Arquitectura UC
 \nMASE UC\nEscuela de Construcci&oacute\;n Civil UC\n&nbsp\;\n\nNoticiasCo
 ntacto:&nbsp\;redesarq@uc.cl&nbsp\;| +56 2 2354 7747www.arquitectura.uc.cl
  https://fadeu-old.urantiacos.cl/agenda/evento/1604-workshop-construye-sol
 ar-2019
DTSTART:20180712T040000Z
LOCATION:Escuela de Arquitectura\, Campus Lo Contador (El Comendador 1916\,
  Providencia\, Providencia\, Región Metropolitana\, Chile)
SUMMARY:Workshop Construye Solar 2019
URL:https://fadeu-old.urantiacos.cl/agenda/evento/1604-workshop-construye-s
 olar-2019
END:VEVENT
BEGIN:VEVENT
UID:20260420T190908UTC-1302x7KkcX@https://fadeu-old.urantiacos.cl/
DTSTAMP:20260420T190908Z
DESCRIPTION:NEOLIBERAL ARTIFACTS\nArchitectural Association - Escuela de Ar
 quitectura UC\nVisiting School 2018\n11 al 20 de julio\n&nbsp\;\n&nbsp\;\n
 Workshop organizado por la&nbsp\;Architectural Association School of Archi
 tecture\, en colaboraci&oacute\;n con la&nbsp\;Escuela de Arquitectura de 
 la Universidad Cat&oacute\;lica (PUC)\, con charlas a cargo de&nbsp\;Ferna
 ndo Atria\,&nbsp\;Charles Rice\, Liliana de Simone y Felipe de Ferrari.\nD
 irectores del programa:&nbsp\;Pedro Alonso y &Aacute\;lvaro ArancibiaProfe
 sores:&nbsp\;Charles Rice (UTS)\, Francisco QuintanaProfesor invitado:&nbs
 p\;Felipe de Ferrari\nEn un contexto determinado por pol&iacute\;ticas neo
 liberales\, el dise&ntilde\;o urbano en Santiago de Chile se ha ido limita
 ndo de forma progresiva a espacios privados e interiorizados. En particula
 r\, a trav&eacute\;s del modelo del shopping mall\, el cual\, en vez de se
 r una soluci&oacute\;n suburbana\, se ha transformado en un medio para el 
 desarrollo de &aacute\;reas centrales y con equipamiento previo. Los shopp
 ings malls urbanos son artefactos de consumo a gran escala que no solament
 e acumulan una cantidad considerable de infraestructuras\, programas y ser
 vicios que dan respuesta a las demandas del d&iacute\;a a d&iacute\;a\, si
 no que son una posibilidad 'real' de crear espacios urbanos con una riquez
 a espacial y simb&oacute\;lica que no se pueden encontrar en otros lugares
  de la ciudad. Dicha complejidad es sin embargo posible a expensas del aba
 ndono de la experiencia urbana. La vivienda\, entendida como el centro de 
 la domesticidad\, ha perdido su relaci&oacute\;n fundamental con la ciudad
  y hoy no es m&aacute\;s que un componente aislado para el dise&ntilde\;o 
 urbano\, siendo el resultado de la proliferaci&oacute\;n indiferenciada de
  unidades habitacionales\, edificios y manzanas que no responden a m&aacut
 e\;s funciones que la del alojamiento.\nEl AA Visiting School en Santiago 
 2018 estudia las condiciones para el dise&ntilde\;o arquitect&oacute\;nico
  y urbano en dicho contexto neoliberal\, mediante proyectos de dise&ntilde
 \;o que especulan sobre nuevos artefactos desde la descompresi&oacute\;n e
 spacial y funcional del shopping mall\, entendi&eacute\;ndose como una ser
 ie de intervenciones y operaciones estrat&eacute\;gicas dentro de la ciuda
 d\, las cuales\, en &uacute\;ltima instancia\, pretenden repensar la relac
 i&oacute\;n entre vivienda\, infraestructura y dise&ntilde\;o urbano.\nhtt
 ps://www.aaneoliberalartifacts.com/\n\n\n&nbsp\;\n\nCharla&nbsp\;'Neoliber
 alismo con rostro humano' / Fernando Atria / JULIO 13\n\nCharla 'Neolibera
 lismo con rostro humano' / Fernando Atria / JULIO 13\n&nbsp\;\n\n&nbsp\;\n
 \nCharla: The Invention of Domesticity: Plan\, Interior\, Media / Charles 
 Rice /&nbsp\;JULIO 19\n\nCharla: The Invention of Domesticity: Plan\, Inte
 rior\, Media / Charles Rice /&nbsp\;JULIO 19\n\nNoticiasContacto:&nbsp\;re
 desarq@uc.cl&nbsp\;| +56 2 2354 7747www.arquitectura.uc.cl https://fadeu-o
 ld.urantiacos.cl/agenda/evento/1617-workshop-neoliberal-artifacts
DTSTART:20180711T040000Z
LOCATION:Escuela de Arquitectura\, Campus Lo Contador (El Comendador 1916\,
  Providencia\, Providencia\, Región Metropolitana\, Chile)
SUMMARY:Workshop 'NEOLIBERAL ARTIFACTS
URL:https://fadeu-old.urantiacos.cl/agenda/evento/1617-workshop-neoliberal-
 artifacts
END:VEVENT
BEGIN:VEVENT
UID:20260420T190908UTC-1311jLnKkv@https://fadeu-old.urantiacos.cl/
DTSTAMP:20260420T190908Z
DESCRIPTION:\nLa exposici&oacute\;n&nbsp\;Intervalo: Taller FADEU&nbsp\;tie
 ne&nbsp\;por objetivo mostrar la actividad y producci&oacute\;n de la Facu
 ltad de Arquitectura\, Dise&ntilde\;o y Estudios Urbanos UC.\nLa exposici&
 oacute\;n muestra el estado actual de la Facultad mediante actividades com
 unes realizadas en Lo Contador como el cuerpo de la Facultad. El montaje h
 a sido coordinado por la Escuela de Arquitectura UC junto al colectivo int
 ernacional de arquitectos&nbsp\;Ephemeral Research.\nLa exhibici&oacute\;n
  est&aacute\; definida en tres partes\;&nbsp\;(1) Redes\, (2) Proyecto y (
 3) el Taller FADEU.\nRedes.&nbsp\;En la primera sala se despliega un compl
 eto panorama de actividades desarrolladas por la Facultad desde Julio de 2
 017\, de modo simult&aacute\;neo y cronol&oacute\;gico\, evidenciando la i
 mportancia de las redes sociales y medios digitales como espacio de difusi
 &oacute\;n\, comunicaci&oacute\;n\, participaci&oacute\;n y registro. Esto
 s medios se han vuelto de gran importancia\; manteniendo a la comunidad FA
 DEU m&aacute\;s conectada\, informada e involucrada\; permitiendo un regis
 tro acumulativo del quehacer diario. El programa de actividades (Talleres\
 , Seminarios\, Workshos\, Publicaciones\, Convenios\, etc.) es uno de los 
 atributos importantes en la Facultad: con una producci&oacute\;n sin prece
 dentes en Chile\, genera conexiones nacional e internacionalmente mediante
  el bolet&iacute\;n\, mail\, prensa\, Instagram\, Twitter\, Facebook\, vid
 eos v&iacute\;a streaming\, etc. La muestra expone m&aacute\;s de 500 docu
 mentos que dan a entender la envergadura de esta nueva cara de las Unidade
 s Acad&eacute\;micas\, por la cual se definen y a su vez se abren a Chile 
 y el resto del mundo.\nProyecto.&nbsp\;El recorrido perimetral al interior
  de la sala principal\, muestra 15 proyectos relevantes de la producci&oac
 ute\;n FADEU reciente\, incluyendo tanto una reflexi&oacute\;n disciplinar
  como la relaci&oacute\;n que ha establecido la Facultad con el mundo p&ua
 cute\;blico: el esp&iacute\;ritu que los envuelve y c&oacute\;mo estos dan
  cuenta de un momento que vale la pena observar con detenci&oacute\;n. Maq
 uetas expuestas sobre taburetes complementan estas l&aacute\;minas.\nTalle
 r FADEU.&nbsp\;Una estructura m&iacute\;nima de policarbonato ondulado aut
 o-soportante de 4\,3 mt de alto y 48 m2 que define un nuevo interior en la
  sala principal. Este nuevo espacio presenta material audiovisual destacab
 le del &uacute\;ltimo a&ntilde\;o y es programado con actividades espec&ia
 cute\;ficas (conversatorios\, lanzamientos\, entrevistas\, visitas guiadas
 ) a lo largo de la muestra. El calendario de actividades para este espacio
  es una invitaci&oacute\;n abierta a recorrer eventos comunes del diario v
 ivir de nuestro campus\, delimitados por un material trasl&uacute\;cido qu
 e enmarca esta circunstancia y empuja a observar con nuevos ojos. Esto gen
 era una doble lectura: mirar desde el interior hacia afuera y ser visto de
 sde un exterior que deja entrever -pero que tambi&eacute\;n deforma y exac
 erba. &iquest\;C&oacute\;mo nos vemos desde afuera? &iquest\;C&oacute\;mo 
 nos definimos como Facultad? &iquest\;Qu&eacute\; nos limita?\, y m&aacute
 \;s importante a&uacute\;n\; &iquest\;Qu&eacute\; nos mueve?\nLugar_\nGale
 r&iacute\;a de Arte\, Centro de Extensi&oacute\;n UC.&nbsp\;Alameda 390.\n
 Fecha Inauguraci&oacute\;n_\nMartes 10 de Julio de 2018\,&nbsp\;12.30 hrs.
 \nFecha exposici&oacute\;n_\nDesde el 10 al 28 de Julio de 2018\,&nbsp\;10
  a 20 horas.\n\n&nbsp\;\n&nbsp\; https://fadeu-old.urantiacos.cl/agenda/ev
 ento/1597-intervalo-taller-fadeu
DTSTART:20180710T140000Z
DTEND:20180728T140000Z
LOCATION:Galería de Arte del Centro de Extensión UC\, Alameda 390 ()
SUMMARY:Intervalo: Taller FADEU
URL:https://fadeu-old.urantiacos.cl/agenda/evento/1597-intervalo-taller-fad
 eu
END:VEVENT
BEGIN:VEVENT
UID:20260420T190908UTC-1321LPV8ZK@https://fadeu-old.urantiacos.cl/
DTSTAMP:20260420T190908Z
DESCRIPTION:\nCiudad Gentrificada | Ciudad Nodo | Ciudad Vulnerable | Ciuda
 d P&uacute\;blica:&nbsp\;Cuatro miradas sobre la ciudad contempor&aacute\;
 nea&rdquo\;\n&iquest\;C&oacute\;mo se puede construir un puente argumentat
 ivo entre la realidad y la reflexi&oacute\;n te&oacute\;rica?\nLa exposici
 &oacute\;n es resultado del trabajo de los alumnos del curso Ciudad y Pais
 aje IV\, donde se reflexiona sobre cuatro grandes fen&oacute\;menos la ciu
 dad contempor&aacute\;nea: Gentrificaci&oacute\;n\, Ciudad Nodo\, Ciudad V
 ulnerable y Espacio P&uacute\;blico.\nCada uno de los fen&oacute\;menos fu
 e presentado a los estudiantes a trav&eacute\;s de la teor&iacute\;a de di
 versos autores y observado personalmente mediante cuatro salidas a terreno
 . Luego fueron los mismos estudiantes quienes abordaron cr&iacute\;ticamen
 te cada fen&oacute\;meno por medio de cinco metodolog&iacute\;as propuesta
 s: la observaci&oacute\;n\, el an&aacute\;lisis cr&iacute\;tico\, el debat
 e\, la s&iacute\;ntesis y finalmente un ensayo.\nLa muestra es la compilac
 i&oacute\;n de todo este trabajo. Cada estudiante escogi&oacute\; un tema 
 sobre el cual profundiz&oacute\; con un ensayo y lo represent&oacute\; con
  la confecci&oacute\;n de una imagen.\nFecha_Lunes 9 de julio de 2018\, 10
 .30 a 17.00 hrs.\nLugar_Sala 32\, Segundo piso de la Casona. El Comendador
  1916\, Providencia.\nInvitan_Escuela de Arquitectura UC\,&nbsp\;Pontifici
 a Universidad Cat&oacute\;lica de Chile\nOrganizan_Equipo Ciudad y Paisaje
  IV\n*Evento liberado. https://fadeu-old.urantiacos.cl/agenda/evento/1601-
 exposicion-curso-ciudad-y-paisaje-iv
DTSTART:20180709T143000Z
DTEND:20180709T153000Z
LOCATION:Sala 32 Casona Campus Lo Contador (El Comendador\, Providencia\, P
 rovidencia\, Región Metropolitana\, Chile)
SUMMARY:Exposición curso Ciudad y Paisaje IV
URL:https://fadeu-old.urantiacos.cl/agenda/evento/1601-exposicion-curso-ciu
 dad-y-paisaje-iv
END:VEVENT
END:VCALENDAR
