BEGIN:VCALENDAR
VERSION:2.0
PRODID:-//https://fadeu-old.urantiacos.cl///NONSGML kigkonsult.se iCalcreator 2.10.15//
METHOD:PUBLISH
BEGIN:VEVENT
UID:20260420T191030UTC-1966alcUz2@https://fadeu-old.urantiacos.cl/
DTSTAMP:20260420T191030Z
DESCRIPTION:The Invention of Domesticity: Plan\, Interior\, Media\nJueves 1
 9 de Julio\, Auditorio FCV\, 18.30hOrganiza: EARQ UC\n&nbsp\;\nEn esta con
 ferencia\, Charles Rice discutir&aacute\; el surgimiento en el siglo XIX d
 e las condiciones modernas de la domesticidad y del interior dom&eacute\;s
 tico. &Eacute\;l examinar&aacute\; la forma en que el plan dom&eacute\;sti
 co se convirti&oacute\; en un aparato para gobernar a la familia moderna y
  c&oacute\;mo el interior se constituy&oacute\; como un mundo de im&aacute
 \;genes. Luego reflexionar&aacute\; sobre la forma en que las nuevas 'mora
 lidades' de la domesticidad han surgido junto con la ubicuidad de la domes
 ticidad dentro de los medios\, y los medios dentro de la domesticidad.\nVi
 sita en el contexto de AA Visiting School &lsquo\;Neoliberal Artifacts&rsq
 uo\;&nbsp\;https://www.aaneoliberalartifacts.com/\nCharles Rice\nFormado e
 n Australia y el Reino Unido\, Charles Rice es profesor de arquitectura en
  the University of Technology Sydney. Anteriormente\, ense&ntilde\;&oacute
 \; en the University of New South Wales\, en the Architectural Association
  y en Kingston University London\, donde fue director de la Escuela de Art
 e e Historia del Dise&ntilde\;o.\nSu investigaci&oacute\;n considera cuest
 iones del interior a trav&eacute\;s del arte\, la arquitectura y el dise&n
 tilde\;o. Su libro The Emergence of the Interior: Architecture\, Modernity
 \, Domesticity (Routledge 2007) estableci&oacute\; el interior dom&eacute\
 ;stico como una categor&iacute\;a del siglo XIX y traz&oacute\; su impacto
  en desarrollos clave en el siglo XX. Su nuevo libro\, Interior Urbanism: 
 Architecture\, John Portman y Downtown America (Bloomsbury 2016)\, utiliza
  los vastos interiores urbanos de Portman como una lente a trav&eacute\;s 
 de la cual evaluar el cambiante paisaje de desarrollo de la ciudad de la p
 osguerra.\nCharles es editor en jefe de The Journal of Architecture (Routl
 edge &amp\; RIBA). Ha coeditado varias colecciones de ensayos\, y sus prop
 ios ensayos han aparecido en numerosas revistas y antolog&iacute\;as. Ha s
 ido invitado a dar conferencias en universidades e instituciones culturale
 s a nivel internacional\, recientemente: Parsons\, The New School for Desi
 gn (Nueva York)\, Geneva School of Art and Design\, The Berlage Center for
  Advanced Studies in Architecture and Urban Design (Delft)\, The Universit
 y of Manitoba (Canada) y The Architectural Association (Londres).\nHa sido
  examinador externo de licenciaturas\, posgrados e investigaciones en univ
 ersidades de Australia\, el Reino Unido\, Alemania\, los Pa&iacute\;ses Ba
 jos y Sud&aacute\;frica. Es miembro del Peer Review College of the Arts an
 d Humanities Research Council (Reino Unido).\nFecha_\nJueves 19 de julio d
 e 2018\, 18.30 hrs.\nLugar_\nAuditorio FCV\, campus Lo Contador. El Comend
 ador 1936\, Providencia.\nLink_\nhttps://www.uts.edu.au/staff/charles.rice
 \n\nImagen: &aring\;yr\, &lsquo\;AIRBNB Pavilion&rsquo\;\, Venice\, 14-16 
 Junio 2014. Vista de la instalaci&oacute\;n.\n&nbsp\;\nNoticiasContacto:&n
 bsp\;redesarq@uc.cl&nbsp\;| +56 2 2354 7747www.arquitectura.uc.cl https://
 fadeu-old.urantiacos.cl/agenda/evento/1599-charla-the-invention-of-domesti
 city-plan-interior-media
DTSTART:20180719T223000Z
DTEND:20180719T233000Z
LOCATION:Auditorio Fernando Castillo Velasco. Edificio ARQ (El Comendador 1
 936\, Providencia\, Región Metropolitana\, Chile)
SUMMARY:Charla: The Invention of Domesticity: Plan\, Interior\, Media
URL:https://fadeu-old.urantiacos.cl/agenda/evento/1599-charla-the-invention
 -of-domesticity-plan-interior-media
END:VEVENT
BEGIN:VEVENT
UID:20260420T191030UTC-1976UIomhU@https://fadeu-old.urantiacos.cl/
DTSTAMP:20260420T191030Z
DESCRIPTION:Elvira P&eacute\;rez\, Jefa del programa de Mag&iacute\;ster en
  Patrimonio Cultural de la Pontificia Universidad Cat&oacute\;lica de Chil
 e\, invita al Conversatorio&nbsp\;'Proyecto del Museo Nacional de Bellas A
 rtes de Cuba. Las intervenciones arquitect&oacute\;nico-museogr&aacute\;fi
 cas que se realizaron en el Ex Palacio de Bellas Artes\, en el Ex Centro A
 sturiano y en el Ex Cuartel de Milicias'&nbsp\;con el arquitecto y profeso
 r&nbsp\;Jos&egrave\; Linares.\nJos&eacute\; Linares&nbsp\;es Doctor en Cie
 ncias Sobre Arte Secretario Ejecutivo del Comit&eacute\; ICOM (Consejo Int
 ernacional de Museos) La Habana - Cuba\, Arquitecto Acad&eacute\;mico - Un
 iversidad Carolina\, Praga - Rep. Checa. Es profesor de la Universidad del
  Patrimonio Colegio Universitario San Ger&oacute\;nimo de La Habana. Junto
  con Eusebio Leal ha una de las figuras emblem&aacute\;ticas del desarroll
 o patrimonial del casco hist&oacute\;rico de La Habana Vieja\, cuenta con 
 m&uacute\;ltiples publicaciones sobre el tema y fue el arquitecto responsa
 ble de la nueva intervenci&oacute\;n arquitect&oacute\;nico-museogr&aacute
 \;fica del Museo de Arte Cubano (Ex Museo de Bellas Artes) y en el Museo d
 e Arte Universal (Ex Centro Asturiano) y en el Memorial a Jos&eacute\; Mar
 t&iacute\;\, el Museo Napol&eacute\;onico entre otras obras.\nEntrada libe
 rada\, cupos limitados. Inscripci&oacute\;n al correo&nbsp\;magisterpatrim
 onio@uc.cl&nbsp\;.\n https://fadeu-old.urantiacos.cl/agenda/evento/1608-co
 nversatorio-proyecto-del-museo-nacional-de-bellas-artes-de-cuba-las-interv
 enciones-arquitectonico-museograficas-que-se-realizaron-en-el-ex-palacio-d
 e-bellas-artes-en-el-ex-centro-asturiano-y-en-el-ex-cuartel-de-milicias
DTSTART:20180719T173000Z
DTEND:20180719T183000Z
LOCATION:Salón Sergio Larraín\, Campus Lo Contador ()
SUMMARY:Conversatorio 'Proyecto del Museo Nacional de Bellas Artes de Cuba.
  Las intervenciones arquitectónico-museográficas que se realizaron en el E
 x Palacio de Bellas Artes\, en el Ex Centro Asturiano y en el Ex Cuartel d
 e Milicias'
URL:https://fadeu-old.urantiacos.cl/agenda/evento/1608-conversatorio-proyec
 to-del-museo-nacional-de-bellas-artes-de-cuba-las-intervenciones-arquitect
 onico-museograficas-que-se-realizaron-en-el-ex-palacio-de-bellas-artes-en-
 el-ex-centro-asturiano-y-en-el-ex-cuartel-de-milicias
END:VEVENT
BEGIN:VEVENT
UID:20260420T191030UTC-1983txtegf@https://fadeu-old.urantiacos.cl/
DTSTAMP:20260420T191030Z
DESCRIPTION:FACHADAS​ ​VIDRIADAS\nConferencia_\nPROTECCI&Oacute\;N SOLAR Y 
 CONFORT INTERIOR: Par&aacute\;metros esenciales para un desempe&ntilde\;o 
 &oacute\;ptimo de fachadas\n\n\nConferencista_\nBertrandDeroisyDivision In
 door Climate\, Installations and Energy Performance Lighting Laboratory. B
 elgian Building Research Institute.\n\n\nBertrand Deroisy trabaja en el De
 partamento de Ac&uacute\;stica\, Energ&iacute\;a y Clima del Belgian Build
 ing Research Institute. Bertrand investiga Iluminaci&oacute\;n para difere
 ntes tipolog&iacute\;as de edificios. Sus trabajos incluyen soluciones de 
 iluminaci&oacute\;n artificial y de luz natural. Tiene un enfoque importan
 te en m&eacute\;todos precisos de evaluaci&oacute\;n de la luz de d&iacute
 \;a. La determinaci&oacute\;n del rendimiento de las envolventes de edific
 ios avanzados\, incluidos los ​paneles​ ​solares\, a trav&eacute\;s de sim
 ulaciones y mediciones ​en ​terreno o laboratorio. Bertrand es miembro de 
 varios comit&eacute\;s t&eacute\;cnicos europeos para la estandarizaci&oac
 ute\;n\, incluidos CEN TC169 / WG11 Daylight in Buildings y CEN TC33 / WG3
  Blinds and Shutters.\n\n\nPresentaci&oacute\;n_\nOFICITY: UNA HERRAMIENTA
  EFICAZ PARA EL DISE&Ntilde\;O DE FACHADAS EFICIENTES. Un aporte para las 
 etapas tempranas del dise&ntilde\;o de edificios.\n\n\nPresentador_\nWaldo
  Bustamante G.\nProfesor Titular EARQ UC. Investigador Centro de Desarroll
 o Urbano Sustentable CEDEUS.\n\n\nFecha_Mi&eacute\;rcoles 18 de julio de 2
 018\, 18.30 hrs.\n\n\nLugar_Sal&oacute\;n Sergio Larra&iacute\;n Garc&iacu
 te\;a Moreno\, campus Lo Contador. El Comendador 1936\, Providencia.\n\n\n
 Organizadores_\nProyectos FONDECYT 1141240 yFONDECYT 1181686\nCentro de De
 sarrollo Urbano Sustentable (CEDEUS)\nCONICYT\, Ministerio de Educaci&oacu
 te\;n\, Gobierno de Chile\nEscuela de Arquitectura\, Pontificia Universida
 d Cat&oacute\;lica de Chile\n\n\n*Entrada liberada\, sin previa inscripci&
 oacute\;n.\n\n\n​\nNoticiasContacto:redesarq@uc.cl| +56 2 2354 7747www.arq
 uitectura.uc.cl https://fadeu-old.urantiacos.cl/agenda/evento/1610-protecc
 ion-solar-y-confort-interior
DTSTART:20180718T223000Z
DTEND:20180718T233000Z
LOCATION:Salón Sergio Larraín\, Campus Lo Contador ()
SUMMARY:Protección Solar y Confort Interior
URL:https://fadeu-old.urantiacos.cl/agenda/evento/1610-proteccion-solar-y-c
 onfort-interior
END:VEVENT
BEGIN:VEVENT
UID:20260420T191030UTC-1989WZrZfJ@https://fadeu-old.urantiacos.cl/
DTSTAMP:20260420T191030Z
DESCRIPTION:PARTICIPAN\nFacultad de Arquitectura\, Dise&ntilde\;o y Estudio
 s Urbanos P.U.C.\nMagister en Patrimonio Cultural\nMagister en Arquitectur
 a\nDiplomado en Iluminaci&oacute\;n\nHochschule Wismar\, Architectural Lig
 hting Design\nFundaci&oacute\;n Sewell\n&nbsp\;\n&nbsp\;\nOBJETIVOS DEL WO
 RKSHOP\nOBJETIVOS INSTITUCIONALES\nLa visita del Profesor Jan Blieske\, Di
 rector responsable del Magister de Iluminaci&oacute\;n Arquitect&oacute\;n
 ica\, de la HOCHSCHULE WISMAR\, permitir&aacute\; fortalecer el acuerdo de
  colaboraci&oacute\;n entre el Master de Iluminaci&oacute\;n arquitect&oac
 ute\;nica de HS WISMAR y el Magister MADA iluminaci&oacute\;n en proceso d
 e la primera fase\, Dimensi&oacute\;n 1\nFundamentaci&oacute\;n de la Crea
 ci&oacute\;n del Programa Acad&eacute\;mico\, asesorado por la DADo\, de l
 a Vicerrector&iacute\;a Acad&eacute\;mica de la PUC. Este convenio de cola
 boraci&oacute\;n entre ambas Universidades\, permitir&aacute\; contar con 
 profesores invitados de la HS Wismar\, e intercambio de estudiantes y/o pr
 ofesores en el marco de ambos programas de Magister en Dise&ntilde\;o de I
 luminaci&oacute\;n Arquitect&oacute\;nica.\n&nbsp\;\nOBJETIVOS ACAD&Eacute
 \;MICOS\nDefinir los conceptos proyectuales presentes en la iluminaci&oacu
 te\;n de Patrimonio.\nPlantear los aspectos te&oacute\;ricos y pr&aacute\;
 cticos en la iluminaci&oacute\;n de Patrimonio.\nPresentar las metodolog&i
 acute\;as de Dise&ntilde\;o de Iluminaci&oacute\;n arquitect&oacute\;nica 
 patrimonial.\nPoner en valor el trabajo interdisciplinario para formular l
 as preguntas pertinentes a Patrimonio e Iluminaci&oacute\;n\n&nbsp\;\nOBJE
 TIVOS T&Eacute\;CNICOS\nDesarrollar los insumos para formular un &ldquo\;M
 anual de Buenas Practicas de iluminaci&oacute\;n de Arquitectura Patrimoni
 al&rdquo\;.\n&nbsp\;\nPARTICIPAN\nEn la actividad de workshop que se prese
 nta participan:\n\ncurso internacional de M&aacute\;ster en Dise&ntilde\;o
  de Iluminaci&oacute\;n Arquitect&oacute\;nica de la Facultad de Dise&ntil
 de\;o de la Hochschule Wismar\, Universidad de Ciencias Aplicadas\, Tecnol
 og&iacute\;a\, Negocios y Dise&ntilde\;o.\ncurso &ldquo\;Patrimonio+Uso+T&
 eacute\;cnica&rdquo\;\, curso integrado del Magister de Arquitectura (MARQ
 ) y del Magister en Patrimonio Cultural (MAPC)\nDiplomado de Iluminaci&oac
 ute\;n Arquitect&oacute\;nica\, de la Escuela de Dise&ntilde\;o\, de la FA
 DEU\n\n&nbsp\;\nLos profesores Invitados son:\n\nJan Blieske_lighting desi
 gner Alemania\nPascal Chautard_lighting designer Chile\nFelipe Ravinet_arq
 uitecto\, director de la Fundaci&oacute\;n Sewell\nMauricio S&aacute\;nche
 z_arquitecto\, asesor t&eacute\;cnico en Patrimonio del Ministerio de Obra
 s P&uacute\;blicas.\n\n&nbsp\;\nInvitado internacional: JAN BLIESKE\n_arqu
 itecto\, dise&ntilde\;ador de iluminaci&oacute\;n y dise&ntilde\;ador de p
 roductos. Es profesor en el curso internacional de M&aacute\;ster en Dise&
 ntilde\;o de Iluminaci&oacute\;n Arquitect&oacute\;nica en la facultad de 
 dise&ntilde\;o de Hochschule Wismar - Universidad de Ciencias Aplicadas\, 
 Tecnolog&iacute\;a\, Negocios y Dise&ntilde\;o.\n&nbsp\;\nGraduado en 1998
  de la Universidad de Artes de Berl&iacute\;n\, comenz&oacute\; su carrera
  profesional como arquitecto dedicado a la preservaci&oacute\;n de monumen
 tos hist&oacute\;ricos.\n&nbsp\;\nJan Blieske comenz&oacute\; su carrera c
 omo dise&ntilde\;ador de iluminaci&oacute\;n como gerente de proyectos y d
 irector de la oficina de dise&ntilde\;o de iluminaci&oacute\;n &raquo\;stu
 dio dinnebier&laquo\; en Berl&iacute\;n. Junto con Jan Dinnebier\, fund&oa
 cute\; el estudio de dise&ntilde\;o de iluminaci&oacute\;n &raquo\;Dinnebi
 er + Blieske&laquo\; en 2018\, que desde 2016 est&aacute\; dedicado exclus
 ivamente al desarrollo de productos para la industria de la iluminaci&oacu
 te\;n. &raquo\;Dinnebier + Blieske&laquo\; ha desarrollado varios producto
 s innovadores\, como el adaptador &laquo\;en pista&raquo\; y la serie prem
 iada &laquo\;FlatBoxLED&raquo\;.\n&nbsp\;\nEn junio de 2016 fund&oacute\; 
 la pr&aacute\;ctica &raquo\;blieske architects lighting designers&laquo\;.
  El estudio entiende el dise&ntilde\;o de iluminaci&oacute\;n como parte i
 ntegral del proceso de dise&ntilde\;o arquitect&oacute\;nico. Junto con su
  equipo\, explora el potencial de una percepci&oacute\;n &oacute\;ptima de
  la arquitectura mediante la aplicaci&oacute\;n de la luz como medio arqui
 tect&oacute\;nico.\n&nbsp\;\nTEM&Aacute\;TICAS\n&nbsp\;\nLas Principales t
 em&aacute\;ticas a tratar son:\n\nDesarrollo de Conceptos proyectuales (tr
 abajo de grupos estudiantes y profesores).\nDefinici&oacute\;n de aspectos
  te&oacute\;ricos y pr&aacute\;cticos en la iluminaci&oacute\;n de Patrimo
 nio.\nMetodolog&iacute\;as de Dise&ntilde\;o de Iluminaci&oacute\;n arquit
 ect&oacute\;nica patrimonial\nEl valor del trabajo interdisciplinario para
  formular las preguntas pertinentes a Patrimonio e Iluminaci&oacute\;n\n\n
 &nbsp\;\nEstos temas ser&aacute\;n planteadas y desarrollados a trav&eacut
 e\;s de:\n\nCharlas de los invitados en relaci&oacute\;n a las tem&aacute\
 ;ticas de Patrimonio e Iluminaci&oacute\;n.\nTrabajo in situ (lugar patrim
 onial) con equipos de Iluminaci&oacute\;n reales y testeos.\n\n&nbsp\;\nEl
  trabajo con los estudiantes busca poner en valor el trabajo colaborativo 
 e interdisciplinario. Por tanto el trabajo ser&aacute\; desarrollado en gr
 upos\, en la definici&oacute\;n de insumos para formular un &ldquo\;Manual
  de Buenas Practicas de iluminaci&oacute\;n de Arquitectura Patrimonial&rd
 quo\;.\n&nbsp\;\n&nbsp\;\nCALENDARIO DE ACTIVIDADES\n&nbsp\;\n&nbsp\;El wo
 rkshop se desarrollar&aacute\; del 17 al 20 de julio y participar&aacute\;
 n integradamente estudiantes del curso internacional de M&aacute\;ster en 
 Dise&ntilde\;o de Iluminaci&oacute\;n Arquitect&oacute\;nica de la Faculta
 d de Dise&ntilde\;o de la Hochschule Wismar\, Universidad de Ciencias Apli
 cadas\, Tecnolog&iacute\;a\, Negocios y Dise&ntilde\;o\; del curso &ldquo\
 ;Patrimonio+Uso+T&eacute\;cnica&rdquo\;\, curso integrado del Magister de 
 Arquitectura (MARQ) y del Magister en Patrimonio Cultural (MAPC) y del Dip
 lomado Iluminaci&oacute\;n Arquitect&oacute\;nica\n&nbsp\;\nEste workshop 
 est&aacute\; en continuidad con el trabajo que se ha venido desarrollando 
 entre marzo y julio de este a&ntilde\;o entre los estudiantes de Wismar y 
 de la PUC. De hecho\, contaremos con la presencia de un profesor y cinco e
 studiantes de Wismar con los cuales hemos compartido el caso de estudio: e
 l campamento minero de Sewell\, emplazado en la cordillera de los Andes y 
 que actualmente pertenece a la comuna de Machal&iacute\; (a 150 km al sur 
 de Santiago y a 64 km de la ciudad de Rancagua). El conjunto fue declarado
  Patrimonio Mundial por la Unesco en 2006.\n\n&nbsp\;\n https://fadeu-old.
 urantiacos.cl/agenda/evento/1611-workshop-patrimonio-e-iluminacion
DTSTART:20180717T040000Z
LOCATION:Escuela de Diseño UC\, Campus Lo Contador (El Comendador\, Provide
 ncia\, Providencia\, Región Metropolitana\, Chile)
SUMMARY:Workshop 'Patrimonio e Iluminación'
URL:https://fadeu-old.urantiacos.cl/agenda/evento/1611-workshop-patrimonio-
 e-iluminacion
END:VEVENT
BEGIN:VEVENT
UID:20260420T191030UTC-2008gvw5t3@https://fadeu-old.urantiacos.cl/
DTSTAMP:20260420T191030Z
DESCRIPTION:\nLa exposici&oacute\;n&nbsp\;Intervalo: Taller FADEU&nbsp\;tie
 ne&nbsp\;por objetivo mostrar la actividad y producci&oacute\;n de la Facu
 ltad de Arquitectura\, Dise&ntilde\;o y Estudios Urbanos UC.\nLa exposici&
 oacute\;n muestra el estado actual de la Facultad mediante actividades com
 unes realizadas en Lo Contador como el cuerpo de la Facultad. El montaje h
 a sido coordinado por la Escuela de Arquitectura UC junto al colectivo int
 ernacional de arquitectos&nbsp\;Ephemeral Research.\nLa exhibici&oacute\;n
  est&aacute\; definida en tres partes\;&nbsp\;(1) Redes\, (2) Proyecto y (
 3) el Taller FADEU.\nRedes.&nbsp\;En la primera sala se despliega un compl
 eto panorama de actividades desarrolladas por la Facultad desde Julio de 2
 017\, de modo simult&aacute\;neo y cronol&oacute\;gico\, evidenciando la i
 mportancia de las redes sociales y medios digitales como espacio de difusi
 &oacute\;n\, comunicaci&oacute\;n\, participaci&oacute\;n y registro. Esto
 s medios se han vuelto de gran importancia\; manteniendo a la comunidad FA
 DEU m&aacute\;s conectada\, informada e involucrada\; permitiendo un regis
 tro acumulativo del quehacer diario. El programa de actividades (Talleres\
 , Seminarios\, Workshos\, Publicaciones\, Convenios\, etc.) es uno de los 
 atributos importantes en la Facultad: con una producci&oacute\;n sin prece
 dentes en Chile\, genera conexiones nacional e internacionalmente mediante
  el bolet&iacute\;n\, mail\, prensa\, Instagram\, Twitter\, Facebook\, vid
 eos v&iacute\;a streaming\, etc. La muestra expone m&aacute\;s de 500 docu
 mentos que dan a entender la envergadura de esta nueva cara de las Unidade
 s Acad&eacute\;micas\, por la cual se definen y a su vez se abren a Chile 
 y el resto del mundo.\nProyecto.&nbsp\;El recorrido perimetral al interior
  de la sala principal\, muestra 15 proyectos relevantes de la producci&oac
 ute\;n FADEU reciente\, incluyendo tanto una reflexi&oacute\;n disciplinar
  como la relaci&oacute\;n que ha establecido la Facultad con el mundo p&ua
 cute\;blico: el esp&iacute\;ritu que los envuelve y c&oacute\;mo estos dan
  cuenta de un momento que vale la pena observar con detenci&oacute\;n. Maq
 uetas expuestas sobre taburetes complementan estas l&aacute\;minas.\nTalle
 r FADEU.&nbsp\;Una estructura m&iacute\;nima de policarbonato ondulado aut
 o-soportante de 4\,3 mt de alto y 48 m2 que define un nuevo interior en la
  sala principal. Este nuevo espacio presenta material audiovisual destacab
 le del &uacute\;ltimo a&ntilde\;o y es programado con actividades espec&ia
 cute\;ficas (conversatorios\, lanzamientos\, entrevistas\, visitas guiadas
 ) a lo largo de la muestra. El calendario de actividades para este espacio
  es una invitaci&oacute\;n abierta a recorrer eventos comunes del diario v
 ivir de nuestro campus\, delimitados por un material trasl&uacute\;cido qu
 e enmarca esta circunstancia y empuja a observar con nuevos ojos. Esto gen
 era una doble lectura: mirar desde el interior hacia afuera y ser visto de
 sde un exterior que deja entrever -pero que tambi&eacute\;n deforma y exac
 erba. &iquest\;C&oacute\;mo nos vemos desde afuera? &iquest\;C&oacute\;mo 
 nos definimos como Facultad? &iquest\;Qu&eacute\; nos limita?\, y m&aacute
 \;s importante a&uacute\;n\; &iquest\;Qu&eacute\; nos mueve?\nLugar_\nGale
 r&iacute\;a de Arte\, Centro de Extensi&oacute\;n UC.&nbsp\;Alameda 390.\n
 Fecha Inauguraci&oacute\;n_\nMartes 10 de Julio de 2018\,&nbsp\;12.30 hrs.
 \nFecha exposici&oacute\;n_\nDesde el 10 al 28 de Julio de 2018\,&nbsp\;10
  a 20 horas.\n\n&nbsp\;\n&nbsp\; https://fadeu-old.urantiacos.cl/agenda/ev
 ento/1597-intervalo-taller-fadeu
DTSTART:20180710T140000Z
DTEND:20180728T140000Z
LOCATION:Galería de Arte del Centro de Extensión UC\, Alameda 390 ()
SUMMARY:Intervalo: Taller FADEU
URL:https://fadeu-old.urantiacos.cl/agenda/evento/1597-intervalo-taller-fad
 eu
END:VEVENT
END:VCALENDAR
