BEGIN:VCALENDAR
VERSION:2.0
PRODID:-//https://fadeu-old.urantiacos.cl///NONSGML kigkonsult.se iCalcreator 2.10.15//
METHOD:PUBLISH
BEGIN:VEVENT
UID:20260423T145416UTC-7930mtVRUH@https://fadeu-old.urantiacos.cl/
DTSTAMP:20260423T145416Z
DESCRIPTION:Conversatorio 'Arquitectura del Agua en el Cuzco. &iquest\;Hay 
 un paradigma inca del uso del agua en el territorio y la ciudad?'​ ​​con e
 l catedr&aacute\;tico y arque&oacute\;logo Ricardo Mar\,​ ​​la presentaci&
 oacute\;n ser&aacute\; comentada por los arque&oacute\;logos y doctores Ig
 or Parra y Rub&eacute\;n Stehberg.Ricardo Mar es Arque&oacute\;logo\, Doct
 or Arquitecto UPC. Profesor titular de la Universidad Rovira i Virgili. Di
 rector del proyecto &ldquo\;Visualizando Cusco. Restituci&oacute\;n virtua
 l del Centro Ceremonial de la capital inka&rdquo\;\, en colaboraci&oacute\
 ;n con el Smithsonian Institution\, la Municipalidad del Cusco y la Univer
 sitat Rovira i Virgili\, 2015-18.\nIgor Parra es Arque&oacute\;logo y Pale
 obot&aacute\;nico\, Doctor Europeus y Docteur en Sciences Ecole Pratique d
 es Hautes Etudes\, Director Cient&iacute\;fico Fundaci&oacute\;n PM2053\nR
 ub&eacute\;n Stehberg es Arque&oacute\;logo\, Doctor en Ciencias Naturales
  (Orientaci&oacute\;n Antropolog&iacute\;a).Curador jefe del &aacute\;rea 
 de Antropolog&iacute\;a\, MNHN Santiago.\nEntrada liberada\, posterior ins
 cripci&oacute\;n al correo magisterpatrimonio@uc.cl .\nCupos limitados\n h
 ttps://fadeu-old.urantiacos.cl/agenda/evento/1119-conversatorio-arquitectu
 ra-del-agua-en-el-cuzco-hay-un-paradigma-inca-del-uso-del-agua-en-el-terri
 torio-y-la-ciudad
DTSTART:20170724T220000Z
DTEND:20170724T230000Z
LOCATION:Salón Sergio Larraín\, Campus Lo Contador ()
SUMMARY: Conversatorio 'Arquitectura del Agua en el Cuzco. ¿Hay un paradigm
 a inca del uso del agua en el territorio y la ciudad?'
URL:https://fadeu-old.urantiacos.cl/agenda/evento/1119-conversatorio-arquit
 ectura-del-agua-en-el-cuzco-hay-un-paradigma-inca-del-uso-del-agua-en-el-t
 erritorio-y-la-ciudad
END:VEVENT
END:VCALENDAR
