BEGIN:VCALENDAR
VERSION:2.0
PRODID:-//https://fadeu-old.urantiacos.cl///NONSGML kigkonsult.se iCalcreator 2.10.15//
METHOD:PUBLISH
BEGIN:VEVENT
UID:20260423T133853UTC-32407gZW1C@https://fadeu-old.urantiacos.cl/
DTSTAMP:20260423T133853Z
DESCRIPTION:Bienvenida a los nuevos alumnos de los programas de mag&iacute\
 ;ster de la Escuela de Arquitectura UC\, la que se realizar&aacute\; el d&
 iacute\;a viernes 11 de agosto a partir de las 13 horas en el 4&ordm\; pis
 o del edificio de Arquitectura. Al cierre habr&aacute\; un vino de honor p
 ara brindar y compartir en comunidad.\n https://fadeu-old.urantiacos.cl/ag
 enda/evento/1163-bienvenida-nuevos-alumnos-de-magisteres-arq-u
DTSTART:20170811T170000Z
DTEND:20170811T180000Z
LOCATION:Edificio de Arquitectura\, Campus Lo Contador PUC (El Comendador 1
 916\, Providencia\, Región Metropolitana\, Chile)
SUMMARY:Bienvenida nuevos alumnos de Magísteres ARQ U
URL:https://fadeu-old.urantiacos.cl/agenda/evento/1163-bienvenida-nuevos-al
 umnos-de-magisteres-arq-u
END:VEVENT
BEGIN:VEVENT
UID:20260423T133853UTC-3244fgxzEu@https://fadeu-old.urantiacos.cl/
DTSTAMP:20260423T133853Z
DESCRIPTION:La Direcci&oacute\;n de Extensi&oacute\;n y Comunicaciones FADE
 U en colaboraci&oacute\;n con el Doctorado en Arquitectura y Estudios Urba
 nos\, el Fondecyt Regular N&ordm\;1150308 y el programa MPUR\, los invitan
  a la charla de Felipe Correa titulada 'Arquitectura entre escalas y la ci
 udad Latinoamericana'\, que se&nbsp\;realizar&aacute\;&nbsp\;el d&iacute\;
 a&nbsp\;jueves 10 de agosto a las 18.30hrs.&nbsp\;en el Auditorio ARQ\, 4&
 ordm\;piso.\n&nbsp\;\nFelipe Correa es profesor Asociado y Director del pr
 ograma de Magister de&nbsp\;Dise&ntilde\;o Urbano del&nbsp\;Harvard Gradua
 te School of Desing (GSD)\, donde adem&aacute\;s lidera la red de investig
 aci&oacute\;n&nbsp\;South America Project. Actualmente es socio de&nbsp\;S
 omatic Collaborative\, una plataforma de colaboraci&oacute\;n proyectual e
 ntorno a la arquitectura\, el urbanismo y el paisaje\, que ha realizado di
 versos proyectos y consultor&iacute\;as en el &aacute\;mbito p&uacute\;bic
 o y privado en ciudades como: Sao Pablo\, Ciudad de M&eacute\;xico y Quito
 \, entre otras.\nM&aacute\;s informaci&oacute\;n aqu&iacute\;\n\n&nbsp\; h
 ttps://fadeu-old.urantiacos.cl/agenda/evento/1123-charla-de-felipe-correa-
 arquitectura-entre-escalas-y-la-ciudad-latinoamericana
DTSTART:20170810T223000Z
DTEND:20170810T233000Z
LOCATION:Auditorio Arquitectura UC\, Campus Lo Contador (el comendador 1916
 \, providencia)
SUMMARY:Charla de Felipe Correa: 'Arquitectura entre escalas y la ciudad La
 tinoamericana'
URL:https://fadeu-old.urantiacos.cl/agenda/evento/1123-charla-de-felipe-cor
 rea-arquitectura-entre-escalas-y-la-ciudad-latinoamericana
END:VEVENT
BEGIN:VEVENT
UID:20260423T133853UTC-3902dNxwEA@https://fadeu-old.urantiacos.cl/
DTSTAMP:20260423T133853Z
DESCRIPTION:Mart&iacute\; Franch\, en el marco del workshop del Mag&iacute\
 ;ster en Arquitectura del Paisaje UC ''Genis Temporum Time grounded design
  / Responsive practices for uncertain scenarios'' a realizarse junto a Dan
 iela Fuentealba a partir del 9 de agosto\, har&aacute\; una charla magistr
 al abierta a todo p&uacute\;blico.\nMart&iacute\; Franch\, Ing. en Horticu
 ltura y Jardiner&iacute\;a ETSAB\, licenciado en Arquitectura del Paisaje 
 por la Universidad de Greenwich\, profesor de proyectos en el Master de Pa
 isaje de la ETSAB\, y profesor visitante en distintas universidades de Eur
 opa es desde 2008 miembro del consejo asesor de la revista Paisea y desde 
 2011 miembro del Consejo Directivo de la Escuela de Versailles.\n https://
 fadeu-old.urantiacos.cl/agenda/evento/1125-charla-magistral-marti-franch
DTSTART:20170810T173000Z
DTEND:20170810T183000Z
LOCATION:Auditorio FADEU\, Campus Lo Contador PUC (El Comendador 1916\, Pro
 videncia\, Providencia\, Región Metropolitana\, Chile)
SUMMARY:Charla Magistral Martí Franch
URL:https://fadeu-old.urantiacos.cl/agenda/evento/1125-charla-magistral-mar
 ti-franch
END:VEVENT
BEGIN:VEVENT
UID:20260423T133853UTC-3907XmIhmu@https://fadeu-old.urantiacos.cl/
DTSTAMP:20260423T133853Z
DESCRIPTION:Para inaugurar el 2 semestre acad&eacute\;mico los programas de
  postgrado de la Escuela de Arquitectura UC realizan una conferencia abier
 ta a todo p&uacute\;blico en la que un acad&eacute\;mico invitado expone s
 u experiencia en tem&aacute\;ticas afines a cada uno de los programas.\nEn
  esta ocasi&oacute\;n el Mag&iacute\;ster en Arquitectura Sustentable y En
 erg&iacute\;a UC ha invitado a Alejandra Schueftan\, Doctorando en Ciencia
 s Forestales de la Universidad Austral de Chile\, mag&iacute\;ster en Efic
 iencia Energ&eacute\;tica de la misma casa de estudios y arquitecta de la 
 Pontificia Universidad Cat&oacute\;lica de Chile. Trabaja en el Instituto 
 Forestal &ndash\; INFOR y es socia en A2s y GVC Consultores. Actualmente e
 st&aacute\; investigando los efectos de pol&iacute\;ticas de eficiencia en
 erg&eacute\;tica en el control de la contaminaci&oacute\;n atmosf&eacute\;
 rica. Sus &aacute\;reas de inter&eacute\;s son la eficiencia energ&eacute\
 ;tica\, energ&iacute\;as renovables y sustentabilidad.\nFecha_Mi&eacute\;r
 coles 09 de agosto de 2017\, 18.30 hrs.\nLugar_Auditorio Arquitectura\, Ca
 mpus Lo Contador. El Comendador 1936\, Providencia\nInvitan_MASE UCArquite
 ctura UC\n&nbsp\;\n https://fadeu-old.urantiacos.cl/agenda/evento/1159-con
 ferencia-inaugural-alejandra-schueftan
DTSTART:20170809T223000Z
DTEND:20170809T233000Z
LOCATION:Auditorio FADEU\, Campus Lo Contador PUC (El Comendador 1916\, Pro
 videncia\, Providencia\, Región Metropolitana\, Chile)
SUMMARY:Conferencia Inaugural Alejandra Schueftan
URL:https://fadeu-old.urantiacos.cl/agenda/evento/1159-conferencia-inaugura
 l-alejandra-schueftan
END:VEVENT
BEGIN:VEVENT
UID:20260423T133853UTC-3912VdF2DV@https://fadeu-old.urantiacos.cl/
DTSTAMP:20260423T133853Z
DESCRIPTION:El workshop Genis Temporum\, Time grounded design / Responsive 
 practices for uncertain scenarios que organiza el MAPA UC propone dise&nti
 lde\;ar una metodolog&iacute\;a experimental y abierta capaz de promover l
 a factibilidad y\, advenimiento y adaptabilidad de varias hip&oacute\;tesi
 s en el curso montano-natural\, rural-en-evoluci&oacute\;n y urbano-consol
 idaci&oacute\;n del r&iacute\;o Mapocho en Santiago.\nA trav&eacute\;s de 
 3 tiempos proyectuales con distinta capacidad de transformaci&oacute\;n\, 
 impacto y movilizaci&oacute\;n de recursos: el tiempo de las ''victorias t
 empranas''\, inmediatas y palpables\, el tiempo recurrente y c&iacute\;cli
 co de ''los protocolos'' y finalmente el tiempo intenso y experimental de 
 los ''prototipos'' o ''proyectos piloto''\,el workshop buscar&aacute\; con
 cebir una estrategia para el mayor equipamiento p&uacute\;blico de Santiag
 o.\nMart&iacute\; Franch\, Ing. en Horticultura y Jardiner&iacute\;a ETSAB
 \, licenciado en Arquitectura del Paisaje por la Universidad de Greenwich\
 , profesor de proyectos en el Master de Paisaje de la ETSAB\, y profesor v
 isitante en distintas universidades de Europa ser&aacute\; el responsable 
 del workshop.\nDaniela Fuentealba\, Arquitecta de la Universidad de Chile\
 , Mag&iacute\;ster en Arquitectura del Paisaje por la Universidad Polit&ea
 cute\;cnica de Catalunya\, project leader en el estudio EMF de Mart&iacute
 \; Franch y profesora adjunta en el taller ''Sistemas del agua'' del Mag&i
 acute\;ster en Arquitectura del Paisaje de la Universidad de Catalunya \,s
 er&aacute\; la profesora invitada.\nPara m&aacute\;s informaci&oacute\;n m
 agistermapaz@uc.cl\nFecha_Mi&eacute\;rcoles 09 - Viernes 18 de agosto de 2
 017.\nLugar_Campus Lo Contador. El Comendador 1916\, Providencia\nInvitan_
 Mag&iacute\;ster en Arquitectura del Paisaje UC\n&nbsp\;\n https://fadeu-o
 ld.urantiacos.cl/agenda/evento/1161-workshop-internacional-de-paisaje
DTSTART:20170809T040000Z
DTEND:20170818T030000Z
LOCATION:Campus Lo Contador (El Comendador 1916\, Providencia\, Providencia
 \, Región Metropolitana\, Chile)
SUMMARY:Workshop Internacional de Paisaje
URL:https://fadeu-old.urantiacos.cl/agenda/evento/1161-workshop-internacion
 al-de-paisaje
END:VEVENT
BEGIN:VEVENT
UID:20260423T133853UTC-3920mxfGv3@https://fadeu-old.urantiacos.cl/
DTSTAMP:20260423T133853Z
DESCRIPTION:Juan Carlos Mu&ntilde\;oz\, director del Centro de Desarrollo U
 rbano Sustentable (CEDEUS)\, perteneciente a la Pontificia Universidad Cat
 &oacute\;lica de Chile y a la Universidad de Concepci&oacute\;n\, tiene el
  agrado de invitarle al Seminario &ldquo\;&iquest\;Qui&eacute\;n se ha lle
 vado mi queso? Propiedad de plusval&iacute\;as de intervenciones urbanas&r
 dquo\;.\nParticipan:Carlos Orrego / Lincoln InstituteFernando Herrera / C&
 aacute\;mara Chilena de la Construcci&oacute\;nPablo Contrucci / Ministeri
 o de Vivienda y UrbanismoPablo Trivelli / Universidad MayorJuan Carlos Mu&
 ntilde\;oz / CEDEUS - UC\nOrganizan: V&iacute\;ctor Rocco y David Avil&eac
 ute\;s / CEDEUS - UC https://fadeu-old.urantiacos.cl/agenda/evento/1129-qu
 ien-se-ha-llevado-mi-queso-propiedad-de-plusvalias-de-intervenciones-urban
 as
DTSTART:20170809T003000Z
DTEND:20170809T013000Z
LOCATION:Salón Sergio Larraín\, Campus Lo Contador ()
SUMMARY:“¿Quién se ha llevado mi queso? Propiedad de plusvalías de interven
 ciones urbanas”
URL:https://fadeu-old.urantiacos.cl/agenda/evento/1129-quien-se-ha-llevado-
 mi-queso-propiedad-de-plusvalias-de-intervenciones-urbanas
END:VEVENT
BEGIN:VEVENT
UID:20260423T133853UTC-3926mXbrZT@https://fadeu-old.urantiacos.cl/
DTSTAMP:20260423T133853Z
DESCRIPTION:Se presentar&aacute\;n los proyectos que participaron en la Hac
 kathon Datos\, Dinero y Partidos:1. &ldquo\;Radiograf&iacute\;a en la C&aa
 cute\;mara Baja&rdquo\;\, presenta Yanara Barra.2. &ldquo\;Clustering Part
 idos Pol&iacute\;ticos&rdquo\;\, presenta Gabriel Cornejo &amp\; Constanza
  Sturm.3. &ldquo\;Ciudadano Vigilante&rdquo\;\, presenta Olga Marchevska.+
 info: https://www.meetup.com/es-ES/Santiago-Data-Visualization/ https://fa
 deu-old.urantiacos.cl/agenda/evento/1173-charla-meetup-santiago-data-visua
 lization
DTSTART:20170808T230000Z
DTEND:20170809T000000Z
LOCATION:Sala Luis Moreno\, Escuela de Diseño UC\, Campus Lo Contador (El C
 omendador 1916\, Providencia\, Región Metropolitana\, Chile)
SUMMARY:Charla | Meetup Santiago Data Visualization
URL:https://fadeu-old.urantiacos.cl/agenda/evento/1173-charla-meetup-santia
 go-data-visualization
END:VEVENT
BEGIN:VEVENT
UID:20260423T133853UTC-3929WvcubU@https://fadeu-old.urantiacos.cl/
DTSTAMP:20260423T133853Z
DESCRIPTION:Grupo Arquitectura Caliente\, equipo organizador de la primera 
 versi&oacute\;n del concurso de reflexiones e investigaciones de arquitect
 ura\, Arquitectura Escrita 2017\, invita a la primera sesi&oacute\;n de co
 nversaciones del certamen para el martes 08 de agosto a las 18:30 en el Au
 ditorio FADEU de la Escuela de Arquitectura UC. participaran de esta sesi&
 oacute\;n\, Francisco D&iacute\;az\, Mario Marchant y Jos&eacute\; Rosas.
 \nFecha_Martes 08 de agosto de 2017. 18.30 hrs.\nLugar_Auditorio FADEU\, C
 ampus Lo Contador. El Comendador 1916\, Providencia\nInvitan_Grupo Arquite
 ctura CalienteEscuela de Arquitectura\n&nbsp\;\n https://fadeu-old.urantia
 cos.cl/agenda/evento/1155-ciclo-conversaciones-arquitectura-escrita
DTSTART:20170808T223000Z
DTEND:20170808T233000Z
LOCATION:Auditorio FADEU\, Campus Lo Contador PUC (El Comendador 1916\, Pro
 videncia\, Providencia\, Región Metropolitana\, Chile)
SUMMARY:Ciclo Conversaciones Arquitectura Escrita
URL:https://fadeu-old.urantiacos.cl/agenda/evento/1155-ciclo-conversaciones
 -arquitectura-escrita
END:VEVENT
BEGIN:VEVENT
UID:20260423T133853UTC-3933HcuTKj@https://fadeu-old.urantiacos.cl/
DTSTAMP:20260423T133853Z
DESCRIPTION:Jefe de programa:Francisco G&aacute\;lvez\, Pamela Sthandier114
  horas\nLa tipograf&iacute\;a es un aspecto esencial de la comunicaci&oacu
 te\;n. Su desarrollo a lo largo de varios siglos ha sido primordial para l
 a cultura universal. A comienzos del siglo XX\, fue tambi&eacute\;n elemen
 to clave en el reconocimiento de una nueva disciplina: el dise&ntilde\;o g
 r&aacute\;fico\, y en las &uacute\;ltimas d&eacute\;cadas ha confirmado su
  importancia desde los soportes digitales\, en el escenario reconocido com
 o la sociedad de la informaci&oacute\;n.\nAs&iacute\; como existen diferen
 tes culturas\, lo mismo ocurre con la tipograf&iacute\;a. Los modos de exp
 resi&oacute\;n apropiados pueden variar dependiendo del pa&iacute\;s\, la 
 regi&oacute\;n o la cultura\, y lo que resulta natural como lectura o visu
 alidad\, puede resultar extra&ntilde\;o en otro contexto. No cualquier tip
 ograf&iacute\;a funciona para cualquier aplicaci&oacute\;n\, y eso podr&ia
 cute\;a explicar por qu&eacute\; algunos dise&ntilde\;os son m&aacute\;s u
 tilizados en ciertos pa&iacute\;ses y en otros no.\nPor otra parte\, escri
 turas como el mandar&iacute\;n y el ar&aacute\;bico son utilizadas por m&a
 acute\;s de la mitad de la poblaci&oacute\;n mundial\, y nuestra Am&eacute
 \;rica cuenta a la fecha con numerosos idiomas vivos y aut&oacute\;ctonos\
 , con la oportunidad de ser desarrollados en forma gr&aacute\;fica.\nEn s&
 iacute\;ntesis\, la tipograf&iacute\;a es un lenguaje del mundo globalizad
 o\, pero al mismo tiempo\, es referente de la diversidad cultural. Nos per
 mite dialogar a gran escala\, al tiempo que nos ayuda a reconocer las dife
 rencias y aprender de ellas.\nEste Diploma\, representa un espacio multidi
 sciplinario para la discusi&oacute\;n\, el intercambio de conocimientos\, 
 el aprendizaje y el desarrollo de proyectos en torno al dise&ntilde\;o de 
 tipos y a la comunicaci&oacute\;n\, desde el &aacute\;mbito del dise&ntild
 e\;o.\n&nbsp\;\n+ m&aacute\;s informaci&oacute\;n aqu&iacute\;\n&nbsp\; ht
 tps://fadeu-old.urantiacos.cl/agenda/evento/1101-diplomado-en-tipografia-d
 iseno-de-fuentes-digitales
DTSTART:20170808T040000Z
LOCATION:Escuela de Diseño UC\, Campus Lo Contador (El Comendador\, Provide
 ncia\, Providencia\, Región Metropolitana\, Chile)
SUMMARY:Diplomado en Tipografía Diseño de Fuentes Digitales
URL:https://fadeu-old.urantiacos.cl/agenda/evento/1101-diplomado-en-tipogra
 fia-diseno-de-fuentes-digitales
END:VEVENT
BEGIN:VEVENT
UID:20260423T133853UTC-39408zILVj@https://fadeu-old.urantiacos.cl/
DTSTAMP:20260423T133853Z
DESCRIPTION:El pr&oacute\;ximo lunes 7 de agosto\, en el marco del workshop
  que organiza Arquitectura UC junto MIT Chile y Universal Projects skylar 
 Tibbits realizar&aacute\; conferencia en el Auditorio Arquitectura\nSkylar
  TibbitsIs a co-director and founder of the Self-Assembly Lab housed at MI
 T&rsquo\;s International Design Center. The Self-Assembly Lab focuses on s
 elf-assembly and programmable material technologies for novel manufacturin
 g\, products and construction processes.\nSkylar is an Assistant Professor
  of Design Research in the Department of Architecture where he teaches gra
 duate and undergraduate design studios and How to Make (Almost) Anything\,
  a seminar at MIT's Media Lab with Neil Gershenfeld. Skylar was recently n
 amed R&amp\;D Magazine's 2015 Innovator of the Year\, 2015 National Geogra
 phic Emerging Explorer\, 2014 Inaugural WIRED Fellow\, 2014 Gifted Citizen
 \, 2013 Fast Company Innovation by Design Award\, 2013 Architectural Leagu
 e Prize\, The Next Idea Award at Ars Electronica 2013\, Visionary Innovati
 on Award at the Manufacturing Leadership Summit\, 2012 TED Senior Fellow a
 nd was named a Revolutionary Mind in SEED Magazine&rsquo\;s 2008 Design Is
 sue.\nPreviously\, he has worked at a number of renowned design offices in
 cluding: Zaha Hadid Architects\, Asymptote Architecture and Point b Design
 . He has designed and built large-scale installations at galleries around 
 the world\, has been published extensively in outlets such as the New York
  Times\, Wired\, Nature\, Fast Company as well as various peer-reviewed jo
 urnals and books.\nSkylar has a Professional Degree in Architecture and mi
 nor in experimental computation from Philadelphia University. Continuing h
 is education at MIT\, he received a Master of Science in Design Computatio
 n and a Master of Science in Computer Science under the guidance of\; Patr
 ick Winston\, Terry Knight\, Erik Demaine and Neil Gershenfeld.\nFecha_Lun
 es 07 de agosto de 2017\, 18.30 hrs.\nLugar_Auditorio Arquitectura\, Campu
 s Lo Contador. El Comendador 1916\, Providencia\nInvitan_Universal Project
 s (UP)MIT MISTI ChileEscuela Arquitectura\n&nbsp\;\n https://fadeu-old.ura
 ntiacos.cl/agenda/evento/1153-conferencia-skylar-tibbits
DTSTART:20170807T223000Z
DTEND:20170807T233000Z
LOCATION:Auditorio FADEU\, Campus Lo Contador PUC (El Comendador 1916\, Pro
 videncia\, Providencia\, Región Metropolitana\, Chile)
SUMMARY:Conferencia Skylar Tibbits
URL:https://fadeu-old.urantiacos.cl/agenda/evento/1153-conferencia-skylar-t
 ibbits
END:VEVENT
BEGIN:VEVENT
UID:20260423T133853UTC-39479KhiCN@https://fadeu-old.urantiacos.cl/
DTSTAMP:20260423T133853Z
DESCRIPTION:Este 7 de agosto\, a contar de las 17:30 hrs\, se continuara co
 n las actividades abiertas del Extreme Environments Inhabitation Workshop\
 , comenzando con a la charla a cargo de Jos&eacute\; Miguel Armijo sobre l
 a participaci&oacute\;n de UP en el Nasa Mars 3D-Printed Habitat Challenge
  - Phase 1 con el proyecto N3ST (Nested 3D-print settlement Technology). P
 ara seguir a las 18:00 hrs con la charla de Skylar Tibbits sobre Digital F
 abrication\, Skylar es co-director y fundador del Self-Assembly Lab patroc
 inado por el centro internacional de dise&ntilde\;o del MIT. El Laboratori
 o se centra en estrategias de auto ensamble y tecnolog&iacute\;as de progr
 amaci&oacute\;n material para la elaboraci&oacute\;n de nuevos productos\,
  procesos de construcci&oacute\;n\, y fabrication digital.\nEl Workshop\,s
 e esta realizando entre el 31 de julio y el 18 de agosto en el Desierto de
  Atacama y el Campus Lo Contador de la Universidad Cat&oacute\;lica\, y te
 ndr&aacute\; como prop&oacute\;sito central explorar los desaf&iacute\;os 
 de dise&ntilde\;ar asentamientos bajo las condiciones del desierto m&aacut
 e\;s &aacute\;rido del mundo\, enfoc&aacute\;ndose en el dise&ntilde\;o de
  procesos para el desarrollo de materiales a partir de recursos nativos.\n
 Fecha:Lunes 7 de Agosto de 2017\, a partir de las 17.30 hrs.\nLugar:Audito
 rio Arquitectura\, Campus Lo Contador. El Comendador 1936\, Providencia\nO
 rganiza:Universal Projects UP\, MIT MISTI Chile y PUC\nAuspicia:MIT MISTI 
 Chile y MIT Sloan Latin America\nPatrocina:Centro del Desierto de Atacama 
 UC\, Escuela de Arquitectura MIT y UC.\nM&aacute\;s informaci&oacute\;n\nh
 ttp://eei.universalprojects.cl/https://www.universalprojects.net/\n https:
 //fadeu-old.urantiacos.cl/agenda/evento/1145-opening-activities-extreme-en
 vironments-inhabitation-workshop
DTSTART:20170807T213000Z
DTEND:20170807T233000Z
LOCATION:Auditorio Arquitectura UC\, Campus Lo Contador (el comendador 1916
 \, providencia)
SUMMARY:Opening activities - Extreme Environments Inhabitation Workshop
URL:https://fadeu-old.urantiacos.cl/agenda/evento/1145-opening-activities-e
 xtreme-environments-inhabitation-workshop
END:VEVENT
END:VCALENDAR
