BEGIN:VCALENDAR
VERSION:2.0
PRODID:-//https://fadeu-old.urantiacos.cl///NONSGML kigkonsult.se iCalcreator 2.10.15//
METHOD:PUBLISH
BEGIN:VEVENT
UID:20260419T222545UTC-35536cs3xV@https://fadeu-old.urantiacos.cl/
DTSTAMP:20260419T222545Z
DESCRIPTION:&nbsp\;\nPin Arpilleras Parlantes\, proyecto de vinculaci&oacut
 e\;n del oficio textil de la arpillera con nuevas tecnolog&iacute\;as de p
 rogramaci&oacute\;n y electr&oacute\;nica.\nResignificaci&oacute\;n de la 
 t&eacute\;cnica textil tradicional para acercarla a un nuevo p&uacute\;bli
 co gracias a la creaci&oacute\;n de soportes interactivos y propuestas inn
 ovadoras.\nExpone: Sof&iacute\;a Guridi_14 de agosto 2019_Sal&oacute\;n Se
 rgio Larra&iacute\;n_19.30 h\n&nbsp\;\n https://fadeu-old.urantiacos.cl/ag
 enda/evento/1914-charla-pin-arpilleras-parlantes
DTSTART:20190814T230000Z
DTEND:20190815T010000Z
LOCATION:Salón Sergio Larraín\, Campus Lo Contador ()
SUMMARY:Charla: Pin Arpilleras Parlantes 
URL:https://fadeu-old.urantiacos.cl/agenda/evento/1914-charla-pin-arpillera
 s-parlantes
END:VEVENT
BEGIN:VEVENT
UID:20260419T222545UTC-3558ZHLIlV@https://fadeu-old.urantiacos.cl/
DTSTAMP:20260419T222545Z
DESCRIPTION:El paisaje es absolutamente inseparable de la idea de su repres
 entaci&oacute\;n\, donde aquello que se formula se proyecta desde una cult
 ura\, idea e historia. El ciclo de cine&nbsp\;Proyecciones desde el paisaj
 e\,&nbsp\;desarrollado en el marco del curso m&iacute\;nimo de pregrado&nb
 sp\;Ciudad y Paisaje III\,&nbsp\;dictado&nbsp\;por las profesora Romy Hech
 t y la profesora instructora Tatiana Carbonell\,&nbsp\;exhibir&aacute\; un
 a serie de filmes que proponen puntos de vista particulares para construir
  el paisaje\, que ilustran los conceptos o voluntades tanto de quienes los
  gestan como de quienes observan dicha proyecci&oacute\;n.\nPodr&iacute\;a
 mos pensar entonces que\, en rigor\, en una pel&iacute\;cula lo que vemos 
 no es sino la decisi&oacute\;n de un encuadre.\nProyecciones desde el pais
 aje&nbsp\;es una invitaci&oacute\;n abierta a dialogar en un contrapunto d
 esde la mirada del paisaje a la c&aacute\;mara del director.&nbsp\;\nAgost
 o 14&nbsp\; Paisaje y Ecolog&iacute\;a\nSurire&nbsp\;&middot\; Bettina Per
 ut\, Iv&aacute\;n Osnovikoff (Taskovski Films\, Dirk Manthey Film\, 2015)
 \n&nbsp\;\n&nbsp\;\nAgosto 21&nbsp\;Paisaje e Infraestructura\nDeliverance
 &nbsp\;&middot\; John Boorman (Warner Bros\,1972)\n&nbsp\;\n&nbsp\;\nAgost
 o 28&nbsp\;Paisaje y Memoria\nFlores&nbsp\;&middot\; Jorge J&aacute\;come 
 (2017)\, fragmentos\n&nbsp\;\n&nbsp\;\nOctubre 02&nbsp\;El Jard&iacute\;n 
 Real\nLast Year at Marienbad&nbsp\;&middot\; Alain Resnais (Cineriz\, 1961
 )\n&nbsp\;\n&nbsp\;\nOctubre 23&nbsp\;&iquest\;Naturaleza o Paisaje?\nGerr
 y&nbsp\;&middot\; Gus Van Sant (THINKFilm\, 2002)\n&nbsp\;\n&nbsp\;\nOctub
 re 30&nbsp\;Pulmones y Otros Dispositivos Verdes\nBlow Up&nbsp\;&middot\; 
 Michelangelo Antonioni (MGM\, 1966)\n&nbsp\;\nFechas_\n2&ordm\; semestre 2
 019 | Mi&eacute\;rcoles 13.20 a 15.20 h\n&nbsp\;\nLugar_\nSal&oacute\;n Se
 rgio Larra&iacute\;n Garc&iacute\;a Moreno\nCampus Lo Contador\nEl Comenda
 dor 1936\, Providencia\n&nbsp\;\nOrganiza_\nEscuela de Arquitectura UC&nbs
 p\;\n&nbsp\;\n&nbsp\;\nNoticiasContacto:&nbsp\;redesarq@uc.cl&nbsp\;| +56 
 2 2354 7747www.arquitectura.uc.cl https://fadeu-old.urantiacos.cl/agenda/e
 vento/1921-ciclo-proyecciones-desde-el-paisaje-paisaje-y-ecologia
DTSTART:20190814T172000Z
DTEND:20190814T192000Z
LOCATION:Salón Sergio Larraín\, Campus Lo Contador ()
SUMMARY:Ciclo Proyecciones desde el paisaje | Paisaje y ecología
URL:https://fadeu-old.urantiacos.cl/agenda/evento/1921-ciclo-proyecciones-d
 esde-el-paisaje-paisaje-y-ecologia
END:VEVENT
BEGIN:VEVENT
UID:20260419T222545UTC-3566Uc3mOi@https://fadeu-old.urantiacos.cl/
DTSTAMP:20260419T222545Z
DESCRIPTION:A trav&eacute\;s de un di&aacute\;logo abierto al p&uacute\;bli
 co\, Carolina Ar&eacute\;valo\, curadora de la muestra Reencuentro\, entre
 vistar&aacute\; a Sheila Hicks para hilar las historias y vivencias que un
 en su obra con Am&eacute\;rica del Sur y su significativo paso por Chile.
 \nDe Nebraska a la Patogonia\, Hicks\, creadora de un lenguaje propio\, no
 s invitar&aacute\; a comprender\, de la mano de Ar&eacute\;valo\, c&oacute
 \;mo esta exposici&oacute\;n pone en evidencia su creatividad y su capacid
 ad de observaci&oacute\;n\, en especial cuando se enfrent&oacute\; al pais
 aje cultural del territorio surandino.\nColabora: Escuela de Dise&ntilde\;
 o UCInscripciones aqu&iacute\;.\n&nbsp\;\n\n&nbsp\; https://fadeu-old.uran
 tiacos.cl/agenda/evento/1913-entrevista-abierta-a-sheila-hicks
DTSTART:20190813T230000Z
DTEND:20190814T000000Z
LOCATION:Aula Magna del Centro de Extensión\, Universidad Católica de Chile
  (Av Libertador Bernardo O'Higgins 390\, Santiago\, Santiago\, Región Metr
 opolitana\, Chile)
SUMMARY:Entrevista abierta a Sheila Hicks
URL:https://fadeu-old.urantiacos.cl/agenda/evento/1913-entrevista-abierta-a
 -sheila-hicks
END:VEVENT
BEGIN:VEVENT
UID:20260419T222545UTC-3570uB1WXU@https://fadeu-old.urantiacos.cl/
DTSTAMP:20260419T222545Z
DESCRIPTION:\nCharla que dictar&aacute\; Rodrigo Mill&aacute\;n\, soci&oacu
 te\;logo y mag&iacute\;ster en Desarrollo Urbano UC&nbsp\;y doctor en Arqu
 itectura y Urbanismo por la Universidad de S&atilde\;o Paulo (USP) de Bras
 il\,&nbsp\;en el marco del Taller de Investigaci&oacute\;n y Proyecto 'Coh
 abitaci&oacute\;n' del Mag&iacute\;ster en Arquitectura UC\, dirigido por 
 los profesores &Aacute\;lvaro Arancibia y Patricio Browne.\nComo pocos esp
 acios p&uacute\;blicos latinoamericanos\, la red de unidades del Servicio 
 Social de Comercio (SESC) ha conseguido compatibilizar usos educacionales\
 , sanitarios\, deportivos\, recreativos y culturales al interior de sus ed
 ificios. Creada en el Brasil de post-guerra\, la instituci&oacute\;n ha si
 do pionera en proponer edificios h&iacute\;bridos en que\, por medio de pr
 ogramas mixtos y estrategias de uso flexibles\, se desarrollan actividades
  masivas para p&uacute\;blicos diferentes. Tal como otros investigadores\,
  tomaremos como referencia el concepto de &ldquo\;condensador social&rdquo
 \; &mdash\;experiencia del constructivismo sovi&eacute\;tico de la d&eacut
 e\;cada de 1920\, revalorizada por Koolhaas en los a&ntilde\;os dos mil&md
 ash\; para compreender las posibilidades abiertas por los programas pedag&
 oacute\;gicos y arquitect&oacute\;nicos propuestos en algunas de las veint
 itr&eacute\;s unidades SESC al interior del &aacute\;rea metropolitana de 
 S&atilde\;o Paulo. En ese sentido\, la presentaci&oacute\;n discutir&aacut
 e\; las diferentes visiones sobre el bienestar social a lo largo de las m&
 aacute\;s de siete d&eacute\;cadas de SESC\, as&iacute\; como las respuest
 as que la instituci&oacute\;n intent&oacute\; dar a las transformaciones s
 ociales y al crecimiento de la ciudad de S&atilde\;o Paulo.\n\n\nRodrigo M
 ill&aacute\;n\nRodrigo Mill&aacute\;n es soci&oacute\;logo y mag&iacute\;s
 ter en Desarrollo Urbano\, ambos por la Pontificia Universidad Cat&oacute\
 ;lica de Chile\, y doctor en Arquitectura y Urbanismo por la Universidad d
 e S&atilde\;o Paulo (USP) de Brasil. Actualmente es investigador en Outros
 \, el &ldquo\;laboratorio para otros urbanismos&rdquo\; de la FAU-USP.\nEn
  los &uacute\;ltimos a&ntilde\;os su trabajo se ha centrado en el an&aacut
 e\;lisis de los procesos de planificaci&oacute\;n y&nbsp\;construcci&oacut
 e\;n de espacios deportivos y recreativos en las ciudades latinoamericanas
 . En mayo de&nbsp\;2019 defendi&oacute\; la tesis &ldquo\;Urbanismo esport
 ivo\, moderniza&ccedil\;&atilde\;o e ordem social em tr&ecirc\;s cidades d
 a&nbsp\;Am&eacute\;rica do Sul. Montevid&eacute\;u\, Santiago e S&atilde\;
 o Paulo (1920-1955)&rdquo\;\, trabajo que explora la&nbsp\;construcci&oacu
 te\;n de equipamientos deportivos en esas tres ciudades y las agendas mode
 rnizadoras&nbsp\;que impulsaron esos procesos. Es fundador de&nbsp\;FICA\,
  Fondo&nbsp\;Inmobiliario Comunitario creado para garantizar la vivienda a
  precios accesibles al interior del&nbsp\;centro de la capital paulista. T
 ambi&eacute\;n es traductor de obras de arquitectura\, urbanismo y ciencia
 s sociales.\n\nFecha_\nMartes 13 de agosto de 2019\, 19.00 h\n&nbsp\;\n&nb
 sp\;\nLugar_\nAuditorio Fernando Castillo Velasco\nCampus Lo Contador\nEl 
 Comendador 1936\, Providencia\n&nbsp\;\n&nbsp\;\nOrganiza_\nMag&iacute\;st
 er en Arquitectura UC\nEscuela de Arquitectura UC\n&nbsp\;\n\n&nbsp\;\n&nb
 sp\;\n&nbsp\;\nNoticiasContacto:&nbsp\;redesarq@uc.cl&nbsp\;| +56 2 2354 7
 747www.arquitectura.uc.cl https://fadeu-old.urantiacos.cl/agenda/evento/19
 20-conferencia-equipamientos-urbanos-y-bienestar-red-de-unidades-sesc-de-s
 ao-paulo
DTSTART:20190813T230000Z
DTEND:20190814T000000Z
LOCATION:Auditorio Fernando Castillo Velasco. Edificio ARQ (El Comendador 1
 936\, Providencia\, Región Metropolitana\, Chile)
SUMMARY:Conferencia 'Equipamientos urbanos y bienestar: Red de unidades Ses
 c de São Paulo'
URL:https://fadeu-old.urantiacos.cl/agenda/evento/1920-conferencia-equipami
 entos-urbanos-y-bienestar-red-de-unidades-sesc-de-sao-paulo
END:VEVENT
BEGIN:VEVENT
UID:20260419T222545UTC-3582vVkub7@https://fadeu-old.urantiacos.cl/
DTSTAMP:20260419T222545Z
DESCRIPTION:\nConferencia '(Auto) gesti&oacute\;n de vivienda y barrios: De
 saf&iacute\;os y oportunidades desde la innovaci&oacute\;n social'\n\n\nLu
 z Mar&iacute\;a Vergara |&nbsp\;Arquitecta y mag&iacute\;ster UC. Doctor e
 n Gesti&oacute\;n del Entorno Construido de la TU Delft en Holanda\n&iques
 t\;Cu&aacute\;les son los desaf&iacute\;os institucionales y comunitarios 
 para administrar y mantener el parque habitacional en barrios vulnerables?
  &iquest\; De qu&eacute\; manera la innovaci&oacute\;n social y la socieda
 d civil son parte de las soluciones?. Esta charla presentar&aacute\; el de
 saf&iacute\;o de la gesti&oacute\;n habitacional en contextos de vulnerabi
 lidad\, dentro de un contexto global de transformaciones sociales marcadas
  por la co-creaci&oacute\;n\, la auto-organizaci&oacute\;n y el auge de la
  sociedad civil. Ante la ausencia del Estado y la escasa participaci&oacut
 e\;n del mercado en temas de administraci&oacute\;n y mantenimiento\, la c
 harla explorar&aacute\; el rol de la sociedad civil como veh&iacute\;culo 
 de innovaci&oacute\;n social destacando los desaf&iacute\;os y las oportun
 idades para mejorar la calidad de vivienda y barrios en Chile.\nLuz Mar&ia
 cute\;a Vergara\nArquitecta y mag&iacute\;ster UC\, y doctor en gesti&oacu
 te\;n del entorno construido de la Universidad Tecnol&oacute\;gica de Delf
 t (TU Delft)\, Holanda. Actualmente se desempe&ntilde\;a como acad&eacute\
 ;mica e investigadora en la Facultad de Arquitectura de la TU Delft en el 
 departamento de Management in the Built Environment.\nSu investigaci&oacut
 e\;n de doctorado Managing Social Condominiums se enfoc&oacute\; en el rol
  de la sociedad civil en el mejoramiento\, administraci&oacute\;n y gesti&
 oacute\;n de condominios sociales\, explorando su rol como intermediarios 
 y veh&iacute\;culos de innovaci&oacute\;n social.&nbsp\;Su l&iacute\;nea d
 e investigaci&oacute\;n se centra en procesos colaborativos y multisectori
 ales de creaci&oacute\;n y transformaci&oacute\;n de territorios vulnerabl
 es\, especialmente en regiones del sur global\, as&iacute\; como el desarr
 ollo e implementaci&oacute\;n de pol&iacute\;ticas de vivienda que apoyen 
 estos procesos.\nLuz Mar&iacute\;a es creadora y docente del curso online 
 Rethink the City. New Approaches to Global and Local Urban Challenges\, ga
 nador del premio a la excelencia acad&eacute\;mica 2017 otorgado por la As
 ociaci&oacute\;n Europea de Escuelas de Planificaci&oacute\;n Urbana (AESO
 P)\, adem&aacute\;s es fundadora del Global Urban Lab\, plataforma multidi
 sciplinaria de la Universidad de Delft dedicada a promover investigaci&oac
 ute\;n aplicada y docencia sobre procesos de urbanizaci&oacute\;n en regio
 nes del sur global.\nFecha_Lunes 12 de agosto de 2019\, 18.00 h&nbsp\;Luga
 r_Auditorio Fernando Castillo VelascoCampus Lo ContadorEl Comendador 1936\
 , ProvidenciaOrganiza_Laboratorio 9x18Escuela de Arquitectura UCCollaborat
 ive Housing ResearchUniversidad Tecnol&oacute\;gica de Delft - TU Delft&nb
 sp\;NoticiasContacto:&nbsp\;redesarq@uc.cl&nbsp\;| +56 2 2354 7747www.arqu
 itectura.uc.cl\n\n&nbsp\; https://fadeu-old.urantiacos.cl/agenda/evento/19
 17-conferencia-auto-gestion-de-vivienda-y-barrios-desafios-y-oportunidades
 -desde-la-innovacion-social
DTSTART:20190812T220000Z
DTEND:20190812T230000Z
LOCATION:Auditorio Fernando Castillo Velasco. Edificio ARQ (El Comendador 1
 936\, Providencia\, Región Metropolitana\, Chile)
SUMMARY:Conferencia '(Auto) gestión de vivienda y barrios: Desafíos y oport
 unidades desde la innovación social'
URL:https://fadeu-old.urantiacos.cl/agenda/evento/1917-conferencia-auto-ges
 tion-de-vivienda-y-barrios-desafios-y-oportunidades-desde-la-innovacion-so
 cial
END:VEVENT
BEGIN:VEVENT
UID:20260419T222545UTC-3593psUpEs@https://fadeu-old.urantiacos.cl/
DTSTAMP:20260419T222545Z
DESCRIPTION:\nExposici&oacute\;n de los resultados del workshop 'Reclamaci&
 oacute\;n de paisajes fluviales' a&nbsp\;cargo de la arquitecta paisajista
  Claudia Illanes\, socia de Harris + Illanes\, la que reflexionar&aacute\;
  en torno a los proyectos de paisaje formulados para el borde fluvial de l
 a comuna de El Monte\, regi&oacute\;n Metropolitana\, que se ubica en los 
 m&aacute\;rgenes del r&iacute\;o Mapocho.&nbsp\;Organizado por el Mag&iacu
 te\;ster en Arquitectura del Paisaje (MAPA) en colaboraci&oacute\;n con Pu
 entes UC.\nEl workshop\, dirigido por la profesora y arquitecta paisajista
  Claudia Illanes\, se plantea como un espacio de reflexi&oacute\;n proyect
 ual asociado a la tem&aacute\;tica de la reclamaci&oacute\;n de los paisaj
 es fluviales. Si bien los bordes y riberas de nuestros r&iacute\;os consti
 tuyen lugares memorables y sistemas altamente valiosos para la resiliencia
  y sustentabilidad de las ciudades\, el estado de deterioro y abandono en 
 el cual generalmente se encuentran los transforma en espacios de conflicto
 \, riesgo y olvido. Bajo este marco\, el workshop considera la formulaci&o
 acute\;n y desarrollo de un proyecto de paisaje para el borde fluvial de l
 a comuna de El Monte\, regi&oacute\;n Metropolitana\, que se ubica en los 
 m&aacute\;rgenes del r&iacute\;o Mapocho. En t&eacute\;rminos espec&iacute
 \;ficos\, se pretende elaborar una propuesta que constituya un aporte real
  a a la gesti&oacute\;n de este espacio fluvial\, para lo cual se contar&a
 acute\; con el apoyo de PUENTES UC\, orientado a generar las articulacione
 s entre este &aacute\;mbito acad&eacute\;mico y el municipio.\n\n\nClaudia
  Illanes\nArquitecta de la Pontificia Universidad Cat&oacute\;lica de Chil
 e (1993) y&nbsp\;Mag&iacute\;ster en Arquitectura del Paisaje de la Univer
 sidad Polit&eacute\;cnica de Catalunya (2001)\, con diploma de estudios av
 anzados del Departamento de Urbanismo de la Universidad&nbsp\;Polit&eacute
 \;cnica de Catalunya (2005).\nEs socia fundadora de Harris + Illanes (2006
 )\, oficina de planificaci&oacute\;n y dise&ntilde\;o de paisaje en difere
 ntes escalas. Sus proyectos abarcan desde forestaciones en &aacute\;reas d
 egradadas\, planes de paisaje para nuevas &aacute\;reas urbanas y proyecto
 s de dise&ntilde\;o de &aacute\;reas verdes p&uacute\;blicas y privadas.&n
 bsp\;Actualmente es profesora del Mag&iacute\;ster en Arquitectura del Pai
 saje de la Escuela de Arquitectura UC.\n\nFecha_\nLunes 12 de agosto de 20
 19\, 12.30 h\n&nbsp\;\nLugar_\nSal&oacute\;n Sergio Larra&iacute\;n Garc&i
 acute\;a Moreno\nCampus Lo Contador\nEl Comendador 1936\, Providencia\n&nb
 sp\;\nOrganiza_\nMag&iacute\;ster en Arquitectura del Paisaje UC\nEscuela 
 de Arquitectura UC&nbsp\;\n&nbsp\;\n&nbsp\;\nNoticiasContacto:&nbsp\;redes
 arq@uc.cl&nbsp\;| +56 2 2354 7747www.arquitectura.uc.cl https://fadeu-old.
 urantiacos.cl/agenda/evento/1919-presentacion-del-workshop-reclamacion-de-
 paisajes-fluviales-claudia-illanes
DTSTART:20190812T163000Z
DTEND:20190812T170000Z
LOCATION:Salón Sergio Larraín\, Campus Lo Contador ()
SUMMARY:Presentación del workshop 'Reclamación de paisajes fluviales' | Cla
 udia Illanes
URL:https://fadeu-old.urantiacos.cl/agenda/evento/1919-presentacion-del-wor
 kshop-reclamacion-de-paisajes-fluviales-claudia-illanes
END:VEVENT
END:VCALENDAR
