BEGIN:VCALENDAR
VERSION:2.0
PRODID:-//https://fadeu-old.urantiacos.cl///NONSGML kigkonsult.se iCalcreator 2.10.15//
METHOD:PUBLISH
BEGIN:VEVENT
UID:20260420T173538UTC-4695HGXpwk@https://fadeu-old.urantiacos.cl/
DTSTAMP:20260420T173538Z
DESCRIPTION:Sarah Graham\n&nbsp\;\nSarah Graham&nbsp\;fund&oacute\; la ofic
 ina de arquitectura agps junto con Marc Ang&eacute\;lil en 1982. Tiene una
  licenciatura en Historia del Arte y Dise&ntilde\;o de la Stanford Univers
 ity y una Maestr&iacute\;a en Arquitectura en Graduate School of Design at
  Harvard University. Ha sido profesora visitante y adjunta en the Universi
 ty of Southern California\, as&iacute\; como profesora visitante en la Esc
 uela de Dise&ntilde\;o de Rhode Island\, la Escuela de Postgrado de Dise&n
 tilde\;o de Harvard\, la Universidad de California Berkeley y la Universid
 ad de Nanjing en China. Es arquitecta licenciada en California\, Massachus
 etts y Oregon. Es miembro de la Federaci&oacute\;n de Arquitectos Suizos (
 FSA) / Bund Schweizer Architekten (BSA) y miembro del Instituto Estadounid
 ense de Arquitectos (FAIA). Sarah form&oacute\; parte de la Junta de Antig
 uos Alumnos de la Escuela de Postgrado de Dise&ntilde\;o de Harvard de 201
 2 a 2016 y actualmente se desempe&ntilde\;a como asesora de la Escuela de 
 Arquitectura de la Universidad de Woodbury y del Instituto de Tierras &Aac
 ute\;ridas de Los &Aacute\;ngeles.\n&nbsp\;\n&nbsp\;\nFecha_\nViernes 17 d
 e agosto de 2018\, 13.30 hrs.\n&nbsp\;\n&nbsp\;\nLugar_\nAuditorio FCV\, c
 ampus Lo Contador. El Comendador 1936\, Providencia.\n&nbsp\;\n&nbsp\;\nOr
 ganizan_\nEscuela de Arquitectura UC\n\n&nbsp\;\nNoticiasContacto:&nbsp\;r
 edesarq@uc.cl&nbsp\;| +56 2 2354 7747www.arquitectura.uc.cl https://fadeu-
 old.urantiacos.cl/agenda/evento/1639-conferencia-women-s-work-sarah-graham
 -agps
DTSTART:20180817T163000Z
DTEND:20180817T173000Z
LOCATION:Auditorio Fernando Castillo Velasco. Edificio ARQ (El Comendador 1
 936\, Providencia\, Región Metropolitana\, Chile)
SUMMARY:Conferencia Women's work / Sarah Graham (agps)
URL:https://fadeu-old.urantiacos.cl/agenda/evento/1639-conferencia-women-s-
 work-sarah-graham-agps
END:VEVENT
BEGIN:VEVENT
UID:20260420T173538UTC-4702knpumM@https://fadeu-old.urantiacos.cl/
DTSTAMP:20260420T173538Z
DESCRIPTION:\nEl pr&oacute\;ximo viernes&nbsp\;17 de agosto&nbsp\;se llevar
 &aacute\; a cabo la cuarta sesi&oacute\;n de 'Paisajes Proyectados: Ciclo 
 de di&aacute\;logos de Arquitectura del Paisaje'\, en celebraci&oacute\;n 
 a los&nbsp\;10 a&ntilde\;os del Magister en Arquitectura del Paisaje UC. L
 a charla ser&aacute\; dictada por el Premio Nacional de&nbsp\;Arquitectura
  2014\,&nbsp\;Teodoro Fern&aacute\;ndez.&nbsp\;\nEn el marco de la celebra
 ci&oacute\;n de los 10 a&ntilde\;os del&nbsp\;Mag&iacute\;ster en Arquitec
 tura del Paisaje UC\, el Ciclo&nbsp\;Paisajes Proyectados re&uacute\;ne&nb
 sp\;10 visiones disciplinares&nbsp\;a partir de conversaciones con arquite
 ctos del&nbsp\;paisaje&nbsp\;relacionadas con su producci&oacute\;n profes
 ional y&nbsp\;acad&eacute\;mica\, constituyendo una vitrina actualizada de
 l&nbsp\;quehacer nacional en materia de planificaci&oacute\;n y&nbsp\;dise
 &ntilde\;o del Paisaje en Chile. Cada sesi&oacute\;n del Ciclo&nbsp\;promu
 eve un&nbsp\;encuentro entre el autor\, parte de su&nbsp\;obra y el p&uacu
 te\;blico asistente\, en una din&aacute\;mica&nbsp\;transversal y cercana 
 de interacci&oacute\;n.\n&nbsp\;&nbsp\;\nLos 10 exponentes son_\n&nbsp\;\n
 - TEODORO FERNANDEZ- DANILO MARTIC- OSVALDO MORENO- CLAUDIA ILLANES- ANDRE
 W HARRIS- ARTURO LYON- ALEJANDRA BOSCH- TOMAS FOLCH- PAULA LIVINGSTONE\n- 
 SANDRA ITURRIAGA\n&nbsp\;&nbsp\;\nLa cuarta sesi&oacute\;n ser&aacute\; la
 &nbsp\;Clase Magistral de Teodoro Fern&aacute\;ndez.\n&nbsp\;\n&nbsp\;\n\n
 Teodoro Fern&aacute\;ndez\n&nbsp\;\nArquitecto UC (1972) con estudios de P
 ost&iacute\;tulo de Arquitectura del Paisaje UC (1990-1991).\nEs docente d
 e la Escuela de Arquitectura UC desde inicios de los a&ntilde\;os 90\, don
 de imparte el Taller de Formaci&oacute\;n y Representaci&oacute\;n\, siend
 o maestro de generaciones de destacados arquitectos.\nSu trabajo profesion
 al inicia en los a&ntilde\;os 70 en Espa&ntilde\;a\, en colaboraci&oacute\
 ;n con Fernando Domeyko y Jes&uacute\;s Bermejo. De regreso a Chile\, en l
 a d&eacute\;cada los 80 y 90\, realiza diversas obras en coautor&iacute\;a
  con destacados arquitectos como Mario P&eacute\;rez de Arce Lav&iacute\;n
 \, Montserrat Palmer\, Mario P&eacute\;rez De Arce Antonic\, Rodrigo P&eac
 ute\;rez de Arce\, Ram&oacute\;n L&oacute\;pez\, Cecilia Puga y Smiljan Ra
 dic. En 1997 funda la oficina Fern&aacute\;ndez Courard Arquitectos\, dond
 e desarrolla proyectos de arquitectura\, paisaje y arquitectura interior.
 \nEntre sus obras m&aacute\;s significativas\, es posible mencionar el Pol
 ideportivo (1988)\, la remodelaci&oacute\;n del Centro Cultural Estaci&oac
 ute\;n Mapocho (1994)\, el Parque In&eacute\;s de Su&aacute\;rez (1994)\, 
 el Parque Bicentenario (2007)\, la restauraci&oacute\;n del Parque Quinta 
 Normal (2011)\, y el Edificio Moneda Bicentenario (2014).\nHa dise&ntilde\
 ;ado diversos edificios y espacios para los Campus de la Pontificia Univer
 sidad Cat&oacute\;lica de Chile\, como la remodelaci&oacute\;n del patio d
 el Centro de Extensi&oacute\;n en Casa Central (1990)\, el Templo de San J
 oaqu&iacute\;n (1997)\, el Hall Universitario (2003) y el Centro de Docume
 ntaci&oacute\;n Sergio Larra&iacute\;n Garc&iacute\;a Moreno en el Campus 
 Lo Contador (1997).\nLa relevancia de su obra fue reconocida en 2014 con e
 l Premio Nacional de Arquitectura\, al cual se suman diversos galardones a
  lo largo de su carrera profesional. Entre estos se encuentra el Premio 'F
 erm&iacute\;n Vivaceta' (2002)\, el Premio Internacional Reina Sof&iacute\
 ;a de Patrimonio Cultural por Centro Cultural Estaci&oacute\;n Mapocho (20
 08)\, Gran Medalla AOA (2013)\, el nombramiento como Miembro de Honor del 
 American Institute of Architects\, Estados Unidos (2016)\, y el reciente P
 remio a la Excelencia en la Creaci&oacute\;n Art&iacute\;stica de la Ponti
 ficia Universidad Cat&oacute\;lica de Chile (2017).\nFecha_\nViernes 17 de
  agosto de 2018\, 13.15 - 14:30 hrs.\n&nbsp\;\n&nbsp\;\nLugar_\nSal&oacute
 \;n Sergio Larra&iacute\;n Garc&iacute\;a Moreno\, campus Lo Contador. El 
 Comendador 1936\, Providencia.\n&nbsp\;\n&nbsp\;\nOrganizan_\nMag&iacute\;
 ster en Arquitectura del Paisaje UC\n&nbsp\;\n\nPatrocina_\nICHAP&nbsp\;(I
 nstituto Chileno de Arquitectos Paisajistas)\n&nbsp\;\nMedia Partner_\nPla
 taforma Arquitectura&nbsp\;\n&nbsp\;\nIngreso libre\, previa inscripci&oac
 ute\;n_magistermapa@uc.cl\nInformaciones_\nmagistermapa@uc.cl\n&nbsp\;\nLi
 nk de Inscripci&oacute\;n_\nhttps://goo.gl/forms/cdhZJ7H2JB614MXt1\n&nbsp\
 ;\n&nbsp\;\n\n\n https://fadeu-old.urantiacos.cl/agenda/evento/1640-ciclo-
 de-dialogos-de-arquitectura-del-paisaje-teodoro-fernandez
DTSTART:20180817T161500Z
DTEND:20180817T173000Z
LOCATION:Salón Sergio Larraín\, Campus Lo Contador ()
SUMMARY:Ciclo de diálogos de Arquitectura del Paisaje: Teodoro Fernández
URL:https://fadeu-old.urantiacos.cl/agenda/evento/1640-ciclo-de-dialogos-de
 -arquitectura-del-paisaje-teodoro-fernandez
END:VEVENT
BEGIN:VEVENT
UID:20260420T173538UTC-4715I8T4Oj@https://fadeu-old.urantiacos.cl/
DTSTAMP:20260420T173538Z
DESCRIPTION:El pr&oacute\;ximo 16 de agosto a las 19.00hrs en Interdesign\,
  ubicado en Isidora Goyenechea 3200 Las Condes\, se realizar&aacute\; el l
 anzamiento de la tercera entrega de la serie ARQ Monograf&iacute\;as\, ded
 icada a la obra de Max N&uacute\;&ntilde\;ez\, arquitecto y docente de la 
 Universidad Cat&oacute\;lica de Chile.\nMax Núñez&nbsp\;pertenece a una 
 generación de arquitectos que comenzó su práctica profesional hace poco
  más de diez años\, coincidiendo con el fin de la hegemonía de los star
 chitects que acompañó el ambiente político y económico hasta 2008. En 
 paralelo al trabajo de su oficina\, Núñez dirige el programa de Magíste
 r en Arquitectura de la Pontificia Universidad Católica de Chile\, donde 
 ha fomentado el intercambio de ideas a nivel global y promovido la discusi
 ón sobre los edificios como objetos de conocimiento arquitectónico. Desd
 e este contexto generacional\, carente de certezas y ávido de una reflexi
 ón crítica que guíe la práctica\, tanto su quehacer académico como pr
 ofesional han debido enfrentarse a la pregunta por el valor de la arquitec
 tura: qué importa y por qué\, una vez asumido que su impacto formal ya n
 o es suficiente.\nFecha_\nJueves 16 de agosto de 2018\, 19.00 hrs.\n&nbsp\
 ;\nLugar_\nInterdesign. 3200 Isidora Goyenechea\, Las Condes\, Regi&oacute
 \;n Metropolitana\, Chile.\n&nbsp\;\nOrganizan_\nEscuela de Arquitectura U
 C\nEdiciones ARQ\n&nbsp\;\n\n&nbsp\;\nNoticiasContacto:&nbsp\;redesarq@uc.
 cl&nbsp\;| +56 2 2354 7747www.arquitectura.uc.cl https://fadeu-old.urantia
 cos.cl/agenda/evento/1634-arq-monografias-max-nunez-coleccion-de-ideas
DTSTART:20180816T220000Z
DTEND:20180816T230000Z
LOCATION:Interdesign (Isidora Goyenechea 3200\, Las Condes\, Santiago\, Reg
 ión Metropolitana\, Chile)
SUMMARY: ARQ Monografías: Max Nuñez. Colección de Ideas
URL:https://fadeu-old.urantiacos.cl/agenda/evento/1634-arq-monografias-max-
 nunez-coleccion-de-ideas
END:VEVENT
BEGIN:VEVENT
UID:20260420T173538UTC-472007wI0b@https://fadeu-old.urantiacos.cl/
DTSTAMP:20260420T173538Z
DESCRIPTION:Mar&iacute\;a Paz Trebilcock\, Directora del&nbsp\;Departamento
  de Sociolog&iacute\;a&nbsp\;de la Universidad Alberto Hurtado\,&nbsp\;Ale
 jandra Stevenson\, Directora&nbsp\;Ediciones UAH\,&nbsp\;Mario Ubilla S.\,
  Decano de la Facultad de Arquitectura\, Dise&ntilde\;o y Estudios Urbanos
  de la Pontificia Universidad Cat&oacute\;lica y&nbsp\;Jos&eacute\; Manuel
  Allard\, Director de la Escuela de Dise&ntilde\;o UC\, invitan al lanzami
 ento del libro 'Caminando - Pr&aacute\;cticas\, corporalidades y afectos e
 n la ciudad'\, editado por&nbsp\;Mart&iacute\;n Tironi&nbsp\;y&nbsp\;Gerar
 do Mora.\nPresentar&aacute\;n&nbsp\;Paola Jir&oacute\;n Mart&iacute\;nez\,
  Profesora Asociada y Directora Instituto de la Vivienda\, Facultad de Arq
 uitectura y Urbanismo Universidad de Chile. Coordinadora Doctorado en Terr
 itorio\, Espacio y Sociedad.&nbsp\;Miguel Laborde\, cronista urbano y dire
 ctor Revista Universitaria UC.\nAl t&eacute\;rmino de la ceremonia se ofre
 cer&aacute\; un c&oacute\;ctel.\nD&oacute\;nde: Sala E\, Universidad Alber
 to Hurtado (Erasmo Escala 1822\, Metro Los H&eacute\;roes)&nbsp\;Inscripci
 &oacute\;n aqu&iacute\;.&nbsp\;\n\nCaminando. Pr&aacute\;cticas\, corporal
 idades y afectos en la&nbsp\;ciudad&nbsp\;es un libro que busca abrir&nbsp
 \;campos de exploraci&oacute\;n te&oacute\;rico-pr&aacute\;ctico en torno 
 a los significados\, territorios\, lugares e imaginarios que se conjugan e
 n la pr&aacute\;ctica de caminar. En este sentido\, viene a marcar un punt
 o de partida para la consolidaci&oacute\;n del inter&eacute\;s en auge por
  reflexionar y promover el caminar en las ciudades contempor&aacute\;neas.
  Sin desconocer la importancia de la planificaci&oacute\;n y gesti&oacute\
 ;n territorial para mejorar las condiciones de caminabilidad en nuestras c
 iudades latinoamericanas\, su prop&oacute\;sito es ahondar en las experien
 cias que se expresan en esta pr&aacute\;ctica de movilidad\, comprendido e
 l caminar como un &lsquo\;fen&oacute\;meno social total&rsquo\; que requie
 re ser abordado interdisciplinariamente. El libro re&uacute\;ne trabajos q
 ue despliegan diferentes perspectivas (arte\, antropolog&iacute\;a\, est&e
 acute\;tica\, fotograf&iacute\;a\, urbanismo\, sociolog&iacute\;a\, geogra
 f&iacute\;a\, dise&ntilde\;o)\, las que confluyen en hacer del caminar un 
 &aacute\;mbito de estudio y de intervenci&oacute\;n urbana.\n&nbsp\;\n\n&l
 dquo\;&iquest\;C&oacute\;mo puede ser dise&ntilde\;ada una ciudad para cam
 inarla si es el caminar el que dise&ntilde\;a la ciudad? Combinando perspe
 ctivas de sociolog&iacute\;a y antropolog&iacute\;a\, as&iacute\; como con
  contribuciones del arte\, la arquitectura\, el dise&ntilde\;o y el period
 ismo\, Martin Tironi y Gerardo Mora muestran c&oacute\;mo el caminar sutil
 mente desestabiliza y resiste la transitabilidad organizada de la ciudad. 
 Al tocar las superficies\, olfatear las grietas\, respirar el aire y perci
 bir la luz y las sombras de un entorno urbano perpetuamente cambiante\, el
  caminar deshace la conexi&oacute\;n\, escapa el confinamiento e invierte 
 la contenci&oacute\;n. Al hacerlo\, hace renacer la ciudad&rdquo\;.\n&nbsp
 \;\nTim Ingold\, University of Aberdeen\, Fellow of the British Academy.\n
 \n\n&nbsp\;\n&ldquo\;Si caminar es algo m&aacute\;s que andar\, y si trat&
 aacute\;ndose ante todo de un acto individual lo es tambi&eacute\;n social
 \, este libro\, tan bello&nbsp\;como&nbsp\;inusual\,&nbsp\;ilumina muy bie
 n esas y otras diferencias. Caminar es tambi&eacute\;n algo m&aacute\;s qu
 e moverse de un lugar a otro\, y si se camina bien\, se trata de una acci&
 oacute\;n que&nbsp\;se relaciona&nbsp\;con ver\, contemplar\, quedarse. Ca
 minar es encontrarse con otros que tambi&eacute\;n caminan\,&nbsp\;aunque 
 es tambi&eacute\;n una manera eficaz de escuchar mejor nuestras propias vo
 ces interiores. Caminar es hacer camino\, seguir un curso\, comprobar lo m
 ucho que nos importan los sitios por los que vamos. Pensamos cuando camina
 mos\, y aqu&iacute\; tenemos un libro que nos invita ahora&nbsp\;a pensar 
 sobre lo que hacemos cuando caminamos&rdquo\;.\n&nbsp\;\nAgust&iacute\;n S
 quella\, Premio Nacional de Humanidades y Ciencias Sociales 2009.\n\n\n&nb
 sp\;\n&ldquo\;Leyendo este libro de Tironi y Mora\, record&eacute\; c&oacu
 te\;mo\, hace muchos a&ntilde\;os\, las obras de Gabriel Mir&oacute\; me c
 onvencieron que era posible sentir el mundo entero contemplando sin obst&a
 acute\;culos ciertas inmensidades abiertas. &iexcl\;El mundo entero\, ese 
 desconocido al que ya pertenezco y al que ir&eacute\; a parar cuando me mu
 era! Mir&oacute\; suele ligar la contemplaci&oacute\;n de lo inmenso con l
 a experiencia sentida y cabal del todo que se ofrece simult&aacute\;neamen
 te. Sus libros parec&iacute\;an querer ense&ntilde\;ar que con suerte pode
 mos experimentar lo inmenso furtivo desde el punto de vista en el que esta
 mos situados.\nLas grandes ciudades modernas tambi&eacute\;n regalan ciert
 as ocasiones de ver y sentir lo inmenso que solo muy de vez en cuando se o
 frece entre fronteras. Las calles estrechas para las multitudes\, los r&ia
 cute\;os canalizados que hunden sus hilos en el cemento\, las torres que r
 ajan nubes y vientos compitiendo por dominar las alturas\, el laberinto de
  sus grutas para dormir y comer. La acumulaci&oacute\;n amplia y apretada\
 , profunda y altiva de los obst&aacute\;culos que luchan por anteponerse a
  la visi&oacute\;n ambiciosa de anchura\, habla\, en cambio\, de la labori
 osa inventiva humana como de un pozo sin l&iacute\;mites. Tambi&eacute\;n 
 esta es capaz de denunciar sensiblemente una inmensidad que forma parte de
 l mundo entero\, ese desconocido al que pertenecemos y al que iremos a par
 ar en definitiva.&rdquo\;\n&nbsp\;\nCarla Cordua\,&nbsp\;Premio Nacional d
 e Humanidades y Ciencias Sociales en 2011.&nbsp\;\n&nbsp\;\n\n\n https://f
 adeu-old.urantiacos.cl/agenda/evento/1609-lanzamiento-libro-caminar
DTSTART:20180816T213000Z
DTEND:20180816T223000Z
LOCATION:Sala E\, Universidad Alberto Hurtado (Erasmo Escala 1822\, Metro L
 os Héroes)
SUMMARY:Lanzamiento libro 'Caminar'
URL:https://fadeu-old.urantiacos.cl/agenda/evento/1609-lanzamiento-libro-ca
 minar
END:VEVENT
BEGIN:VEVENT
UID:20260420T173538UTC-47366cG2L3@https://fadeu-old.urantiacos.cl/
DTSTAMP:20260420T173538Z
DESCRIPTION:Publicaci&oacute\;n que recopila las ponencias presentadas en e
 l primer&nbsp\;seminario de visualizaci&oacute\;n de datos en Chile\, VISD
 atos | Santiago_ 2018\,&nbsp\;organizado por el Laboratorio de Visualizaci
 &oacute\;n de Datos\, de la Escuela de&nbsp\;Dise&ntilde\;o UC\, para cono
 cer el estado de la visualizaci&oacute\;n de datos en Chile y&nbsp\;visibi
 lizar la diversidad de trabajo que se realiza hoy en esta &aacute\;rea\, d
 esde la&nbsp\;industria\, la academia\, el gobierno y organizaciones civil
 es.\n&nbsp\;\nAuditorio Fernando Castillo Velasco4to piso Edificio Arquite
 cturaCampus Lo ContadorEl Comendador 1936\, Providencia\n https://fadeu-ol
 d.urantiacos.cl/agenda/evento/1637-lanzamiento-publicacion-seminario-visda
 tos-2018
DTSTART:20180816T213000Z
DTEND:20180816T223000Z
LOCATION:Auditorio Fernando Castillo Velasco. Edificio ARQ (El Comendador 1
 936\, Providencia\, Región Metropolitana\, Chile)
SUMMARY:Lanzamiento: Publicación 'Seminario VISDatos 2018'
URL:https://fadeu-old.urantiacos.cl/agenda/evento/1637-lanzamiento-publicac
 ion-seminario-visdatos-2018
END:VEVENT
BEGIN:VEVENT
UID:20260420T173538UTC-4740HLXrOZ@https://fadeu-old.urantiacos.cl/
DTSTAMP:20260420T173538Z
DESCRIPTION:\nConferencia&nbsp\;'Popular Urbanization: Egypt and Brazil (di
 fferences and similarities)' del Director del programa MAS Urban Studies d
 e la ETH\, Marc Ang&eacute\;lil.&nbsp\;\n\n\nMarc Ang&eacute\;lilMarc Ang&
 eacute\;lil&nbsp\;estudi&oacute\; arquitectura en ETH Zurich\, donde tambi
 &eacute\;n complet&oacute\; su tesis doctoral summa cum laude. Ense&ntilde
 \;&oacute\; en la Graduate School of Design en la Universidad de Harvard y
  posteriormente en la Universidad del Sur de California en Los &Aacute\;ng
 eles. Actualmente es profesor en el Departamento de Arquitectura de ETH Zu
 rich y miembro de Network City and Landscape. Ha publicado varios libros\,
  entre ellos 'Deviations - A Manual' sobre m&eacute\;todos de ense&ntilde\
 ;anza\, 'Indizien' sobre la econom&iacute\;a pol&iacute\;tica de los terri
 torios urbanos contempor&aacute\;neos\, y 'Cidade de Deus! &iexcl\;Ciudad 
 de Dios! 'Sobre la pobreza urbana en Brasil. Marc Ang&eacute\;lil es miemb
 ro del Bund Schweizer Architekten (BSA) y miembro de la junta de la Fundac
 i&oacute\;n LafargeHolcim para la Construcci&oacute\;n Sostenible.Fecha_Ju
 eves 16 de agosto de 2018\, 13.30 hrs.Lugar_Auditorio FCV\, campus Lo Cont
 ador. El Comendador 1936\, Providencia.Organizan_EARQ UCFOCUSEmbajada Suiz
 a en ChileMag&iacute\;ster en Proyecto Urbano UC&nbsp\;Mag&iacute\;ster en
  Arquitectura Sustentable y Energia UC\nNoticiasContacto:&nbsp\;redesarq@u
 c.cl&nbsp\;| +56 2 2354 7747www.arquitectura.uc.cl\n\n\n&nbsp\; https://fa
 deu-old.urantiacos.cl/agenda/evento/1642-conferencia-mpur-marc-angelil-mas
 -urban-studies-eth
DTSTART:20180816T163000Z
DTEND:20180816T173000Z
LOCATION:Auditorio Fernando Castillo Velasco. Edificio ARQ (El Comendador 1
 936\, Providencia\, Región Metropolitana\, Chile)
SUMMARY:Conferencia MPUR / Marc Angélil (MAS Urban Studies ETH)
URL:https://fadeu-old.urantiacos.cl/agenda/evento/1642-conferencia-mpur-mar
 c-angelil-mas-urban-studies-eth
END:VEVENT
BEGIN:VEVENT
UID:20260420T173538UTC-4746iiF9PV@https://fadeu-old.urantiacos.cl/
DTSTAMP:20260420T173538Z
DESCRIPTION:Conferencia'AGPS. Designing with Resources. Architecture in the
  Age of Climate Change' de los socios fundadores de la oficina de arquitec
 tura agps\, Sarah Graham y Marc Ang&eacute\;lil.&nbsp\;\n\n&nbsp\;\nSarah 
 Graham\n&nbsp\;\nSarah Graham&nbsp\;fund&oacute\; la oficina de arquitectu
 ra AGPS junto con Marc Ang&eacute\;lil en 1982. Tiene una licenciatura en 
 Historia del Arte y Dise&ntilde\;o de la Stanford University y una Maestr&
 iacute\;a en Arquitectura en Graduate School of Design at Harvard Universi
 ty. Ha sido profesora visitante y adjunta en the University of Southern Ca
 lifornia\, as&iacute\; como profesora visitante en la Escuela de Dise&ntil
 de\;o de Rhode Island\, la Escuela de Postgrado de Dise&ntilde\;o de Harva
 rd\, la Universidad de California Berkeley y la Universidad de Nanjing en 
 China. Es arquitecta licenciada en California\, Massachusetts y Oregon. Es
  miembro de la Federaci&oacute\;n de Arquitectos Suizos (FSA) / Bund Schwe
 izer Architekten (BSA) y miembro del Instituto Estadounidense de Arquitect
 os (FAIA). Sarah form&oacute\; parte de la Junta de Antiguos Alumnos de la
  Escuela de Postgrado de Dise&ntilde\;o de Harvard de 2012 a 2016 y actual
 mente se desempe&ntilde\;a como asesora de la Escuela de Arquitectura de l
 a Universidad de Woodbury y del Instituto de Tierras &Aacute\;ridas de Los
  &Aacute\;ngeles.\n\n&nbsp\;&nbsp\;&nbsp\;\nMarc Ang&eacute\;lil\n&nbsp\;
 \nMarc Ang&eacute\;lil&nbsp\;estudi&oacute\; arquitectura en ETH Zurich\, 
 donde tambi&eacute\;n complet&oacute\; su tesis doctoral summa cum laude. 
 Ense&ntilde\;&oacute\; en la Graduate School of Design en la Universidad d
 e Harvard y posteriormente en la Universidad del Sur de California en Los 
 &Aacute\;ngeles. Actualmente es profesor en el Departamento de Arquitectur
 a de ETH Zurich y miembro de Network City and Landscape. Ha publicado vari
 os libros\, entre ellos 'Deviations - A Manual' sobre m&eacute\;todos de e
 nse&ntilde\;anza\, 'Indizien' sobre la econom&iacute\;a pol&iacute\;tica d
 e los territorios urbanos contempor&aacute\;neos\, y 'Cidade de Deus! &iex
 cl\;Ciudad de Dios! 'Sobre la pobreza urbana en Brasil. Marc Ang&eacute\;l
 il es miembro del Bund Schweizer Architekten (BSA) y miembro de la junta d
 e la Fundaci&oacute\;n LafargeHolcim para la Construcci&oacute\;n Sostenib
 le.\n&nbsp\;\n&nbsp\;\nFecha_\nJueves 16 de agosto de 2018\, hora por conf
 irmar.\n&nbsp\;\nLugar_\nSala por confirmar. Campus Lo Contador. El Comend
 ador 1936\, Providencia.\n&nbsp\;\nOrganizan_EARQ UCFOCUSEmbajada Suiza en
  ChileMag&iacute\;ster en Proyecto Urbano UC&nbsp\;\nMag&iacute\;ster en A
 rquitectura Sustentable y Energia UC\n&nbsp\;\n\n&nbsp\;\n&nbsp\;\nNoticia
 sContacto:&nbsp\;redesarq@uc.cl&nbsp\;| +56 2 2354 7747www.arquitectura.uc
 .cl https://fadeu-old.urantiacos.cl/agenda/evento/1638-conferencia-inaugur
 al-mase-sarah-graham-marc-angelil-agps
DTSTART:20180816T030000Z
LOCATION:Campus Lo Contador (El Comendador 1916\, Providencia\, Providencia
 \, Región Metropolitana\, Chile)
SUMMARY:Conferencia Inaugural MASE / Sarah Graham + Marc Angélil (agps)
URL:https://fadeu-old.urantiacos.cl/agenda/evento/1638-conferencia-inaugura
 l-mase-sarah-graham-marc-angelil-agps
END:VEVENT
BEGIN:VEVENT
UID:20260420T173538UTC-47542EVF8i@https://fadeu-old.urantiacos.cl/
DTSTAMP:20260420T173538Z
DESCRIPTION:&nbsp\;El director de la Escuela de Dise&ntilde\;o de la Facult
 ad de Arquitectura\, Dise&ntilde\;o y Estudios Urbanos de la Pontificia Un
 iversidad Cat&oacute\;lica de Chile\, Sr. Jos&eacute\; Manuel Allard y el 
 Subdirector Acad&eacute\;mico de la Escuela de Dise&ntilde\;o\, Sr. Dougla
 s Leonard Covarrubias\, con el patrocinio de la IALD\, International Assoc
 iation of Lighting Designers\, lo invitan cordialmente a una sesi&oacute\;
 n de conversaci&oacute\;n en torno al dise&ntilde\;o de iluminaci&oacute\;
 n\, los desaf&iacute\;os y oportunidades que enfrentan quienes practican e
 sta profesi&oacute\;n o est&aacute\;n interesados en ella.&nbsp\;\nEn esta
  oportunidad\, el invitado es el Dise&ntilde\;ador de Iluminaci&oacute\;n 
 Victor Palacio\, director del Estudio Ideas en Luz\, con base en Ciudad de
  Mexico\, Past President de la IALD\, asociaci&oacute\;n profesional que r
 e&uacute\;ne el mayor n&uacute\;mero de dise&ntilde\;adores de iluminaci&o
 acute\;n a nivel global. El anfitri&oacute\;n\, ser&aacute\; Douglas Leona
 rd JR. director de DLLD y miembro del directorio de IALD.\nAl t&eacute\;rm
 ino de la sesi&oacute\;n\, compartiremos un cocktail gentileza de LAMP\n&n
 bsp\;\n&nbsp\;\n\n\n&nbsp\;\n&nbsp\;\n&nbsp\; https://fadeu-old.urantiacos
 .cl/agenda/evento/1635-charla-lighting-conversations-santiago-victor-palac
 ios
DTSTART:20180814T220000Z
DTEND:20180815T010000Z
LOCATION:Auditorio Fernando Castillo Velasco. Edificio ARQ (El Comendador 1
 936\, Providencia\, Región Metropolitana\, Chile)
SUMMARY:Charla: Lighting Conversations Santiago - Víctor Palacios
URL:https://fadeu-old.urantiacos.cl/agenda/evento/1635-charla-lighting-conv
 ersations-santiago-victor-palacios
END:VEVENT
BEGIN:VEVENT
UID:20260420T173538UTC-4759G9a1R7@https://fadeu-old.urantiacos.cl/
DTSTAMP:20260420T173538Z
DESCRIPTION:\nProfesores.&nbsp\;Renato D&rsquo\;Alen&ccedil\;on y Roberto M
 oris\n\n\nAyudante.&nbsp\;Cristina ViscontiFormato 1er Bimestre + Workshop
  / OPR 5 cr.Preparaci&oacute\;n Agosto &ndash\; Septiembre / Martes &ndash
 \; m&oacute\;d. 11&ordf\; reuni&oacute\;n Martes 14 de AgostoWorkshop N&aa
 cute\;poles 05 y 12 de Octubre 2018.ParticipanUniversit&agrave\; degli Stu
 di di Napoli Federico IINew York Institute of TechnologyUniversit&eacute\;
  Paris Est Marne La Vall&eacute\;eP. Universidad Cat&oacute\;lica de Chile
 Climate change impacts are already visible today\, with extreme heat and p
 recipitation events increasingly growing in frequency and intensity worldw
 ide. Urban climate must be a key consideration in the planning and design 
 of contemporary cities. Climate resilient principles need thus to be integ
 rated in the design process as a knowledge area linked to architectural di
 sciplines.The issue of climate resilience in urban areas requires the deve
 lopment of innovative design methods that can handle the complexity of the
  information needed to guide sustainable urban regeneration and retrofitti
 ng strategies\, as well as to manage the technological and environmental s
 olutions in a multi-scale perspective. Cities represent in this sense the 
 main field of experimentation of innovative and climate-resilient design p
 rinciples and methods.The workshop goal is to explore integrated design st
 rategies for creating sustainable and resilient communities that can adapt
  and thrive in the changing global conditions\, meet carbon-reduction goal
 s\, provide new public spaces and facilities in relation to community prio
 rities\, by configuring or retrofitting compact and mixed-use eco-district
 s. The proposed design method is process-oriented and focuses on sequentia
 l and iterative steps bringing to projects&rsquo\; implementation through 
 a multi-disciplinary and multi-scale approach.Estudiantes UC_\nPostulacion
 es en Banner UC curso OPR de 5 cr&eacute\;ditos.\nNoticiasContacto:&nbsp\;
 redesarq@uc.cl&nbsp\;| +56 2 2354 7747www.arquitectura.uc.cl\n\n&nbsp\; ht
 tps://fadeu-old.urantiacos.cl/agenda/evento/1620-workshop-mase-mpur-climat
 e-resilient-urban-and-architectural-design
DTSTART:20180814T030000Z
LOCATION:Campus Lo Contador (El Comendador 1916\, Providencia\, Providencia
 \, Región Metropolitana\, Chile)
SUMMARY:Workshop MASE+MPUR: “Climate Resilient Urban and Architectural Desi
 gn”
URL:https://fadeu-old.urantiacos.cl/agenda/evento/1620-workshop-mase-mpur-c
 limate-resilient-urban-and-architectural-design
END:VEVENT
BEGIN:VEVENT
UID:20260420T173538UTC-4766TZWUva@https://fadeu-old.urantiacos.cl/
DTSTAMP:20260420T173538Z
DESCRIPTION:El lunes 13 de agosto se realizar&aacute\; el Conversatorio&nbs
 p\;La Ciudad para las personas&nbsp\;que contar&aacute\; con&nbsp\;el Pres
 idente del Senado\, Carlos Montes y con tres investigadores CEDEUS. Dicha 
 actividad es impulsada en conjunto por CEDEUS\, el Senado y la Biblioteca 
 del Congreso\, y busca acercar las investigaciones sobre ciudades chilenas
  a nuestros legisladores.&nbsp\;La ciudad para las personas&nbsp\;abordar&
 aacute\; las principales problem&aacute\;ticas que enfrentan las urbes chi
 lenas a la luz de la Nueva Agenda Urbana de la ONU emanada de la III confe
 rencia HABITAT realizada en Quito\, Ecuador en 2016.\nEn el marco de este 
 conversatorio se realizar&aacute\; el lanzamiento del libro &ldquo\;Camino
  a ciudades sustentables: Aportes desde la investigaci&oacute\;n a las pol
 &iacute\;ticas p&uacute\;blicas urbanas en Chile&rdquo\;\,&nbsp\;una compi
 laci&oacute\;n de 17 documentos que abordan distintas tem&aacute\;ticas de
  la Nueva Agenda Urbana de la ONU\, con su correspondiente bajada nacional
 \, escritos especialmente desde CEDEUS con el inter&eacute\;s de que el co
 nocimiento vaya m&aacute\;s all&aacute\; de la academia y pueda ser accesi
 ble para quienes requieren evidencias para la toma de decisiones.\nM&aacut
 e\;s info en&nbsp\;https://www.cedeus.cl/conversatorio-la-ciudad-para-las-
 personas/\nInscripciones en:&nbsp\;https://goo.gl/forms/lYffHylcz9MpToH13
 \n&nbsp\;\n https://fadeu-old.urantiacos.cl/agenda/evento/1633-conversator
 io-la-ciudad-para-las-personas
DTSTART:20180813T140000Z
DTEND:20180813T150000Z
LOCATION:Biblioteca del Congreso Nacional (Compañía 1172)
SUMMARY:Conversatorio La Ciudad para las personas
URL:https://fadeu-old.urantiacos.cl/agenda/evento/1633-conversatorio-la-ciu
 dad-para-las-personas
END:VEVENT
END:VCALENDAR
