BEGIN:VCALENDAR
VERSION:2.0
PRODID:-//https://fadeu-old.urantiacos.cl///NONSGML kigkonsult.se iCalcreator 2.10.15//
METHOD:PUBLISH
BEGIN:VEVENT
UID:20260419T204823UTC-2766VmvTVe@https://fadeu-old.urantiacos.cl/
DTSTAMP:20260419T204823Z
DESCRIPTION:Conferencia 'Beyond Buildings: Reimagining Architecture' que di
 ctar&aacute\; Aaron Betsky\, arquitecto de la Universidad de Yale\, presid
 ente de la Escuela de Arquitectura de Taliesin\, cr&iacute\;tico\, curador
  y autor de m&aacute\;s de una docena de libros sobre arte\, arquitectura 
 y dise&ntilde\;o.\n&nbsp\;\nBeyond Buildings: Reimagining Architecture [M&
 aacute\;s all&aacute\; de los edificios: reinventando la arquitectura] | A
 aron Betsky\nNo necesitamos m&aacute\;s edificios. Necesitamos reinventar\
 , reutilizar y revivir las estructuras que ya tenemos. La arquitectura no 
 debe ser una cuesti&oacute\;n de construcci&oacute\;n\, sino de cuestionam
 iento\, apertura y desestructuraci&oacute\;n. Hay una raz&oacute\;n ambien
 tal para esto: no podemos permitirnos desperdiciar recursos y tierras no r
 enovables para crear nuevos edificios. Tambi&eacute\;n tenemos que darnos 
 cuenta de que lo que nos hace sentir como en casa en el mundo moderno ya n
 o son solo estructuras que nos encarcelan\, sino m&aacute\;s bien esas im&
 aacute\;genes\, formas y espacios que nos permiten desempe&ntilde\;ar role
 s activos y cr&iacute\;ticos en nuestra sociedad. Esta conferencia mostrar
 &aacute\; algunos intentos recientes de dar sentido a nuestro mundo modern
 o y ofrecer respuestas que surjan de la disciplina y el conocimiento propi
 os de la arquitectura\, o que aborden esos problemas propios de la arquite
 ctura.\nAaron Betsky\nPresidente de la Escuela de Arquitectura de Taliesin
 . Cr&iacute\;tico de arte\, arquitectura y dise&ntilde\;o\, Betsky es auto
 r de m&aacute\;s de una docena de libros sobre esos temas\, incluida una p
 r&oacute\;xima investigaci&oacute\;n sobre modernismo en arquitectura y di
 se&ntilde\;o. Escribe un blog dos veces por semana para architectmagazine.
 com\, Beyond Buildings. Formado como arquitecto y en humanidades en la Uni
 versidad de Yale\, Betsky fue anteriormente director del Museo de Arte de 
 Cincinnati (2006-2014) y del Instituto de Arquitectura de los Pa&iacute\;s
 es Bajos (2001-2006)\, as&iacute\; como curador de arquitectura y dise&nti
 lde\;o en el Museo Arte Moderno de San Francisco (1995-2001). En 2008\, ta
 mbi&eacute\;n dirigi&oacute\; la XI Bienal Internacional de Arquitectura d
 e Venecia. Sus &uacute\;ltimos libros\,&nbsp\;Making It Modern&nbsp\;y&nbs
 p\;Architecture Matters\, se publicaron el a&ntilde\;o pasado.\nFecha_\nJu
 eves 12 de septiembre de 2019\, 19.00 h\n&nbsp\;\nLugar_Auditorio FADEUCam
 pus Lo ContadorEl Comendador 1916\, Providencia\n&nbsp\;\nOrganiza_\nEscue
 la de Arquitectura UC\n&nbsp\;\n\n&nbsp\;\nNoticiasContacto:&nbsp\;redesar
 q@uc.cl&nbsp\;| +56 2 2354 7747www.arquitectura.uc.cl https://fadeu-old.ur
 antiacos.cl/agenda/evento/1943-conferencia-beyond-buildings-reimagining-ar
 chitecture-aaron-betsky
DTSTART:20190912T220000Z
DTEND:20190912T230000Z
LOCATION:Auditorio FADEU (Auditorio FADEU)
SUMMARY:Conferencia 'Beyond Buildings: Reimagining Architecture' | Aaron Be
 tsky
URL:https://fadeu-old.urantiacos.cl/agenda/evento/1943-conferencia-beyond-b
 uildings-reimagining-architecture-aaron-betsky
END:VEVENT
BEGIN:VEVENT
UID:20260419T204823UTC-2775RBu2V3@https://fadeu-old.urantiacos.cl/
DTSTAMP:20260419T204823Z
DESCRIPTION:Est&aacute\;n cordialmente invitados a la tradicional Fonda Lo 
 Contador\, titulada 'La Ciudadana' y que este a&ntilde\;o se realizar&aacu
 te\; el jueves 12 de septiembre desde las 12:30 hrs\, en el patio de mader
 a.\n&nbsp\;\nEn esta oportunidad la fonda ha sido organizada por el Instit
 uto de Estudios Urbanos y Territoriales\, y contar&aacute\; con la present
 aci&oacute\;n de los grupos folkl&oacute\;rico Lo Contador y Grupo de Cuec
 a Urbana Santiago Nocturno\, adem&aacute\;s de&nbsp\; empanadas y vino.\n&
 nbsp\;\n\n&nbsp\; https://fadeu-old.urantiacos.cl/agenda/evento/1947-fonda
 -la-ciudadana
DTSTART:20190912T153000Z
DTEND:20190912T173000Z
LOCATION:Patio de madera\, Campus Lo Contador (El Comendador 1916\, Provide
 ncia\, Providencia\, Región Metropolitana\, Chile)
SUMMARY:Fonda La Ciudadana
URL:https://fadeu-old.urantiacos.cl/agenda/evento/1947-fonda-la-ciudadana
END:VEVENT
BEGIN:VEVENT
UID:20260419T204823UTC-2779Xlk0zK@https://fadeu-old.urantiacos.cl/
DTSTAMP:20260419T204823Z
DESCRIPTION:Charla:&nbsp\;Vitalidad Urbana: Barcelona y Santiago seg&uacute
 \;n Jane Jacobs\,&nbsp\;dictada por&nbsp\;Carme Miralles-Guasch\, profesor
 a visitante en el IEUT\,&nbsp\;Doctora en Geograf&iacute\;a y profesora ti
 tular de Geograf&iacute\;a humana en la Universidad Aut&oacute\;noma de Ba
 rcelona.\nLa charla se realizar&aacute\; el&nbsp\;jueves 12 de septiembre 
 a las 9:00 hrs.&nbsp\;en la Sala de Consejo del Instituto de Estudios Urba
 nos y Territoriales UC. El Comendador 1916\, Providencia.\nConfirmar inscr
 ipci&oacute\;n a Mirta Saldias al mail&nbsp\;msaldiasc@uc.cl\n https://fad
 eu-old.urantiacos.cl/agenda/evento/1945-charla-vitalidad-urbana-barcelona-
 y-santiago-segun-jane-jacobs
DTSTART:20190912T120000Z
DTEND:20190912T130000Z
LOCATION:Sala Consejo Instituto de Estudios Urbanos (El Comendador 1916\, P
 rovidencia\, Región Metropolitana\, Chile)
SUMMARY: Charla: 'Vitalidad Urbana: Barcelona y Santiago según Jane Jacobs'
URL:https://fadeu-old.urantiacos.cl/agenda/evento/1945-charla-vitalidad-urb
 ana-barcelona-y-santiago-segun-jane-jacobs
END:VEVENT
BEGIN:VEVENT
UID:20260419T204823UTC-2782zVWTVz@https://fadeu-old.urantiacos.cl/
DTSTAMP:20260419T204823Z
DESCRIPTION:Serie de Discusi&oacute\;n y cr&iacute\;tica de edificiosSesi&o
 acute\;n Especial | PATOLOG&Iacute\;AS\nContin&uacute\;a con la segunda ve
 rsi&oacute\;n del semestre el ciclo de discusi&oacute\;n y critica organiz
 ado por el Mag&iacute\;ster en Arquitectura UC. En esta ocasi&oacute\;n\, 
 en una sesi&oacute\;n especial\, la discusi&oacute\;n dar&aacute\; lugar a
 l lanzamiento del libro 'Patolog&iacute\;as Contempor&aacute\;neas' de Fra
 ncisco D&iacute\;az. La presentaci&oacute\;n inicial estar&aacute\; a carg
 o de su autor junto a Gonzalo Carrasco. Posteriormente se sumar&aacute\;n 
 a la discusi&oacute\;n el panel regular de profesores invitados y el p&uac
 ute\;blico.\nFecha_Martes 10 de septiembre de 2019\, 19.00 h.\nLugar_Audit
 orio FCV\, Campus Lo Contador. El Comendador 1936\, Providencia\nInvitan_M
 ag&iacute\;ster en Arquitectura UCArquitectura UC&nbsp\;&nbsp\;\n&nbsp\;\n
 &nbsp\;\nNoticiasContacto:&nbsp\;arq@uc.cl&nbsp\;| +56 2 2354 7747www.arqu
 itectura.uc.cl https://fadeu-old.urantiacos.cl/agenda/evento/1949-discusio
 n-y-critica-de-edificios-sesion-especial-lanzamiento-del-libro-patologias-
 contemporaneas
DTSTART:20190910T220000Z
DTEND:20190910T230000Z
LOCATION:Auditorio Fernando Castillo Velasco. Edificio ARQ (El Comendador 1
 936\, Providencia\, Región Metropolitana\, Chile)
SUMMARY:Discusión y crítica de edificios [sesión especial]: Lanzamiento del
  libro 'Patologías Contemporáneas'
URL:https://fadeu-old.urantiacos.cl/agenda/evento/1949-discusion-y-critica-
 de-edificios-sesion-especial-lanzamiento-del-libro-patologias-contemporane
 as
END:VEVENT
BEGIN:VEVENT
UID:20260419T204823UTC-2787VVp6iG@https://fadeu-old.urantiacos.cl/
DTSTAMP:20260419T204823Z
DESCRIPTION:\nEl Instituto de Estudios Urbanos y Territoriales realizar&aac
 ute\; la s&eacute\;ptima sesi&oacute\;n de la&nbsp\;Serie: Jornadas de Inv
 estigaci&oacute\;n en el Instituto - 2019.&nbsp\;En esta ocasi&oacute\;n l
 a investigadora post-doctoral\,&nbsp\;Elizabeth Zenteno\,&nbsp\;dictar&aac
 ute\; la charla:&nbsp\;La experiencia de habitar la ciudad para migrantes 
 latinoamericanos.&nbsp\;\nPr&aacute\;cticas y sentidos de apropiaci&oacute
 \;n del espacio urbano en Valpara&iacute\;so.\nLa actividad se realizar&aa
 cute\; el d&iacute\;a&nbsp\;martes 10 de septiembre a partir de las 13:00 
 h.&nbsp\;en el Sal&oacute\;n Sergio Larra&iacute\;n.&nbsp\;El Comendador 1
 916\, Providencia.\nCupos limitados e inscripciones&nbsp\;aqu&iacute\;.Se 
 compartir&aacute\; un almuerzo liviano con los asistentes\, previa inscrip
 ci&oacute\;n&nbsp\;hasta el lunes 9 de septiembre.\n\nOrganiza: Instituto 
 de Estudios Urbanos y Territoriales UC\n\n\n https://fadeu-old.urantiacos.
 cl/agenda/evento/1946-charla-la-experiencia-de-habitar-la-ciudad-para-migr
 antes-latinoamericanos-practicas-y-sentidos-de-apropiacion-del-espacio-urb
 ano-en-valparaiso
DTSTART:20190910T160000Z
DTEND:20190910T170000Z
LOCATION:Salón Sergio Larraín\, Campus Lo Contador ()
SUMMARY:Charla: La experiencia de habitar la ciudad para migrantes latinoam
 ericanos.  Prácticas y sentidos de apropiación del espacio urbano en Valpa
 raíso
URL:https://fadeu-old.urantiacos.cl/agenda/evento/1946-charla-la-experienci
 a-de-habitar-la-ciudad-para-migrantes-latinoamericanos-practicas-y-sentido
 s-de-apropiacion-del-espacio-urbano-en-valparaiso
END:VEVENT
END:VCALENDAR
