BEGIN:VCALENDAR
VERSION:2.0
PRODID:-//https://fadeu-old.urantiacos.cl///NONSGML kigkonsult.se iCalcreator 2.10.15//
METHOD:PUBLISH
BEGIN:VEVENT
UID:20260423T112108UTC-9710dfUvK1@https://fadeu-old.urantiacos.cl/
DTSTAMP:20260423T112108Z
DESCRIPTION:Jefe de programa:Bego&ntilde\;a Juli&aacute\;125 horas\nDescrip
 ci&oacute\;n:El diplomado entrega herramientas para abordar y desarrollar 
 proyectos interdisciplinarios que permitan a personas mayores y/o en situa
 ci&oacute\;n de discapacidad desenvolverse con mayor autonom&iacute\;a e i
 ndependencia.\nEste programa est&aacute\; hecho en conjunto entre la Escue
 la de Dise&ntilde\;o de la Facultad de Arquitectura\, Dise&ntilde\;o y Est
 udios Urbanos UC y la Carrera de Kinesiolog&iacute\;a de la Facultad de Me
 dicina\, UDA Ciencias de la Salud.\n&nbsp\;\n+ m&aacute\;s informaci&oacut
 e\;n aqu&iacute\;\n\n&nbsp\; https://fadeu-old.urantiacos.cl/agenda/evento
 /1109-nuevo-diplomado-en-innovacion-para-la-inclusion-desarrollo-de-soluci
 ones-para-personas-en-situacion-de-envejecimiento-y-discapacidad
DTSTART:20170922T030000Z
LOCATION:Escuela de Diseño UC\, Campus Lo Contador (El Comendador\, Provide
 ncia\, Providencia\, Región Metropolitana\, Chile)
SUMMARY:Nuevo - Diplomado en Innovación para la inclusión: desarrollo de so
 luciones para personas en situación de envejecimiento y discapacidad
URL:https://fadeu-old.urantiacos.cl/agenda/evento/1109-nuevo-diplomado-en-i
 nnovacion-para-la-inclusion-desarrollo-de-soluciones-para-personas-en-situ
 acion-de-envejecimiento-y-discapacidad
END:VEVENT
END:VCALENDAR
