BEGIN:VCALENDAR
VERSION:2.0
PRODID:-//https://fadeu-old.urantiacos.cl///NONSGML kigkonsult.se iCalcreator 2.10.15//
METHOD:PUBLISH
BEGIN:VEVENT
UID:20260419T191756UTC-4630vcZmnI@https://fadeu-old.urantiacos.cl/
DTSTAMP:20260419T191756Z
DESCRIPTION:El 03 de octubre se inaugura la&nbsp\;XXI Bienal de Arquitectur
 a y Urbanismo 'Feria Libre de Arquitectura'\, la que se centrar&aacute\; e
 n&nbsp\;&laquo\;lo com&uacute\;n y lo corriente&raquo\; y buscar&aacute\; 
 generar una instancia real de encuentro y di&aacute\;logo entre arquitecto
 s y ciudadan&iacute\;a. La bienal se desarrollar&aacute\;&nbsp\;en Iquique
 \, La Serena\, Santiago y Puerto Montt&nbsp\;hasta el 27 de octubre.\nLa E
 scuela de Arquitectura UC se har&aacute\; presente en la bienal a trav&eac
 ute\;s de la exhibici&oacute\;n 'Postales barriales: Lo extraordinario de 
 lo cotidiano'\, referida a relevar el debate sobre arquitectura\, densific
 aci&oacute\;n y regeneraci&oacute\;n de barrios en base a las investigacio
 nes del lote 9x18\, equipo curatorial integrado por los profesores Rodrigo
  Tapia\, Elke Schlack\, Rosanna Forray\, Jos&eacute\; Di Girolamo\, Cristi
 &aacute\;n Robertson\, Andrea Urbina\, Sebasti&aacute\;n Mu&ntilde\;oz\, F
 ernanda G&oacute\;mez y Tai Lin\, junto a las estudiantes Fernanda Urquiza
  y Laura Viada. Sumado a lo anterior\, la escuela organizar&aacute\;&nbsp\
 ;el 23 de octubre&nbsp\;junto al&nbsp\;Laboratorio 9x18&nbsp\;el seminario
 &nbsp\;'Regeneraci&oacute\;n Urbana: Miradas Cruzadas hacia la vivienda co
 laborativa'\, y participar&aacute\; a trav&eacute\;s de profesores y estud
 iantes ARQ UC en el&nbsp\; workshops &ldquo\;Espacio Com&uacute\;n: Estrat
 egias de recuperaci&oacute\;n y activaci&oacute\;n de nuevos espacios p&ua
 cute\;blicos barrio Matadero Franklin&rdquo\;\, del 04 al 12 de octubre.\n
 XXI Bienal de Arquitectura y Urbanismo 'Feria Libre de Arquitectura' | Lo 
 com&uacute\;n y lo corriente\nDurante las &uacute\;ltimas d&eacute\;cadas 
 se ha puesto en valor la arquitectura de grandes obras y holgados presupue
 stos\, provocando una creciente reacci&oacute\;n disciplinar enfocada en a
 quella arquitectura para la pobreza. Esta reacci&oacute\;n se manifest&oac
 ute\; expl&iacute\;citamente en publicaciones\, bienales y ciclos acad&eac
 ute\;micos.\nSin embargo\, el constante desarrollo econ&oacute\;mico y dem
 ocr&aacute\;tico en Chile\, ha reducido la pobreza de aproximadamente 40% 
 a fines de la dictadura a un 11% en la actualidad\, situaci&oacute\;n que 
 masifica la presencia de grupos sociales comunes y corrientes con un conte
 xto sociocultural que no es lo suficientemente llamativo para los medios n
 i intelectuales\, pero s&iacute\; para el poder pol&iacute\;tico y el merc
 ado\, dada su amplia masa traducida en votos y capacidad de compra.\nDicho
  segmento social no ha sido de inter&eacute\;s para la discusi&oacute\;n d
 isciplinar\, no cuenta con los recursos para grandes obras\, ni tampoco\, 
 con la brutal est&eacute\;tica de la pobreza. Este grupo ha estado despoja
 do de la arquitectura reconocida y premiada ya que\, b&aacute\;sicamente\,
  ven satisfechas sus necesidades de habitaci&oacute\;n por medio de la man
 o invisible del mercado\, de acuerdo a lo definido por el Estado a trav&ea
 cute\;s de subsidios complementarios al esfuerzo y endeudamiento individua
 l.\n&iquest\;Qu&eacute\; pasa con la arquitectura&nbsp\;com&uacute\;n y co
 rriente?&nbsp\;&iquest\;Qui&eacute\;n produce arquitectura para&nbsp\;los 
 ni tan ricos ni tan pobres?&nbsp\;&iquest\;Qu&eacute\; nivel de participac
 i&oacute\;n tienen los arquitectos&nbsp\;en las necesidades de la gente co
 m&uacute\;n y corriente?\nSon preguntas que esta Bienal intenta responder 
 y utilizar de sustento para indagar en aquella arquitectura que necesitamo
 s para cubrir las demandas de una nueva geograf&iacute\;a social\, la de u
 n pa&iacute\;s al borde del desarrollo con necesidades maduras en torno a 
 la calidad de vida.\nFecha inauguraci&oacute\;n_\nJueves 03 de octubre de 
 2019\, 18.30 h\n&nbsp\;\n&nbsp\;\nLugar inauguraci&oacute\;n_\nGalp&oacute
 \;n Matadero Franklin\, B&iacute\;o B&iacute\;o 898\, Santiago\n&nbsp\;\nR
 evisa el programa completo de la bienal en este&nbsp\;link\nMayor informac
 i&oacute\;n en este&nbsp\;link\n\n\n\n\nNoticias\nContacto:&nbsp\;redesarq
 @uc.cl&nbsp\;| +56 2 2354 7747www.arquitectura.uc.cl https://fadeu-old.ura
 ntiacos.cl/agenda/evento/1979-xxi-bienal-de-arquitectura-y-urbanismo-feria
 -libre-de-arquitectura
DTSTART:20191003T213000Z
DTEND:20191003T233000Z
LOCATION:Galpón Matadero Franklin (Bío Bío 898)
SUMMARY:XXI Bienal de Arquitectura y Urbanismo 'Feria Libre de Arquitectura
 '
URL:https://fadeu-old.urantiacos.cl/agenda/evento/1979-xxi-bienal-de-arquit
 ectura-y-urbanismo-feria-libre-de-arquitectura
END:VEVENT
BEGIN:VEVENT
UID:20260419T191756UTC-4643V2vNC8@https://fadeu-old.urantiacos.cl/
DTSTAMP:20260419T191756Z
DESCRIPTION:En el marco del ciclo de Charlas Magistrales que se dictar&aacu
 te\;n en la Expo Futuro Novato\,&nbsp\;la docente y Subdirectora de Invest
 igaci&oacute\;n\, Transferencia y Desarrollo de Dise&ntilde\;o UC\, Paula 
 Wuth\, dictar&aacute\; la charla Dise&ntilde\;o e Innovaci&oacute\;n\, bas
 ada en su investigaci&oacute\;n en relaci&oacute\;n a diferentes metodolog
 &iacute\;as de dise&ntilde\;o.\nPaula Wuth es Ingeniera Comercial y Dise&n
 tilde\;adora UC. Acad&eacute\;mico Dise&ntilde\;o UC\; Profesora del curso
  Design Bootcamp. Miembro del Laboratorio de Innovaci&oacute\;n P&uacute\;
 blica.\n&nbsp\;\n https://fadeu-old.urantiacos.cl/agenda/evento/1971-disen
 o-e-innovacion
DTSTART:20191003T170000Z
DTEND:20191003T180000Z
LOCATION:Carpa\, Campus San Joaquín (Av. Vicuña Mackenna 4860\, Macul)
SUMMARY:Diseño e Innovación
URL:https://fadeu-old.urantiacos.cl/agenda/evento/1971-diseno-e-innovacion
END:VEVENT
BEGIN:VEVENT
UID:20260419T191756UTC-4646VUAMw4@https://fadeu-old.urantiacos.cl/
DTSTAMP:20260419T191756Z
DESCRIPTION:El pr&oacute\;ximo jueves 3 de octubre\, a las 13:00 horas\, se
  realizar&aacute\; el Seminario 'Repensando el Barrio:&nbsp\;Imaginarios\,
 &nbsp\;habitantes&nbsp\;y escalas'.\nEn esta actividad exponen&nbsp\;los a
 cad&eacute\;micos del&nbsp\;N&uacute\;cleo de Investigaci&oacute\;n Barrio
  y Ciudad (NuBAC).&nbsp\;Comentan&nbsp\;Pedro Bannen&nbsp\;(Instituto de E
 studios Urbanos y Territoriales UC)\,&nbsp\;Mar&iacute\;a Luisa M&eacute\;
 ndez&nbsp\;(Instituto de Estudios Urbanos y Territoriales UC)&nbsp\;y&nbsp
 \;Francisca P&eacute\;rez&nbsp\;(Universidad Academia de Humanismo Cristia
 no).\nInscripciones con cupos limitados&nbsp\;aqu&iacute\;.\n https://fade
 u-old.urantiacos.cl/agenda/evento/1967-seminario-repensando-el-barrio-imag
 inarios-habitantes-y-escalas
DTSTART:20191003T160000Z
DTEND:20191003T170000Z
LOCATION:Salón Sergio Larraín\, Campus Lo Contador ()
SUMMARY:Seminario: Repensando el Barrio: Imaginarios\, habitantes y escalas
URL:https://fadeu-old.urantiacos.cl/agenda/evento/1967-seminario-repensando
 -el-barrio-imaginarios-habitantes-y-escalas
END:VEVENT
BEGIN:VEVENT
UID:20260419T191756UTC-4650NiZbAt@https://fadeu-old.urantiacos.cl/
DTSTAMP:20260419T191756Z
DESCRIPTION:\nSesi&oacute\;n&nbsp\;El Jard&iacute\;n Real&nbsp\;del&nbsp\;c
 iclo&nbsp\;Proyecciones desde el paisaje&nbsp\;desarrollado en el marco de
 l curso de pregrado&nbsp\;Ciudad y Paisaje III\,&nbsp\;dictado&nbsp\;por l
 as profesoras Romy Hecht y Tatiana Carbonell\,&nbsp\;ocasi&oacute\;n en la
  que se proyectar&aacute\;&nbsp\;Last Year at Marienbad&nbsp\;de Alain Res
 nais (Cineriz\, 1961).\n\n\n\nEl paisaje es absolutamente inseparable de l
 a idea de su representaci&oacute\;n\, donde aquello que se formula se proy
 ecta desde una cultura\, idea e historia. El ciclo de cine&nbsp\;Proyeccio
 nes desde el paisaje\,&nbsp\;exhibe una serie de filmes que proponen punto
 s de vista particulares para construir el paisaje\, que ilustran los conce
 ptos o voluntades tanto de quienes los gestan como de quienes observan dic
 ha proyecci&oacute\;n.&nbsp\;Podr&iacute\;amos pensar entonces que\, en ri
 gor\, en una pel&iacute\;cula lo que vemos no es sino la decisi&oacute\;n 
 de un encuadre.\nProyecciones desde el paisaje&nbsp\;es una invitaci&oacut
 e\;n abierta a dialogar en un contrapunto desde la mirada del paisaje a la
  c&aacute\;mara del director.&nbsp\;\nLas proyecciones del segundo semestr
 e de 2019 son:\nAgosto 14&nbsp\; Paisaje y Ecolog&iacute\;aSurire&nbsp\;&m
 iddot\; Bettina Perut\, Iv&aacute\;n Osnovikoff (Taskovski Films\, Dirk Ma
 nthey Film\, 2015)Agosto 21&nbsp\;Paisaje e InfraestructuraDeliverance&nbs
 p\;&middot\; John Boorman (Warner Bros\,1972)Agosto 28&nbsp\;Paisaje y Mem
 oriaFlores&nbsp\;&middot\; Jorge J&aacute\;come (2017)\, fragmentosOctubre
  02&nbsp\;El Jard&iacute\;n RealLast Year at Marienbad&nbsp\;&middot\; Ala
 in Resnais (Cineriz\, 1961)Octubre 23&nbsp\;&iquest\;Naturaleza o Paisaje?
 Gerry&nbsp\;&middot\; Gus Van Sant (THINKFilm\, 2002)Octubre 30&nbsp\;Pulm
 ones y Otros Dispositivos VerdesBlow Up&nbsp\;&middot\; Michelangelo Anton
 ioni (MGM\, 1966)Fechas_2&ordm\; semestre 2019 | Mi&eacute\;rcoles 13.20 a
  15.20 hLugar_Sal&oacute\;n Sergio Larra&iacute\;n Garc&iacute\;a MorenoCa
 mpus Lo ContadorEl Comendador 1936\, ProvidenciaOrganiza_Escuela de Arquit
 ectura UC&nbsp\;NoticiasContacto:&nbsp\;redesarq@uc.cl&nbsp\;| +56 2 2354 
 7747www.arquitectura.uc.cl\n\n&nbsp\; https://fadeu-old.urantiacos.cl/agen
 da/evento/1955-ciclo-proyecciones-desde-el-paisaje-el-jardin-real
DTSTART:20191002T162000Z
DTEND:20191002T172000Z
LOCATION:Salón Sergio Larraín\, Campus Lo Contador ()
SUMMARY:Ciclo Proyecciones desde el paisaje | El Jardín Real
URL:https://fadeu-old.urantiacos.cl/agenda/evento/1955-ciclo-proyecciones-d
 esde-el-paisaje-el-jardin-real
END:VEVENT
BEGIN:VEVENT
UID:20260419T191756UTC-4657ThO9lE@https://fadeu-old.urantiacos.cl/
DTSTAMP:20260419T191756Z
DESCRIPTION:Conferencia 'house\,&nbsp\;shed\,&nbsp\;palace' | Tom de Paor\n
 &nbsp\;\nPresentaci&oacute\;n del arquitecto irland&eacute\;s Tom de Paor\
 , invitado por el Magister en Arquitectura UC a dirigir el segundo Taller 
 de Especialidad TES MARQ\, y a dictar una charla abierta presentando su tr
 abajo\, t&iacute\;tulada 'house\, shed\, palace'.\n&nbsp\;\nTom de Paor\nA
 rquitecto del University College Dublin y Shortt Memorial Prize 1991. Fund
 ador de la reconocida oficina de arquitectura&nbsp\;dePaor.&nbsp\;Nombrado
  Building Design Young Architect en 2003\, es miembro de Aosd&aacute\;na\,
  Fellow del Royal Institute of Architects de Irlanda e International Fello
 w de la RIBA\, y&nbsp\;cr&iacute\;tico de dise&ntilde\;o en Harvard Gradua
 te School of Design.&nbsp\;Dicta conferencias y participa de jurado intern
 acionalmente y ha ense&ntilde\;ado en el University College Dublin y en la
  Architectural Association en Londres. Desde el pabell&oacute\;n inaugural
  de Irlanda en el a&ntilde\;o 2000\, ha participado de la Bienal de Arquit
 ectura de Venecia en 4 ocasiones.\nFecha_\n01 de octubre de 2019\, 19.00 h
 \n&nbsp\;\nLugar_Auditorio Fernando Castillo VelascoCampus Lo ContadorEl C
 omendador 1936\, Providencia\n&nbsp\;\nOrganiza_\nMag&iacute\;ster en Arqu
 itectura UC\nEscuela de Arquitectura UC\n&nbsp\;\n\n&nbsp\;\nNoticiasConta
 cto:&nbsp\;redesarq@uc.cl&nbsp\;| +56 2 2354 7747www.arquitectura.uc.cl ht
 tps://fadeu-old.urantiacos.cl/agenda/evento/1981-conferencia-de-tom-de-pao
 r-marq
DTSTART:20191001T220000Z
DTEND:20191001T230000Z
LOCATION:Auditorio Fernando Castillo Velasco. Edificio ARQ (El Comendador 1
 936\, Providencia\, Región Metropolitana\, Chile)
SUMMARY:Conferencia de Tom de Paor | MARQ
URL:https://fadeu-old.urantiacos.cl/agenda/evento/1981-conferencia-de-tom-d
 e-paor-marq
END:VEVENT
BEGIN:VEVENT
UID:20260419T191756UTC-4663IdRvoA@https://fadeu-old.urantiacos.cl/
DTSTAMP:20260419T191756Z
DESCRIPTION:En el marco de Innovaci&oacute\;n 2050\,&nbsp\;Dise&ntilde\;o&n
 bsp\;UC est&aacute\; participando en el Seminario&nbsp\;UXLAT\, un evento 
 desarrollado este&nbsp\;1 de octubre&nbsp\;en el marco de Innovaci&oacute\
 ;n 2050 y organizado por UXPA. Nombres como&nbsp\;Daniel Torres Burriel\, 
 Jean Fox o Giles Harrison&nbsp\;hablar&aacute\;n de&nbsp\;las &uacute\;lti
 mas tendencias de UX en charlas abiertas\, adem&aacute\;s en Lo Contador h
 abr&aacute\;n dos talleres a cargo de&nbsp\;Luis Carlos Aceves&nbsp\;y&nbs
 p\;Lauren Schaefer.&nbsp\;\n&nbsp\;\n&iquest\;Cu&aacute\;ndo?_ Martes 1 de
  octubre_15.00 horas_ Sal&oacute\;n Sergio Larra&iacute\;n_&nbsp\;UC Campu
 s Lo Contador&nbsp\;(Av. El Comendador 1916\, Providencia\n\nInscripciones
  aqu&iacute\;.&nbsp\;\nEste taller ser&aacute\; completamente en ingl&eacu
 te\;s.\n&nbsp\;\n\n https://fadeu-old.urantiacos.cl/agenda/evento/1969-sem
 inario-uxlat
DTSTART:20191001T180000Z
DTEND:20191001T190000Z
LOCATION:Salón Sergio Larraín\, Campus Lo Contador ()
SUMMARY:SEMINARIO UXLAT
URL:https://fadeu-old.urantiacos.cl/agenda/evento/1969-seminario-uxlat
END:VEVENT
BEGIN:VEVENT
UID:20260419T191756UTC-4666JvDIIF@https://fadeu-old.urantiacos.cl/
DTSTAMP:20260419T191756Z
DESCRIPTION:El curso se organiza en base a una serie de cuatro conferencias
  dictadas por el arquitecto Carlos Eduardo Comas\, orientadas a reflexiona
 r sobre el rol de la arquitectura moderna en Brasil y su aporte internacio
 nal.&nbsp\; Comprender&aacute\; una clase sobre investigaci&oacute\;n y pr
 oyecto y tres sobre obras\, las cuales ejemplifican problemas de la arquit
 ectura y el dise&ntilde\;o urbano. Es un curso de extensi&oacute\;n\, asoc
 iado a los cursos de los profesores Horacio Torrent y Hugo Mondrag&oacute\
 ;n\, y en el marco del Mag&iacute\;ster en Arquitectura.\nCharla 1: Invest
 igaci&oacute\;n y proyecto en arquitectura.\nCharla 2. Palacio. Ministerio
  de la Educaci&oacute\;n y Salud P&uacute\;blica.\, R&iacute\;o de Janeiro
 . 1936-45. Arquitectos Lucio Costa\, Oscar Niemeyer\, Alfonso Reidy\, Jorg
 e Moreira\, Carlos Leao\, Ernani&nbsp\; Vasconcellos.&nbsp\;\n https://fad
 eu-old.urantiacos.cl/agenda/evento/1965-curso-arquitectura-moderna-en-bras
 il-investigacion-y-proyecto
DTSTART:20190930T210000Z
DTEND:20190930T230000Z
LOCATION:Sala Doctorado (El Comendador 1970\, Providencia\, Región Metropol
 itana\, Chile)
SUMMARY:Curso: Arquitectura moderna en Brasil. Investigación y Proyecto.
URL:https://fadeu-old.urantiacos.cl/agenda/evento/1965-curso-arquitectura-m
 oderna-en-brasil-investigacion-y-proyecto
END:VEVENT
END:VCALENDAR
