BEGIN:VCALENDAR
VERSION:2.0
PRODID:-//https://fadeu-old.urantiacos.cl///NONSGML kigkonsult.se iCalcreator 2.10.15//
METHOD:PUBLISH
BEGIN:VEVENT
UID:20260423T101201UTC-28983egtGb@https://fadeu-old.urantiacos.cl/
DTSTAMP:20260423T101201Z
DESCRIPTION:MADA UC te invita a participar de esta charla + taller familiar
  donde se expondr&aacute\; sobre el e-waste o residuo electr&oacute\;nico.
  Adem&aacute\;s\, veremos cu&aacute\;les son sus causas\, consecuencias y 
 algunos ejemplos de iniciativas innovadoras para solucionar esta problem&a
 acute\;tica.\nLuego\, te invitamos a fabricar un s&uacute\;per h&eacute\;r
 oe m&oacute\;vil\, con e-waste: PET\, papel\, piezas cortadas con l&aacute
 \;ser\, leds\, y un circuito electr&oacute\;nico en papel\, entre otros\, 
 que le permitir&aacute\; realizar movimientos y dibujar de manera aleatori
 a en cualquier superficie.Cu&aacute\;ndo_7 octubreHora_ 16:00 a 18:00 hora
 sLugar_Sala MADAInscripciones aqu&iacute\;.&nbsp\;\n\n&nbsp\; https://fade
 u-old.urantiacos.cl/agenda/evento/1271-charla-taller-familiar-mada
DTSTART:20171007T190000Z
DTEND:20171007T210000Z
LOCATION:Sala Mada\, Lo Contador (Los Navegantes 1919\, Providencia\, Regió
 n Metropolitana\, Chile)
SUMMARY:Charla + Taller Familiar MADA
URL:https://fadeu-old.urantiacos.cl/agenda/evento/1271-charla-taller-famili
 ar-mada
END:VEVENT
BEGIN:VEVENT
UID:20260423T101201UTC-2908xLIa2x@https://fadeu-old.urantiacos.cl/
DTSTAMP:20260423T101201Z
DESCRIPTION:El pr&oacute\;ximo Jueves 5 de octubre\, de 16:00 a 18:00 horas
 \, al seminario 'Innovando a trav&eacute\;s del Color: Tecnolog&iacute\;a 
 y Gesti&oacute\;n'\, que contar&aacute\; con la participaci&oacute\;n de D
 r. Renzo Shamey\, profesor de Ciencia y Tecnolog&iacute\;a del Color y esp
 ecialista en Comunicaci&oacute\;n de Color en Retail de North Carolina Sta
 te University y Ann Laidlaw consultora de ACL color consulting\, especiali
 sta en manejo de color en Supply Chain.\nAdem&aacute\;s\, el d&iacute\;a v
 iernes 6 de octubre\, de 9:00 a 13:00 se realizar&aacute\;n 4 workshops re
 lacionados a la gesti&oacute\;n del color donde los participantes podr&aac
 ute\;n elegir una tem&aacute\;tica de su inter&eacute\;s .\nWorkshop 1: Ev
 aluaci&oacute\;n Visual de Color (Dr. Renzo Shamey)Workshop 2: Evaluaci&oa
 cute\;n Instrumental de Color (Ann Laidlaw)Workshop 3: Iluminaci&oacute\;n
  (Douglas Leonard)Workshop 4: Desarrollo de Paletas de Color (Paz Cox)\nLa
  actividad del Jueves se realizar&aacute\; en Auditorio Principaldel Centr
 o de Innovaci&oacute\;n UC. Av. Vicu&ntilde\;a Mackenna 4860\, Macul.La ac
 tividad del Viernes se realizar&aacute\; en el Tercer Piso delEdificio Ori
 ente (Ex-arte) del Campus Lo Contador UC.Inscripciones en el siguiente lin
 k :\n https://fadeu-old.urantiacos.cl/agenda/evento/1291-seminario-innovan
 do-a-traves-de-color-tecnologia-y-gestion
DTSTART:20171005T190000Z
DTEND:20171006T210000Z
LOCATION:Auditorio Centro de Innovación\, 1 piso (Av. Vicuña Mackenna 4860\
 , Macul\, La Florida\, Región Metropolitana\, Chile)
SUMMARY:Seminario 'Innovando a través de Color. Tecnología y Gestión'
URL:https://fadeu-old.urantiacos.cl/agenda/evento/1291-seminario-innovando-
 a-traves-de-color-tecnologia-y-gestion
END:VEVENT
BEGIN:VEVENT
UID:20260423T101201UTC-2918DVvFNF@https://fadeu-old.urantiacos.cl/
DTSTAMP:20260423T101201Z
DESCRIPTION:El trabajo de la destacada oficina paulista METRO Arquitectos s
 er&aacute\; presentada por su socio fundador y director Martin Corullon\, 
 quien ha sido invitado por el MArq a dirigir uno de los workshops del Tall
 er de Especialidad 2017. La conferencia\, abierta a todo p&uacute\;blico\,
  se realizar&aacute\; en el Auditorio Fernando Castillo Velasco el Mi&eacu
 te\;rcoles 4 de octubre a las 18:30 hrs.\nMartin Corullon es Arquitecto (2
 000) por la Universidad de Sao Paulo\, Brasil\, adem&aacute\;s de Mag&iacu
 te\;ster en Arquitectura y Urbanismo (2012) y candidato a Doctor por la mi
 sma Universidad. Ha desarrollado desde 1994 trabajos en conjunto con Paulo
  Mendes da Rocha (Pritzker 2006)\, y formado parte de la oficina Foster + 
 Partners entre 2008 y 2009.\nEs socio fundador y director\, junto con Gust
 avo Cedroni y Marina Ioshii\, de la oficina METRO Arquitetos (2000)\, con 
 sede en Sao Paulo. Su obra abarca una gran variedad de proyectos\, desde e
 l dise&ntilde\;o urbano\, arquitectura residencial\, infraestructura p&uac
 ute\;blica hasta instalaciones art&iacute\;sticas. Destacan proyectos como
  el Refettorio Gastromotiva (Rio de Janeiro\, 2016)\, la Ladera de Barroqu
 inha (Salvador de Bah&iacute\;a\, 2013)\, el Museo de Chocolate Nestle (Sa
 o Paulo\, 2011)\, entre otros.\nFecha_Mi&eacute\;rcoles 4 de octubre de 20
 17. 18:30 hrs\nLugar_Auditorio Fernando Castillo Velasco\, Campus Lo Conta
 dor. El Comendador 1936\, 4&deg\; piso. Providencia\nInvitan_MARQ UCArquit
 ectura UC\n&nbsp\;\n https://fadeu-old.urantiacos.cl/agenda/evento/1289-ch
 arla-magistral-metro-arquitectos
DTSTART:20171004T213000Z
DTEND:20171004T223000Z
LOCATION:Auditorio Fernando Castillo Velasco. Edificio ARQ (El Comendador 1
 936\, Providencia\, Región Metropolitana\, Chile)
SUMMARY:Charla Magistral Metro Arquitectos
URL:https://fadeu-old.urantiacos.cl/agenda/evento/1289-charla-magistral-met
 ro-arquitectos
END:VEVENT
BEGIN:VEVENT
UID:20260423T101201UTC-2927Mxn9Av@https://fadeu-old.urantiacos.cl/
DTSTAMP:20260423T101201Z
DESCRIPTION:Inauguraci&oacute\;n de la exhibici&oacute\;n 'La Calle de los 
 Estudiantes - Plan Maestro de Campus San Joaqu&iacute\;n'. Esta muestra fo
 rma parte del cat&aacute\;logo abierto Fondo Documental Germ&aacute\;n Bra
 ndes que amplia el alcance del patrimonio &uacute\;nico que administra\, d
 ifunde y preserva el Archivo de Originales de la Facultad de Arquitectura\
 , Dise&ntilde\;o y Estudios Urbanos.\nLa ceremonia de inauguraci&oacute\;n
  se realizar&aacute\; el mi&eacute\;rcoles 4 de octubre a las 13:00 horas\
 , en el hall del segundo piso de la Biblioteca de San Joaqu&iacute\;n.\n h
 ttps://fadeu-old.urantiacos.cl/agenda/evento/1287-inauguracion-la-calle-de
 -los-estudiantes-plan-maestro-campus-san-joaquin-uc
DTSTART:20171004T160000Z
DTEND:20171004T170000Z
LOCATION:Hall del segundo piso de la Biblioteca de San Joaquín (Av. Vicuña 
 Mackenna 4860\, Macul\, La Florida\, Región Metropolitana\, Chile)
SUMMARY:Inauguración “La Calle de los Estudiantes - Plan Maestro Campus San
  Joaquín UC'
URL:https://fadeu-old.urantiacos.cl/agenda/evento/1287-inauguracion-la-call
 e-de-los-estudiantes-plan-maestro-campus-san-joaquin-uc
END:VEVENT
BEGIN:VEVENT
UID:20260423T101201UTC-29324NiVws@https://fadeu-old.urantiacos.cl/
DTSTAMP:20260423T101201Z
DESCRIPTION:&nbsp\;\nTeresa Cremisi\, que desarroll&oacute\; su carrera dur
 ante 25 a&ntilde\;os como editora para peri&oacute\;dicos y casas editoria
 les como La Stampa\, Editi&oacute\;ns Gallimard\, Groupe Flammarion y L'es
 presso entre otros\, publica en 2015 el libro La Triomfant con el que logr
 a el premio el Premi Mediterrani\, en su debut literario.\nLa editora y es
 critora ser&aacute\; la segunda invitada para este segundo semestre 2017 d
 el ciclo la Ciudad y Las Palabras. Su conferencia es abierta a todo p&uacu
 te\;blico\, previa inscripici&oacute\;n a lvillarr(at)uc.cl\nFecha_Martes 
 03 de Octubre de 2017\, 18.30 hrs.\nLugar_Sal&oacute\;n Sergio Larra&iacut
 e\;n\, Campus Lo Contador. El Comendador 1936. Providencia\nInvitan_Doctor
 ado en Arquitectura y Estudios Urbanos UC\nM&aacute\;s informaci&oacute\;n
  sobre Teresa Cremisi aqu&iacute\;. https://fadeu-old.urantiacos.cl/agenda
 /evento/1253-la-ciudad-y-las-palabras
DTSTART:20171003T213000Z
DTEND:20171003T223000Z
LOCATION:Salón Sergio Larraín\, Campus Lo Contador ()
SUMMARY:La Ciudad y las Palabras
URL:https://fadeu-old.urantiacos.cl/agenda/evento/1253-la-ciudad-y-las-pala
 bras
END:VEVENT
BEGIN:VEVENT
UID:20260423T101201UTC-2938e2wuzP@https://fadeu-old.urantiacos.cl/
DTSTAMP:20260423T101201Z
DESCRIPTION:Tenemos el honor de invitarlos al Debate Urbano que se realizar
 &aacute\; entre asesores de los candidatos presidenciales: Vivienda\, Barr
 io y Ciudad: programas de Gobierno para Chile 2018 - 2022. La invitaci&oac
 ute\;n es para el d&iacute\;a martes 03 de octubre a las 18:30 en el Audit
 orio FADEU\, Campus Lo Contador UC. El Comendador 1916\, Providencia.\nEl 
 debate ser&aacute\; moderado por Manuel Valencia\, Periodista &aacute\;rea
  ciudad El Mercurio\, y participar&aacute\;n:\nBeatriz Stager por Marco En
 r&iacute\;quez-Ominami\nClemente P&eacute\;rez por Carolina Goic\nGenaro C
 uadros por Alejandro Guiller\nManuel Jos&eacute\; Covarrubias por Jos&eacu
 te\; Antonio Kast\nPilar Gim&eacute\;nez por Sebasti&aacute\;n Pi&ntilde\;
 era\nErnesto L&oacute\;pez por Beatriz S&aacute\;nchez\nLos cupos son limi
 tados y las inscripciones se realizan al mail inscripcionesieut@uc.cl\nORG
 ANIZAInstituto de Estudios Urbanos y Territoriales UCCentro de Desarrollo 
 Urbano Sustentable - CEDEUS\nCOLABORACentro de Estudiantes de Arquitectura
  UC - locusCentro de Estudiantes de Planificaci&oacute\;n Urbana y Estudio
 s Territoriales UC - CEPUET\n&nbsp\;\n https://fadeu-old.urantiacos.cl/age
 nda/evento/1265-debate-urbano-uc-asesores-candidatos-presidenciales-vivien
 da-barrio-y-ciudad-programas-de-gobierno-para-chile-2018-2022
DTSTART:20171003T213000Z
DTEND:20171003T225200Z
LOCATION:Auditorio FADEU\, Campus Lo Contador PUC (El Comendador 1916\, Pro
 videncia\, Providencia\, Región Metropolitana\, Chile)
SUMMARY:Debate Urbano UC | ASESORES CANDIDATOS PRESIDENCIALES | Vivienda\, 
 Barrio y Ciudad: programas de Gobierno para Chile 2018 - 2022
URL:https://fadeu-old.urantiacos.cl/agenda/evento/1265-debate-urbano-uc-ase
 sores-candidatos-presidenciales-vivienda-barrio-y-ciudad-programas-de-gobi
 erno-para-chile-2018-2022
END:VEVENT
BEGIN:VEVENT
UID:20260423T101201UTC-2949sp0aH8@https://fadeu-old.urantiacos.cl/
DTSTAMP:20260423T101201Z
DESCRIPTION:Topograf&iacute\;a\, entre otras cosasConferencia Aquiles Gonz&
 aacute\;lez\nNo siempre somos conscientes que la arquitectura se situar&aa
 cute\; siempre sobre un l&iacute\;nea curva\, que no es otra que aquella d
 e nuestro planeta. Todo es una cuesti&oacute\;n de escala. La l&iacute\;ne
 a horizontal es una abstracci&oacute\;n que hemos incorporado a la arquite
 ctura. La horizontalidad no existe en la naturaleza. Siempre construimos s
 obre una colina\, a veces muy sutil que la hace imperceptible. La topograf
 &iacute\;a se ha transformado en la disciplina que estudia este cambio de 
 niveles de la naturaleza. Graf&iacute\;a del topos: lugar. Pues este aspec
 to es sustancial en el dise&ntilde\;o de la arquitectura. Es la referencia
  central que relaciona el dise&ntilde\;o de un edificio con el paisaje. Su
 cede algo similar con el espacio p&uacute\;blico. Esto es lo que se propon
 e revisar desde un punto de vista del proyecto arquitect&oacute\;nico y co
 mo esa comprensi&oacute\;n ha evolucionado en los &uacute\;ltimos a&ntilde
 \;os.\nAquiles Gonz&aacute\;lez es profesor titular del Departamento de Pr
 oyectos Arquitect&oacute\;nicos de la ETSAB-UPC. Dicta los cursos curso de
  Espacio P&uacute\;blico/Dise&ntilde\;o Urbano y Arquitectura\, Teor&iacut
 e\;a y Cr&iacute\;tica. Adem&aacute\;s dicta el curso &ldquo\;Design Crite
 ria&rdquo\; donde explica a partir de la experiencia de la Municipalidad d
 e Barcelona\, c&oacute\;mo manejar todos los elementos que participan en e
 l espacio urbano\, identificando los mecanismos que los califican. Su tesi
 s doctoral &ldquo\;La evoluci&oacute\;n de la fachada en el Palacio Renace
 ntista Italiano&rdquo\; fue galardonada por la Comisi&oacute\;n de Patrimo
 nio Arquitect&oacute\;nico de la Asociaci&oacute\;n Catal&aacute\;n de Arq
 uitectos. Adem&aacute\;s fue Director del Mag&iacute\;ster de La Gran Esca
 la de la Universidad Polit&eacute\;cnica de Catalu&ntilde\;a entre 1996-20
 09.\nFecha_Martes 03 de Octubre\, 13.00 hrs\nLugar_Auditorio Fernando Cast
 illo Velasco. El Comendador 1936\, 4&deg\; piso. Providencia\nInvitan_Doct
 orado de Arquitectura y Estudios urbanosMagister en PatrimonioMagister en 
 Proyecto Urbano\n&nbsp\;\n https://fadeu-old.urantiacos.cl/agenda/evento/1
 285-charla-magistral-aquiles-gonzalez
DTSTART:20171003T160000Z
DTEND:20171003T170000Z
LOCATION:Auditorio Fernando Castillo Velasco. Edificio ARQ (El Comendador 1
 936\, Providencia\, Región Metropolitana\, Chile)
SUMMARY:Charla Magistral Aquiles González
URL:https://fadeu-old.urantiacos.cl/agenda/evento/1285-charla-magistral-aqu
 iles-gonzalez
END:VEVENT
BEGIN:VEVENT
UID:20260423T101201UTC-2963dKtEVj@https://fadeu-old.urantiacos.cl/
DTSTAMP:20260423T101201Z
DESCRIPTION:Jefe de programa:Isabel Miranda Mart&iacute\;nez39 horas\nDescr
 ipci&oacute\;n:Este curso entrega las herramientas te&oacute\;rico-pr&aacu
 te\;cticas b&aacute\;sicas para enfrentar un proyecto de dise&ntilde\;o de
  calzado desde una perspectiva funcional y conceptual\, dando como resulta
 do el desarrollo de una pieza terminada.\n+ informaci&oacute\;n aqu&iacute
 \;\n\n&nbsp\; https://fadeu-old.urantiacos.cl/agenda/evento/1113-bases-par
 a-el-diseno-y-construccion-de-calzado
DTSTART:20171003T030000Z
LOCATION:Escuela de Diseño UC\, Campus Lo Contador (El Comendador\, Provide
 ncia\, Providencia\, Región Metropolitana\, Chile)
SUMMARY:Bases para el Diseño y Construcción de Calzado
URL:https://fadeu-old.urantiacos.cl/agenda/evento/1113-bases-para-el-diseno
 -y-construccion-de-calzado
END:VEVENT
BEGIN:VEVENT
UID:20260423T101201UTC-29695N1ZxG@https://fadeu-old.urantiacos.cl/
DTSTAMP:20260423T101201Z
DESCRIPTION:Jefe de programa:Mar&iacute\;a Paz Morales MujicaDuraci&oacute\
 ;n:48 horas\nDescripci&oacute\;n:\nEste curso\, con modalidad de taller\, 
 busca entregar conocimientos y herramientas b&aacute\;sicas a individuos q
 ue deseen comenzar y/o ampliar su formaci&oacute\;n profesional en cuanto 
 a la creaci&oacute\;n y producci&oacute\;n editorial.\nDebido al r&aacute\
 ;pido y masivo auge en el que se encuentran las publicaciones de nuestro p
 a&iacute\;s\, se hace necesario y urgente una reflexi&oacute\;n responsabl
 e sobre la creaci&oacute\;n y desarrollo de contenidos\, ya que cada tipol
 og&iacute\;a de informaci&oacute\;n\, seg&uacute\;n sus caracter&iacute\;s
 ticas y usuario-lector\, tiene un formato que le pertenece.\nLas posibilid
 ades gr&aacute\;ficas actuales de una pieza editorial son infinitas\, por 
 lo tanto la exploraci&oacute\;n de materiales\, lenguajes\, t&eacute\;cnic
 as y formas\, ser&aacute\;n parte esencial para abarcar con innovaci&oacut
 e\;n y creatividad los diferentes proyectos.\nEl curso tiene tres dimensio
 nes fundamentales. En primer lugar la dimensi&oacute\;n te&oacute\;rica\, 
 se presentar&aacute\; como exposici&oacute\;n de contenidos con el fin de 
 entregarle al alumno una base de conocimientos adecuada para el desarrollo
  de un proyecto editorial consistente. En segundo lugar est&aacute\; la di
 mensi&oacute\;n de an&aacute\;lisis\, donde el alumno deber&aacute\; gener
 ar sus propias conclusiones y reflexiones en torno al desarrollo conceptua
 l de su proyecto. Este an&aacute\;lisis se expone en una presentaci&oacute
 \;n\, donde se comparten opiniones de manera integral y constructiva entre
  los integrantes del curso. Finalmente\, se desarrolla la dimensi&oacute\;
 n pr&aacute\;ctica en la cual el alumno puede proyectar sus ideas y materi
 alizarlas mediante el trabajo que se realizar&aacute\; a trav&eacute\;s de
 l uso de herramientas digitales y taller de encuadernaci&oacute\;n.\n+ M&a
 acute\;s informaci&oacute\;n aqu&iacute\;\n&nbsp\;\n&nbsp\; https://fadeu-
 old.urantiacos.cl/agenda/evento/1115-diseno-y-produccion-editorial
DTSTART:20171003T030000Z
LOCATION:Escuela de Diseño UC\, Campus Lo Contador (El Comendador\, Provide
 ncia\, Providencia\, Región Metropolitana\, Chile)
SUMMARY:Diseño y producción Editorial
URL:https://fadeu-old.urantiacos.cl/agenda/evento/1115-diseno-y-produccion-
 editorial
END:VEVENT
BEGIN:VEVENT
UID:20260423T101201UTC-2980suvLcf@https://fadeu-old.urantiacos.cl/
DTSTAMP:20260423T101201Z
DESCRIPTION:Jefe de programa:Alejandro Dur&aacute\;n39 horas\nDescripci&oac
 ute\;n:\nDentro de las ofertas acad&eacute\;micas de perfeccionamiento\, e
 s posible observar una serie de programas de estudio ofrecidos por univers
 idades e instituciones privadas que se han enfocado en los aspectos pr&aac
 ute\;cticos de los distintos paquetes de generaci&oacute\;n de material tr
 idimensional\, concentrando sus esfuerzos en ense&ntilde\;ar las herramien
 tas y las posibilidades que permite de manera independiente cada uno de es
 tos programas\, pero sin abordar los aspectos te&oacute\;ricos que subyace
 n tras las diversas tipolog&iacute\;as de material representativo y de pro
 ducci&oacute\;n\, en conjunto con sus posibles aplicaciones y procesos coo
 perativos de desarrollo.\nDe esta manera es posible entender que la satura
 ci&oacute\;n de programas orientados en la producci&oacute\;n digital y su
  dif&iacute\;cil proceso de convocatoria se deba principalmente a que la c
 onfiguraci&oacute\;n de los contenidos que en ellos se desarrollan\, no ti
 ene como objetivo principal el responder a las necesidades del mercado\, s
 ino el de repetir otros programas que han funcionado o simplemente aplicar
  los tutoriales entregados por los fabricantes de estos software.\nEl curs
 o de representaci&oacute\;n tridimensional\, est&aacute\; concebido en fun
 ci&oacute\;n de responder a la necesidad de los profesionales del &aacute\
 ;rea de las comunicaciones\, en adquirir las habilidades e instrumentos ne
 cesarios para lograr representar adecuadamente sus propuestas tridimension
 ales o espaciales\, por medio de instrumentos contempor&aacute\;neos de vi
 sualizaci&oacute\;n e interacci&oacute\;n.\n&nbsp\;\n+ m&aacute\;s informa
 ci&oacute\;n aqu&iacute\;\n\n&nbsp\; https://fadeu-old.urantiacos.cl/agend
 a/evento/1111-modelado-y-animacion-con-3d-studio-max
DTSTART:20171002T030000Z
LOCATION:Escuela de Diseño UC\, Campus Lo Contador (El Comendador\, Provide
 ncia\, Providencia\, Región Metropolitana\, Chile)
SUMMARY:Modelado y Animación con 3D Studio Max
URL:https://fadeu-old.urantiacos.cl/agenda/evento/1111-modelado-y-animacion
 -con-3d-studio-max
END:VEVENT
END:VCALENDAR
