BEGIN:VCALENDAR
VERSION:2.0
PRODID:-//https://fadeu-old.urantiacos.cl///NONSGML kigkonsult.se iCalcreator 2.10.15//
METHOD:PUBLISH
BEGIN:VEVENT
UID:20260419T191803UTC-9798Uz1NMf@https://fadeu-old.urantiacos.cl/
DTSTAMP:20260419T191803Z
DESCRIPTION:El curso ARQ3200 'Estudios Cr&iacute\;ticos del Patrimonio' de 
 los profesores Fernando P&eacute\;rez y Elvira P&eacute\;rez\, del program
 a de Mag&iacute\;ster en Patrimonio Cultural de la Pontificia Universidad 
 Cat&oacute\;lica de Chile invita a su&nbsp\;Ciclo Clases Abiertas Estudios
  Cr&iacute\;ticos del Patrimonio.\nViernes 11\, 18 y 25 de Octubre\; Viern
 es 8 de Noviembre\, 11:30 hrs. Sala de Postgrado 2do piso\,&nbsp\;campus L
 o Contador (El Comendador 1916\, Providencia).\n\nOrganiza: Mag&iacute\;st
 er en Patrimonio Cultural\, Curso ARQ3200 Estudios Cr&iacute\;ticos del Pa
 trimonio\, de los profesores Fernando P&eacute\;rez y Elvira P&eacute\;rez
 .\nCupos limitados\, previa inscripci&oacute\;n al correo&nbsp\;magisterpa
 trimonio@uc.cl https://fadeu-old.urantiacos.cl/agenda/evento/2011-ciclo-cl
 ases-abiertas-estudios-criticos-del-patrimonio
DTSTART:20191011T143000Z
DTEND:20191011T153000Z
LOCATION:Sala de Postgrado 2do piso\, campus Lo Contador (El Comendador 191
 6)
SUMMARY:Ciclo Clases Abiertas Estudios Críticos del Patrimonio
URL:https://fadeu-old.urantiacos.cl/agenda/evento/2011-ciclo-clases-abierta
 s-estudios-criticos-del-patrimonio
END:VEVENT
BEGIN:VEVENT
UID:20260419T191803UTC-9803Vh0I85@https://fadeu-old.urantiacos.cl/
DTSTAMP:20260419T191803Z
DESCRIPTION:En el marco de la alianza del curso TIDE a cargo de los docente
 s&nbsp\;Andr&eacute\;s Villela&nbsp\;y&nbsp\;Samanta Zeppelin\, y&nbsp\;Ba
 lloon Latam&nbsp\;se ha organizado el&nbsp\;Seminario de Innovaci&oacute\;
 n Social y Dise&ntilde\;o:&nbsp\;Gobernanzas Locales\, con foco en los res
 ultados obtenidos en experiencias anteriores del taller trabajando con est
 a empresa social.\nPara esto\, se presentar&aacute\; el Desaf&iacute\;o Ar
 aucan&iacute\;a\, el caso de Villa Garc&iacute\;a y el desarrollo por part
 e de estudiantes de la Fiesta Gastron&oacute\;mica de la Casta&ntilde\;a\,
  adem&aacute\;s de los casos de Saber Hacer y de gobernanzas locales.\n&iq
 uest\;Qu&eacute\; es Ballon Latam?\nBalloon Latam es una empresa social qu
 e promueve la acci&oacute\;n colectiva para impulsar el desarrollo sosteni
 ble en las comunidades de Am&eacute\;rica Latina\, vinculando al sector p&
 uacute\;blico\, sector privado\, sociedad civil y cualquier otro actor int
 eresado a trav&eacute\;s de la implementaci&oacute\;n de experiencias de r
 elacionamiento que fomentan su colaboraci&oacute\;n y cooperaci&oacute\;n 
 en pos de su propio crecimiento y generaci&oacute\;n de valor compartido\,
  para la gestaci&oacute\;n de los cambios deseados por cada comunidad al l
 argo plazo.\n&nbsp\; https://fadeu-old.urantiacos.cl/agenda/evento/1975-se
 minario-innovacion-social-diseno
DTSTART:20191010T170000Z
DTEND:20191010T180000Z
LOCATION:Auditorio FADEU\, Campus Lo Contador PUC (El Comendador 1916\, Pro
 videncia\, Providencia\, Región Metropolitana\, Chile)
SUMMARY:Seminario: Innovación Social & Diseño
URL:https://fadeu-old.urantiacos.cl/agenda/evento/1975-seminario-innovacion
 -social-diseno
END:VEVENT
BEGIN:VEVENT
UID:20260419T191803UTC-9809ve1oE8@https://fadeu-old.urantiacos.cl/
DTSTAMP:20260419T191803Z
DESCRIPTION:Muestra de ilustraciones producto de la convocatoria&nbsp\;Dibu
 jar para Sentirse Bien.\n&nbsp\;_Jueves 10 octubre\n_Pasillos Casona Campu
 s Lo Contador_13.00 h https://fadeu-old.urantiacos.cl/agenda/evento/1973-i
 nauguracion-exposicion-dibujar-para-sentirse-bien
DTSTART:20191009T160000Z
DTEND:20191009T170000Z
LOCATION:Corredores Casona (El Comendador 1916\, Providencia)
SUMMARY:Inauguración Exposición 'Dibujar para Sentirse Bien'
URL:https://fadeu-old.urantiacos.cl/agenda/evento/1973-inauguracion-exposic
 ion-dibujar-para-sentirse-bien
END:VEVENT
BEGIN:VEVENT
UID:20260419T191803UTC-9811ZatoVA@https://fadeu-old.urantiacos.cl/
DTSTAMP:20260419T191803Z
DESCRIPTION:Eduardo Della Maggiora\, CEO de los Juegos Panamericanos y Para
 panamericanos Santiago 2023\, dictar&aacute\; una conferencia en el marco 
 del ciclo 'Santiago 2023: La dimensi&oacute\;n urbana de los Juegos Paname
 ricanos'\, organizado por el Mag&iacute\;ster en Proyecto Urbano (MPUR).\n
 &nbsp\;\n&nbsp\;\nCiclo 'Santiago 2023: La dimensi&oacute\;n&nbsp\;urbana 
 de los Juegos Panamericanos'\nLa forma de las ciudades se encuentra inextr
 icablemente ligada con la historia y con el contexto social y pol&iacute\;
 tico en el cual se insertan. Parte importante de las mayores transformacio
 nes que se pueden observar en su tejido urbano tienen origen en coyunturas
  en apariencia ajenas a la discusi&oacute\;n sobre la ciudad\, pero que ha
 n demostrado sin embargo ser elementos de cambio de tendencia y ritmo en l
 a transformaci&oacute\;n de ella. Desde las grandes exposiciones universal
 es del siglo XIX en adelante\, hasta los eventos deportivos de gran magnit
 ud como los mundiales y las olimpiadas\, el espacio de las ciudades ha sid
 o sujeto de reflexi&oacute\;n a ra&iacute\;z de las oportunidades ligadas 
 a acontecimientos de grandes proporciones\, y ha servido de laboratorio de
  experimentaci&oacute\;n para varias de las m&aacute\;s vanguardistas idea
 s sobre la arquitectura y la ciudad.\nLos grandes eventos deportivos\, en 
 particular\, representan una inversi&oacute\;n de gran magnitud para los p
 a&iacute\;ses que los reciben y los organizan. La envergadura de las inver
 siones requeridas plantea adem&aacute\;s la necesidad de preguntarse por e
 l legado que deja el paso del evento por la ciudad\, tomando relevancia la
  estrategia que se aborda para evitar la redundancia. El ciclo Santiago 20
 23\, organizado por la Escuela de Arquitectura y el Programa de Magister e
 n Proyecto Urbano\, plantea una discusi&oacute\;n abierta sobre las oportu
 nidades y desaf&iacute\;os urbanos que surgen con el nombramiento de Chile
  como pa&iacute\;s sede de los Juegos Panamericanos del a&ntilde\;o 2023.
 \nLa primera sesi&oacute\;n del ciclo\, a cargo de Roberto Moris\, abord&o
 acute\; una revisi&oacute\;n hacia una dimensi&oacute\;n amplia de los gra
 ndes eventos a lo largo de la historia\, una mirada retrospectiva sobre di
 versas experiencias internacionales que permiten comprender la envergadura
 \, riesgos y oportunidades de eventos de gran magnitud cuando son alojados
  en ciudades. Desde aspectos econ&oacute\;micos\,&nbsp\;city marketing\, e
 ndeudamiento y eficiencia en el uso de recursos\, hasta cuestiones fundame
 ntales de planificaci&oacute\;n y gobernanza urbana\, Moris llam&oacute\; 
 a preguntarse sobre los verdaderos alcances y limitaciones de un proceso d
 e transformaci&oacute\;n bajo las condiciones pol&iacute\;ticas actuales\,
  y sobre la necesidad de un liderazgo real para abordar el desaf&iacute\;o
 .\nEsta segunda sesi&oacute\;n\, con la presentaci&oacute\;n de Eduardo De
 lla Maggiora\, CEO de Stgo2023\, permitir&aacute\; examinar la planificaci
 &oacute\;n del evento a ocurrir en Santiago. El ciclo continuar&aacute\; e
 n sus siguientes fechas con la&nbsp\;presentaci&oacute\;n de Paz Serra (DD
 U MINVU) con la Villa Panamericana a construirse en Cerrillos\, ARUP (empr
 esa internacional experta en el legado de grandes eventos deportivos) y la
  experiencia de Lima 2019\, y otros invitados por confirmar.\nConferencia 
 'Los Juegos Panamericanos y Parapanamericanos en Santiago 2023' |&nbsp\;Ed
 uardo Della Maggiora\nLa Corporaci&oacute\;n Santiago 2023\, constituida a
  fines del&nbsp\;2018\, tiene la misi&oacute\;n de llevar a cabo la organi
 zaci&oacute\;n de los Juegos Panamericanos y Parapanamericanos Santiago 20
 23\, el evento deportivo m&aacute\;s importante que se realice en nuestro 
 pa&iacute\;s tras el Mundial de F&uacute\;tbol de 1962.\nLa presentaci&oac
 ute\;n de Eduardo Della Maggiora como Director Ejecutivo de la corporaci&o
 acute\;n\, permitir&aacute\; conocer la orientaci&oacute\;n que se dar&aac
 ute\; al evento y las posibles implicancias urbanas de un evento deportivo
  de gran magnitud\, sirviendo como antecedente para la discusi&oacute\;n s
 obre el los desaf&iacute\;os urbanos que este evento plantea para la ciuda
 d.\nEduardo Della Maggiora\nIngeniero civil industrial\, emprendedor y tri
 atleta. Comenz&oacute\; su carrera profesional en el banco de inversiones 
 estadounidense J.P. Morgan donde trabaj&oacute\; por 10 a&ntilde\;os\, pri
 mero en Chile y luego en Nueva York. El 2015 fue elegido como uno de los 1
 00 j&oacute\;venes lideres de Chile por&nbsp\;El Mercurio. Entre sus logro
 s deportivos se encuentran ser 2 veces subcampe&oacute\;n del mundo de Iro
 nman 70.3 en su categor&iacute\;a y 2 veces top-ten en el campeonato Mundi
 al de Ironman en Kona\, Hawaii. Es co-fundador de Tyndall Group y Preserve
  in&nbsp\;Community\, fundador de Burn to Give y CEO de los Juegos Panamer
 icanos y Parapanamericanos Santiago 2023\, que es el evento multideportivo
  internacional m&aacute\;s grande del Mundo y segundo en t&eacute\;rminos 
 de importancia en el movimiento Ol&iacute\;mpico y Paral&iacute\;mpico.\nF
 echa_\nMartes 08 de octubre de 2019\, 19.00 h\n&nbsp\;\n&nbsp\;\nLugar_Aud
 itorio Fernando Castillo VelascoCampus Lo ContadorEl Comendador 1936\, Pro
 videncia\nOrganiza_\nMag&iacute\;ster en Proyecto Urbano UCEscuela de Arqu
 itectura UC\n&nbsp\;\n\n&nbsp\;\nNoticiasContacto:&nbsp\;redesarq@uc.cl&nb
 sp\;| +56 2 2354 7747www.arquitectura.uc.cl https://fadeu-old.urantiacos.c
 l/agenda/evento/1987-ciclo-santiago-2023-la-dimension-urbana-de-los-juegos
 -panamericanos-eduardo-della-maggiora
DTSTART:20191008T220000Z
DTEND:20191008T230000Z
LOCATION:Auditorio Fernando Castillo Velasco. Edificio ARQ (El Comendador 1
 936\, Providencia\, Región Metropolitana\, Chile)
SUMMARY:Ciclo 'Santiago 2023: La dimensión urbana de los Juegos Panamerican
 os' | Eduardo Della Maggiora
URL:https://fadeu-old.urantiacos.cl/agenda/evento/1987-ciclo-santiago-2023-
 la-dimension-urbana-de-los-juegos-panamericanos-eduardo-della-maggiora
END:VEVENT
BEGIN:VEVENT
UID:20260419T191803UTC-9827pInevH@https://fadeu-old.urantiacos.cl/
DTSTAMP:20260419T191803Z
DESCRIPTION:\nEl martes 8 de octubre se realizar&aacute\; lla novena sesi&o
 acute\;n de la&nbsp\;Serie: Jornadas de Investigaci&oacute\;n en el Instit
 uto - 2019.&nbsp\;\nEn esta ocasi&oacute\;n la acad&eacute\;mica&nbsp\;Paz
  Concha\,&nbsp\;dictar&aacute\; la Charla:&nbsp\;Desaf&iacute\;os metodol&
 oacute\;gicos en la Investigaci&oacute\;n de la creaci&oacute\;n de lugar 
 en barrios comerciales en Santiago.\n&nbsp\;\nCupos limitados e inscripcio
 nes&nbsp\;aqu&iacute\;.Se compartir&aacute\; un almuerzo liviano con los a
 sistentes\, previa inscripci&oacute\;n&nbsp\;hasta el lunes 7 de octubre.
 \n\nOrganiza: Instituto de Estudios Urbanos y Territoriales UC\n\n\n https
 ://fadeu-old.urantiacos.cl/agenda/evento/1989-charla-desafios-metodologico
 s-en-la-investigacion-de-la-creacion-de-lugar-en-barrios-comerciales-en-sa
 ntiago
DTSTART:20191008T160000Z
DTEND:20191008T170000Z
LOCATION:Sala Consejo Decanato (El Comendador 1916)
SUMMARY:Charla: Desafíos metodológicos en la Investigación de la creación d
 e lugar en barrios comerciales en Santiago
URL:https://fadeu-old.urantiacos.cl/agenda/evento/1989-charla-desafios-meto
 dologicos-en-la-investigacion-de-la-creacion-de-lugar-en-barrios-comercial
 es-en-santiago
END:VEVENT
BEGIN:VEVENT
UID:20260419T191803UTC-9832NveRTX@https://fadeu-old.urantiacos.cl/
DTSTAMP:20260419T191803Z
DESCRIPTION:Seminario 'Opciones de adaptaci&oacute\;n al Cambio Clim&aacute
 \;tico en zonas urbanas'\n&nbsp\;\nEl Cambio Clim&aacute\;tico exige innov
 aci&oacute\;n en el dise&ntilde\;o de nuestros espacios urbanos. El semina
 rio pretende visibilizar iniciativas de adaptaci&oacute\;n y mitigaci&oacu
 te\;n del cambio clim&aacute\;tico implementadas tanto nivel local y como 
 regional. Para ello\, se expondr&aacute\;n casos de estudio de valorizaci&
 oacute\;n de ecosistemas en contextos urbanos\, as&iacute\; como tambi&eac
 ute\;n planes de adaptaci&oacute\;n al CC de escala regional.\nLa actual c
 risis clim&aacute\;tica exige repensar el dise&ntilde\;o de los espacios u
 rbanos\, incluyendo criterios de equidad social\, calidad de vida y valori
 zaci&oacute\;n de los ecosistemas. Se trata de una modificaci&oacute\;n de
 l paisaje\, para la adaptaci&oacute\;n frente al CC\, como para la mitigac
 i&oacute\;n de sus causas.\nAs&iacute\; mismo\, el CC nos confronta con pr
 oblem&aacute\;ticas urbanas estructurales como la desigual distribuci&oacu
 te\;n de espacios p&uacute\;blicos e infraestructura dentro de las ciudade
 s\, la falta de acceso a servicios b&aacute\;sicos\, la vulnerabilidad de 
 los grupos socioecon&oacute\;micos m&aacute\;s bajos ante eventos clim&aac
 ute\;ticos extremos\, la fragmentaci&oacute\;n de las ciudades y la descon
 exi&oacute\;n de nuestras sociedades con el medio natural.\nEl seminario s
 e enmarca en el curso OPR &ldquo\;Espacios P&uacute\;blicos e Infraestruct
 uras para el Cambio Clim&aacute\;tico&rdquo\; a cargo de los profesores Ma
 carena Gaete y Tom&aacute\;s G&oacute\;mez. Cuenta con el apoyo de los pro
 gramas de&nbsp\;Mag&iacute\;ster en Arquitectura Sustentable y Energ&iacut
 e\;a&nbsp\;UC\,&nbsp\;Mag&iacute\;ster en Arquitectura del Paisaje&nbsp\;U
 C y&nbsp\;Mag&iacute\;ster en Proyecto Urbano UC. Colabora el Laboratorio 
 de Ciudad y Movilidad C&amp\;Mlab UC.\n&nbsp\;\nInvitados_\n&nbsp\;\n&nbsp
 \;\nMaritza Jadrijevic |&nbsp\;Encargada de pol&iacute\;tica nacional de c
 ambio clim&aacute\;tico en Ministerio de Medio Ambiente\nIngeniera Civil Q
 u&iacute\;mico.&nbsp\;Mag&iacute\;ster en Contaminaci&oacute\;n Atmosf&eac
 ute\;rica y ciencia de los aerosoles\, Universidad de Paris. Especialista 
 en adaptaci&oacute\;n al cambio clim&aacute\;tico.\n&nbsp\;\n&nbsp\;\nDra.
  Carolina Rojas |&nbsp\;Profesora Asociada\, Instituto de Estudios Urbanos
  Pontificia Universidad Cat&oacute\;lica de Chile.\nPostdoctorado\, MC Mas
 ter University\, Canad&aacute\;\, 2015\; Doctora en Cartograf&iacute\;a\, 
 Sistemas de Informaci&oacute\;n Geogr&aacute\;fica y Teledetecci&oacute\;n
 \, Universidad de Alcal&aacute\;\, Espa&ntilde\;a\, 2008\; Master\, Diplom
 a de Estudios Avanzados (DEA) en Cartograf&iacute\;a\, Sistemas de Informa
 ci&oacute\;n Geogr&aacute\;fica y Teledetecci&oacute\;n\, Universidad de A
 lcal&aacute\;\, Espa&ntilde\;a\, 2006\; Ge&oacute\;grafa\, Pontificia Univ
 ersidad Cat&oacute\;lica de Valpara&iacute\;so\, Chile\, 2002\; y Licencia
 da en Geograf&iacute\;a\, Pontificia\, Universidad Cat&oacute\;lica de Val
 para&iacute\;so\, Chile\, 2001.\n&nbsp\;\n&nbsp\;\nJessica Casanova |&nbsp
 \;Ge&oacute\;grafa de la Pontificia Universidad Cat&oacute\;lica de Valpar
 a&iacute\;so\, parte del equipo encargado de la elaboraci&oacute\;n plan d
 e resiliencia clim&aacute\;tica &Aacute\;rea Metropolitana de Valpara&iacu
 te\;so.\n&nbsp\;\n&nbsp\;\nPrograma_\n&nbsp\;\n&nbsp\;\n9.30 h | Palabras 
 de bienvenida\nLuis Eduardo Bresciani L. |&nbsp\;Director Escuela de Arqui
 tectura UC\n&nbsp\;\n&nbsp\;\n9.45 h | Apertura Seminario\nTom&aacute\;s G
 &oacute\;mez F. |&nbsp\;Profesor OPR &ldquo\;Espacios P&uacute\;blicos e I
 nfraestructuras para el Cambio Clim&aacute\;tico&rdquo\;\n&nbsp\;\n&nbsp\;
 \n10.00 h | Presentaci&oacute\;n\nMaritza Jadrijevic |&nbsp\;Encargada de 
 pol&iacute\;tica nacional de cambio clim&aacute\;tico en Ministerio de Med
 io Ambiente\n&nbsp\;\n&nbsp\;\n10.30 h | Presentaci&oacute\;nDra. Carolina
  Rojas |&nbsp\;Profesora Asociada\, Instituto de Estudios Urbanos Pontific
 ia Universidad Cat&oacute\;lica de Chile\n&nbsp\;\n&nbsp\;\n11.00&ndash\;1
 1.30 h | Coffe break\n&nbsp\;\n&nbsp\;\n11.30 h | Presentaci&oacute\;nJess
 ica Casanova |&nbsp\;Ge&oacute\;grafa parte del equipo encargado de la ela
 boraci&oacute\;n plan de resiliencia clim&aacute\;tica &Aacute\;rea Metrop
 olitana de Valpara&iacute\;so\n&nbsp\;\n&nbsp\;\n12.00&ndash\;13.00 h | Ap
 ertura Mesa Redonda\nTom&aacute\;s G&oacute\;mez S. |&nbsp\;profesor OPR &
 ldquo\;Espacios P&uacute\;blicos e Infraestructuras para el Cambio Clim&aa
 cute\;tico&rdquo\;\n&nbsp\;\n&nbsp\;\n&nbsp\;\nFecha_\nLunes 07 de octubre
  de 2019\, 9.30-13.00 h\n&nbsp\;\n&nbsp\;\nLugar_Sal&oacute\;n Sergio Larr
 a&iacute\;n Garc&iacute\;a MorenoCampus Lo ContadorEl Comendador 1936\, Pr
 ovidencia\n&nbsp\;\nCoordinadores_\nSof&iacute\;a Samur y Tom&aacute\;s G&
 oacute\;mez\n&nbsp\;\nOrganiza_\nEscuela de Arquitectura UC&nbsp\;\nApoya_
 \nMag&iacute\;ster en Arquitectura Sustentable y Energ&iacute\;a&nbsp\;UC
 \nMag&iacute\;ster en Arquitectura del Paisaje&nbsp\;UC\nMag&iacute\;ster 
 en Proyecto Urbano UC\n&nbsp\;\n&nbsp\;\nColabora_\nLaboratorio de Ciudad 
 y Movilidad C&amp\;Mlab UC\n&nbsp\;\n\n&nbsp\;\nNoticiasContacto:&nbsp\;re
 desarq@uc.cl&nbsp\;| +56 2 2354 7747www.arquitectura.uc.cl https://fadeu-o
 ld.urantiacos.cl/agenda/evento/1985-seminario-opciones-de-adaptacion-al-ca
 mbio-climatico-en-zonas-urbanas
DTSTART:20191007T123000Z
DTEND:20191007T160000Z
LOCATION:Salón Sergio Larraín\, Campus Lo Contador ()
SUMMARY:Seminario 'Opciones de adaptación al Cambio Climático en zonas urba
 nas'
URL:https://fadeu-old.urantiacos.cl/agenda/evento/1985-seminario-opciones-d
 e-adaptacion-al-cambio-climatico-en-zonas-urbanas
END:VEVENT
END:VCALENDAR
