BEGIN:VCALENDAR
VERSION:2.0
PRODID:-//https://fadeu-old.urantiacos.cl///NONSGML kigkonsult.se iCalcreator 2.10.15//
METHOD:PUBLISH
BEGIN:VEVENT
UID:20260420T140741UTC-9918ko1ELt@https://fadeu-old.urantiacos.cl/
DTSTAMP:20260420T140741Z
DESCRIPTION:Conferencia Pascal Flammer\nWorkshop TES MARQ |&nbsp\;sept. 24 
 - oct. 12\n&nbsp\;\nConferencia&nbsp\;del&nbsp\;destacado arquitecto suizo
  Pascal Flammer en el marco del&nbsp\;segundo Workshop TES que dirigir&aac
 ute\; en el programa de Magister en Arquitectura UC. La&nbsp\;charla ser&a
 acute\; abierta a todo p&uacute\;blico el pr&oacute\;ximo 11 de octubre en
  el auditorio&nbsp\;Fernando Castillo Velazco. La presentaci&oacute\;n fin
 al del workshop se realizar&aacute\; el viernes 12 de octubre en el T&uacu
 te\;nel Poniente desde las 15:30hrs.\n&nbsp\;\n&nbsp\;\nPascal Flammer est
 udi&oacute\; arquitectura en la ETH de Zurich\, TU Delft y la EPF de Lausa
 nne\, gradu&aacute\;ndose como arquitecto y mag&iacute\;ster en 2001 por l
 a ETH de Zurich. Trabaj&oacute\; entre 1998 y 2005 junto a Valerio Olgiati
 \, participando en proyectos tales como la casa K+N\, en Suiza\, el comple
 jo residencial y comercial en Tirana\, Albania\, y el Atelier Bardil en wo
 llerau\, Suiza\, entre otros. En 2005 abre su pr&aacute\;ctica independien
 te en Zurich\, Suiza\, recibiendo numerosos premios dentro de los que se e
 ncuentran el Weissenhoff Architecture Award en 2006\, el SWISS ART AWARD e
 n 2012\, el Premio Europeo de Arquitectura Philippe Rotthier en 2014 y el 
 AIT-AWARD en 2016. Ha sido adem&aacute\;s profesor invitado en el Harvard 
 GSD\, la Academia de Mendrisio\, la Academia de Porto\, la ETH de Zurich\,
  la Universidad de Princeton y la Pontificia Universidad Cat&oacute\;lica 
 de Chile.\n&nbsp\;\n&nbsp\;\nPrograma workshop_\n&nbsp\;\nFecha_\nJueves 1
 1 de octubre de 2018\, 19 h.\n&nbsp\;\n&nbsp\;\nLugar_\nAuditorio FCV\, ca
 mpus Lo Contador. El Comendador 1936\, Providencia\n&nbsp\;\n&nbsp\;\nOrga
 nizan_\nMag&iacute\;ster en Arquitectura UC\nEscuela de Arquitectura UC\n&
 nbsp\;\n\n&nbsp\;\nNoticiasContacto:&nbsp\;redesarq@uc.cl&nbsp\;| +56 2 23
 54 7747www.arquitectura.uc.cl https://fadeu-old.urantiacos.cl/agenda/event
 o/1699-conferencia-pascal-flammer-marq
DTSTART:20181011T220000Z
DTEND:20181011T230000Z
LOCATION:Auditorio Fernando Castillo Velasco. Edificio ARQ (El Comendador 1
 936\, Providencia\, Región Metropolitana\, Chile)
SUMMARY:Conferencia Pascal Flammer | MARQ
URL:https://fadeu-old.urantiacos.cl/agenda/evento/1699-conferencia-pascal-f
 lammer-marq
END:VEVENT
BEGIN:VEVENT
UID:20260420T140741UTC-9925saoo5h@https://fadeu-old.urantiacos.cl/
DTSTAMP:20260420T140741Z
DESCRIPTION:Presentaci&oacute\;n 'The Memory of Surfaces' de Alan Chandler\
 , profesor de la Universidad de East London. Ciclo organizado por Alberto 
 Moletto y Crist&oacute\;bal Tirado\, profesores ARQ UC. La charla ser&aacu
 te\; realizada en ingl&eacute\;s.\n'The Memory of Surfaces'\n&iquest\;Por 
 qu&eacute\; es importante reconocer las cicatrices de la vida cotidiana? &
 iquest\;Cu&aacute\;l es el valor de reconocer las&nbsp\;imperfecciones de 
 nuestro entorno en lugar de pasarlas por alto para preservar la idea de lo
  perfecto?\nPara el conservacionista idealista William Morris y para el fi
 l&oacute\;sofo John Locke\, esta es una cuesti&oacute\;n de&nbsp\;humanida
 d. La experiencia es formativa\, creando qui&eacute\;nes somos y dando for
 ma a lo que seremos. Locke&nbsp\;define la apreciaci&oacute\;n inmediata e
  incuestionable de lo visual como un 'pensamiento sensacionalista'\,&nbsp\
 ;equiparado con la aplicaci&oacute\;n superficial del idealismo no probado
  tipificado por un distanciamiento&nbsp\;cartesiano del espacio real. Para
  Locke\, la capacidad de comparar\, contrastar e investigar ideas o&nbsp\;
 fen&oacute\;menos a menudo contradictorios cre&oacute\; una 'reflexi&oacut
 e\;n'\, un requisito previo para la acci&oacute\;n emp&iacute\;rica.&nbsp\
 ;'Reflexi&oacute\;n' requiere el desordenado asunto del compromiso\, la cr
 &iacute\;tica\, la evaluaci&oacute\;n y la negociaci&oacute\;n.\nRealidade
 s artificiales\nCourtauld Institute Esat Wing Biennale 2016-17\nLas instal
 aciones\, realizadas en la Somerset House frente al rio Thames de Londres\
 , exploraron la&nbsp\;realidad que encierra la vida cotidiana del Courtaul
 d Institute \, revelando el legado de su habitaci&oacute\;n&nbsp\;mediante
  t&eacute\;cnicas de an&aacute\;lisis de capa de pintura (estratigraf&iacu
 te\;a) para volver a conectar la superficie del&nbsp\;presente con la acum
 ulaci&oacute\;n de colores detr&aacute\;s de ellos\, cada uno de los cuale
 s representa un 'presente'&nbsp\;previo. Algunas de las capas reveladas er
 an reales\, otras ficticias\, y reflejaban el significado de tres&nbsp\;en
 foques para un edificio o espacio existente: collage\, bricolaje y restaur
 aci&oacute\;n\nAlan Chandler\nEs arquitecto de la Arquitectural Asociaci&o
 acute\;n de Londres y centra su practica profesional&nbsp\;como Especialis
 ta en Conservaci&oacute\;n. Es miembro del Comit&eacute\; de Conservaci&oa
 cute\;n y asesor de la RIBA. Ha&nbsp\;dado Charlas en la Biblioteca Nacion
 al de Chile el a&ntilde\;o 2014 y fue invitado a la Bienal de Arquitectura
  en&nbsp\;Valpara&iacute\;so el a&ntilde\;o 2015. Junto con Fernando P&eac
 ute\;rez O. y Luis Cercos\, es parte de los asesores en&nbsp\;restauraci&o
 acute\;n del proyecto del Palacio Pereira.\nEn su carrera Acad&eacute\;mic
 a es Profesor Titular de la University East London donde ha estudiado de m
 anera&nbsp\;extensa los moldajes de Hormig&oacute\;n con materiales textil
 es lo que ha permitido la colaboraci&oacute\;n con&nbsp\;Thomas Heatherwic
 k en un proyecto en Shanghai.\nEl a&ntilde\;o 2008 junto con Remo Pedreshi
  Publica el Libro Fabric Formwork y su libro The Production of&nbsp\;Herit
 aghe ser&aacute\; publicado el a&ntilde\;o 2019 por Routledge\nCiclo_La Ch
 arla se enmarca dentro de un ciclo de 4 Charlas Organizada por el Taller d
 e Ejercitaci&oacute\;n&nbsp\;'Operaciones e Intervenciones&rdquo\; dirigid
 o por Crist&oacute\;bal Tirado y Alberto Moletto.\nFecha_\nMi&eacute\;rcol
 es 10 de octubre de 2018\, 19 h&nbsp\;\n&nbsp\;\nLugar_\nAuditorio FCV\, c
 ampus Lo Contador. El Comendador 1936\, Providencia\n&nbsp\;\nOrganizan_\n
 Escuela de Arquitectura UC&nbsp\;\nIdioma_Ingl&eacute\;s\n&nbsp\;\n\n&nbsp
 \;\nNoticiasContacto:&nbsp\;redesarq@uc.cl&nbsp\;| +56 2 2354 7747www.arqu
 itectura.uc.cl https://fadeu-old.urantiacos.cl/agenda/evento/1701-conferen
 cia-alan-chandler-ciclo-sobre-pre-existencias
DTSTART:20181010T220000Z
DTEND:20181010T230000Z
LOCATION:Auditorio Fernando Castillo Velasco. Edificio ARQ (El Comendador 1
 936\, Providencia\, Región Metropolitana\, Chile)
SUMMARY:Conferencia Alan Chandler | Ciclo 'Sobre pre-existencias'
URL:https://fadeu-old.urantiacos.cl/agenda/evento/1701-conferencia-alan-cha
 ndler-ciclo-sobre-pre-existencias
END:VEVENT
BEGIN:VEVENT
UID:20260420T140741UTC-9936InVksk@https://fadeu-old.urantiacos.cl/
DTSTAMP:20260420T140741Z
DESCRIPTION:Lanzamiento del libro 'PUC.TUB. A&ntilde\;os de intercambio: di
 se&ntilde\;os de una d&eacute\;cada' en el marco del 'III Simposio interna
 cional sobre la docencia en&nbsp\;arquitectura:&nbsp\;PFLEGE | CARE | CUID
 ADO'\, a realizarse el 09 de octubre en la p&eacute\;rgola del Patio de Lo
 s Naranjos del&nbsp\;campus Lo Contador.\n&nbsp\;\n&nbsp\;\nIII Simposio i
 nternacional sobre la docencia en&nbsp\;arquitectura\nPFLEGE | CARE | CUID
 ADO&nbsp\;\n08-09 de octubre\n&nbsp\;\nEl simposio es un espacio para el i
 ntercambio acad&eacute\;mico entre profesores de arquitectura pertenecient
 es a las universidades: Tech-nische Universit&auml\;t Berlin (TUB)\, Ponti
 ficia Universidad Cat&oacute\;lica de Chile (PUC) y la Universidad T&eacut
 e\;cnica Federico Santa Mar&iacute\;a (UTFSM). Cada edici&oacute\;n\, orga
 nizada entre las tres universidades\, busca crear una estructura de cooper
 aci&oacute\;n con el objetivo de informarse mutuamente sobre contenidos y 
 formatos. En este contexto\, y sobre la base de la colaboraci&oacute\;n y 
 la conversaci&oacute\;n\, el simposio se enfrenta a varios m&eacute\;todos
  de ense&ntilde\;anza\, formas de cooperaci&oacute\;n\, as&iacute\; como a
  discutir los posibles productos y la direcci&oacute\;n de esta iniciativa
 .\n&nbsp\;\nEn esta tercera versi&oacute\;n el simposio considerar&aacute\
 ; el concepto integral de 'PFLEGE | CARE | CUIDADO'. Este concepto permiti
 r&aacute\; examinar dimensiones &eacute\;ticas espec&iacute\;ficas de la p
 r&aacute\;ctica y la ense&ntilde\;anza de la arquitectura.\n&nbsp\;\nEl ev
 ento contar&aacute\; con diferentes actividades como reuniones internas en
 tre las universidades participantes durante las ma&ntilde\;anas y visitas 
 a talleres de la Escuela de Arquitectura UC por las tardes\, como parte de
 l intercambio de experiencias docentes.\n&nbsp\;\nFecha lanzamiento libro_
 \nMartes 09 de octubre\, 13.30 h\n&nbsp\;\n&nbsp\;\nLugar&nbsp\;lanzamient
 o libro_\nP&eacute\;rgola del Patio de Los Naranjos\, campus Lo Contador. 
 El Comendador 1916\, Providencia\n&nbsp\;\n&nbsp\;\nOrganizan_\nPontificia
  Universidad Cat&oacute\;lica de Chile\nTechnische Universit&auml\;t Berli
 n\nEscuela de Arquitectura UC\nConstruction Design (CODE)\n&nbsp\;\n&nbsp\
 ;\nColabora_\nUniversidad T&eacute\;cnica Federico Santa Mar&iacute\;a\, V
 alpara&iacute\;so\n&nbsp\;\n&nbsp\;\nPatrocina_\nDAAD\n&nbsp\;\n\n&nbsp\;
 \nArquitectura UCContacto:&nbsp\;redesarq@uc.cl&nbsp\;| +56 2 2354 7747www
 .arquitectura.uc.cl https://fadeu-old.urantiacos.cl/agenda/evento/1700-lan
 zamiento-libro-puc-tub-anos-de-intercambio-disenos-de-una-decada
DTSTART:20181009T163000Z
DTEND:20181009T173000Z
LOCATION:Patio Los Naranjos\, Lo Contador (El Comendador 1916\, Providencia
 \, Región Metropolitana\, Chile)
SUMMARY:Lanzamiento libro 'PUC.TUB. Años de intercambio: diseños de una déc
 ada'
URL:https://fadeu-old.urantiacos.cl/agenda/evento/1700-lanzamiento-libro-pu
 c-tub-anos-de-intercambio-disenos-de-una-decada
END:VEVENT
BEGIN:VEVENT
UID:20260420T140741UTC-9945MjFJbI@https://fadeu-old.urantiacos.cl/
DTSTAMP:20260420T140741Z
DESCRIPTION:Compa&ntilde\;&iacute\;a: Fuera de LugarDirecci&oacute\;n gener
 al: Valentina MoraDirecci&oacute\;n art&iacute\;stica: Felipe Arce\nAr&iac
 ute\;stides &ldquo\;Cacho&rdquo\; Garibaldi es el nuevo gran goleador de M
 agallanes\, y con sus goles tiene al hist&oacute\;rico club ad portas de c
 umplir el sue&ntilde\;o\, &iexcl\;al fin!\, de volver a la primera divisi&
 oacute\;n del f&uacute\;tbol chileno. Sin embargo\, el dinero es un podero
 so caballero\, y este no queda indiferente al talento de la nueva joya del
  f&uacute\;tbol nacional. &iquest\;Qu&eacute\; har&aacute\;&nbsp\;Magallan
 es? &iquest\;Qu&eacute\; har&aacute\; Garibaldi?.\nProducci&oacute\;n:&nbs
 p\;Javiera Blanco.&nbsp\;Jefe t&eacute\;cnico: Sim&oacute\;n BrunaElenco: 
 Juan Pablo Guti&eacute\;rrez\, Francisco Su&aacute\;rez\, Roberto Herrera\
 , Phillipe Barnett\, Rodrigo Cuello\, Nicol&aacute\;s Ruiz\, Alejandra Sil
 va\, Gabriel Castro.M&uacute\;sicos: &Aacute\;lvaro Lazo\, Erasmo Collao.
 \n https://fadeu-old.urantiacos.cl/agenda/evento/1683-artificalauc-2018-el
 -nueve-un-goleador-de-coleccion
DTSTART:20181009T160000Z
DTEND:20181009T170000Z
LOCATION:Patio de madera\, Campus Lo Contador (El Comendador 1916\, Provide
 ncia\, Providencia\, Región Metropolitana\, Chile)
SUMMARY:#ARTIFICALAUC 2018: EL NUEVE\, UN GOLEADOR DE COLECCIÓN
URL:https://fadeu-old.urantiacos.cl/agenda/evento/1683-artificalauc-2018-el
 -nueve-un-goleador-de-coleccion
END:VEVENT
END:VCALENDAR
