BEGIN:VCALENDAR
VERSION:2.0
PRODID:-//https://fadeu-old.urantiacos.cl///NONSGML kigkonsult.se iCalcreator 2.10.15//
METHOD:PUBLISH
BEGIN:VEVENT
UID:20260419T191839UTC-30978xChWv@https://fadeu-old.urantiacos.cl/
DTSTAMP:20260419T191839Z
DESCRIPTION:Lanzamiento del segundo ARQ Docs&nbsp\;de 2019&nbsp\;The Archit
 ectures of Prediction: Truth is in the Tower&nbsp\;a cargo de Francesca Hu
 ghes\,&nbsp\;directora de la Escuela de Arquitectura de la Universidad de 
 Tecnolog&iacute\;a de S&iacute\;dney\, Australia\,&nbsp\;quien en su visit
 a dictar&aacute\; la charla magistral 'The architecture of error'.\nFrance
 sca Hughes\nTe&oacute\;rica de la arquitectura\, profesora y especialista 
 en la relaci&oacute\;n entre arquitectura y tecnolog&iacute\;a. Francesca 
 Hughes es directora de la Escuela de Arquitectura de la Universidad de Tec
 nolog&iacute\;a de S&iacute\;dney\, Australia. Ha ense&ntilde\;ado tallere
 s y cursos de historia y teor&iacute\;a en la Architectural Association y 
 la Bartlett School of Architecture\, UCL\, en Londres\, de donde es origin
 aria. Tambi&eacute\;n ha ense&ntilde\;ado en The Berlage\, TU Delft\, y ha
  sido profesora visitante en KU Leuven en Bruselas. Ha dado numerosas conf
 erencias en EE.UU.\, Australia y Europa y ha publicado varios libros entre
  los que podemos destacar The Architecture of Error: Matter\, Measure and 
 the Misadventures of Precision (MIT Press\, 2014)\, Drawings that Count (A
 A Publications\, 2012)\, y The Architect: Reconstructing her Practice (MIT
  Press\, 1996). Actualmente est&aacute\; trabajando en un nuevo libro que 
 examina la prehistoria de las relaciones entre arquitectura y computaci&oa
 cute\;n: The Architect&rsquo\;s Computer: an Indiscrete History of the Uni
 versal Discrete Machine.\nFecha_Jueves 24 de octubre de 2019\, 19.00 h\nLu
 gar_Auditorio Fernando Castillo VelascoCampus Lo ContadorEl Comendador 193
 6\, Providencia\nOrganiza_Ediciones ARQArquitectura UC\n\nNoticiasContacto
 :&nbsp\;redesarq@uc.cl&nbsp\;| +56 2 2354 7747www.arquitectura.uc.cl https
 ://fadeu-old.urantiacos.cl/agenda/evento/2019-lanzamiento-arq-docs-frances
 ca-hughes
DTSTART:20191024T220000Z
DTEND:20191024T230000Z
LOCATION:Auditorio Fernando Castillo Velasco. Edificio ARQ (El Comendador 1
 936\, Providencia\, Región Metropolitana\, Chile)
SUMMARY: Lanzamiento ARQ Docs: Francesca Hughes
URL:https://fadeu-old.urantiacos.cl/agenda/evento/2019-lanzamiento-arq-docs
 -francesca-hughes
END:VEVENT
BEGIN:VEVENT
UID:20260419T191839UTC-31042956dh@https://fadeu-old.urantiacos.cl/
DTSTAMP:20260419T191839Z
DESCRIPTION:Sesi&oacute\;n&nbsp\;&iquest\;Naturaleza o paisaje?&nbsp\;del&n
 bsp\;ciclo&nbsp\;Proyecciones desde el paisaje&nbsp\;desarrollado en el ma
 rco del curso de pregrado&nbsp\;Ciudad y Paisaje III\,&nbsp\;dictado&nbsp\
 ;por las profesoras Romy Hecht y Tatiana Carbonell\,&nbsp\;ocasi&oacute\;n
  en la que se proyectar&aacute\;&nbsp\;Gerry&nbsp\;de Gus Van Sant (THINKF
 ilm\, 2002).\n&nbsp\;\nEl paisaje es absolutamente inseparable de la idea 
 de su representaci&oacute\;n\, donde aquello que se formula se proyecta de
 sde una cultura\, idea e historia. El ciclo de cine&nbsp\;Proyecciones des
 de el paisaje\,&nbsp\;exhibe una serie de filmes que proponen puntos de vi
 sta particulares para construir el paisaje\, que ilustran los conceptos o 
 voluntades tanto de quienes los gestan como de quienes observan dicha proy
 ecci&oacute\;n.&nbsp\;Podr&iacute\;amos pensar entonces que\, en rigor\, e
 n una pel&iacute\;cula lo que vemos no es sino la decisi&oacute\;n de un e
 ncuadre.\nProyecciones desde el paisaje&nbsp\;es una invitaci&oacute\;n ab
 ierta a dialogar en un contrapunto desde la mirada del paisaje a la c&aacu
 te\;mara del director.&nbsp\;\nLas proyecciones del segundo semestre de 20
 19 son:\nAgosto 14&nbsp\; Paisaje y Ecolog&iacute\;a\nSurire&nbsp\;&middot
 \; Bettina Perut\, Iv&aacute\;n Osnovikoff (Taskovski Films\, Dirk Manthey
  Film\, 2015)\n&nbsp\;\n&nbsp\;\nAgosto 21&nbsp\;Paisaje e Infraestructura
 \nDeliverance&nbsp\;&middot\; John Boorman (Warner Bros\,1972)\n&nbsp\;\n&
 nbsp\;\nAgosto 28&nbsp\;Paisaje y Memoria\nFlores&nbsp\;&middot\; Jorge J&
 aacute\;come (2017)\, fragmentos\n&nbsp\;\n&nbsp\;\nOctubre 02&nbsp\;El Ja
 rd&iacute\;n Real\nLast Year at Marienbad&nbsp\;&middot\; Alain Resnais (C
 ineriz\, 1961)\n&nbsp\;\n&nbsp\;\nOctubre 23&nbsp\;&iquest\;Naturaleza o P
 aisaje?\nGerry&nbsp\;&middot\; Gus Van Sant (THINKFilm\, 2002)\n&nbsp\;\n&
 nbsp\;\nOctubre 30&nbsp\;Pulmones y Otros Dispositivos Verdes\nBlow Up&nbs
 p\;&middot\; Michelangelo Antonioni (MGM\, 1966)\n&nbsp\;\nFechas_\n2&ordm
 \; semestre 2019 | Mi&eacute\;rcoles 13.20 a 15.20 h\n&nbsp\;\nLugar_\nSal
 &oacute\;n Sergio Larra&iacute\;n Garc&iacute\;a Moreno\nCampus Lo Contado
 r\nEl Comendador 1936\, Providencia\n&nbsp\;\nOrganiza_\nEscuela de Arquit
 ectura UC&nbsp\;\n&nbsp\;\n\n&nbsp\;\nNoticiasContacto:&nbsp\;redesarq@uc.
 cl&nbsp\;| +56 2 2354 7747www.arquitectura.uc.cl https://fadeu-old.urantia
 cos.cl/agenda/evento/2007-proyecciones-desde-el-paisaje-naturaleza-o-paisa
 je
DTSTART:20191023T162000Z
DTEND:20191023T182000Z
LOCATION:Salón Sergio Larraín\, Campus Lo Contador ()
SUMMARY:Proyecciones desde el paisaje | ¿Naturaleza o paisaje?
URL:https://fadeu-old.urantiacos.cl/agenda/evento/2007-proyecciones-desde-e
 l-paisaje-naturaleza-o-paisaje
END:VEVENT
BEGIN:VEVENT
UID:20260419T191839UTC-3113xirRfu@https://fadeu-old.urantiacos.cl/
DTSTAMP:20260419T191839Z
DESCRIPTION:\nSurgidos como una respuesta a los cambios sociales\, econ&oac
 ute\;micos y pol&iacute\;ticos de diversos contextos\, existen modelos de 
 producci&oacute\;n de vivienda que han sido concebidos desde l&oacute\;gic
 as colaborativas y que se presentan como alternativas para desencadenar nu
 evos procesos de regeneraci&oacute\;n urbana. En el marco de la XXI Bienal
  de Arquitectura y Urbanismo de Chile\, el seminario UC &ldquo\;Miradas cr
 uzadas hacia la vivienda colaborativa&rdquo\; busca debatir\, tanto desde 
 la teor&iacute\;a\, el proyecto y las pol&iacute\;ticas p&uacute\;blicas\,
  en torno a estas estrategias y casos con el objetivo de profundizar en do
 s tem&aacute\;ticas clave de nuestro pa&iacute\;s hoy: la vivienda y la ci
 udad.\n\n\nInvitados_Darinka Czischke |&nbsp\;Profesora asistente de la Fa
 cultad de Arquitectura y el Entorno Construido de la Universidad TU Delft.
  PhD en Arquitectura TU Delft\, y M&aacute\;ster en Estudios de Planificac
 i&oacute\;n Regional y Urbano por (LSE) London School of Economics and Pol
 itical Science.\nJavier Ruiz-Tagle |&nbsp\;PhD en planificaci&oacute\;n y 
 pol&iacute\;ticas urbanas por la Universidad de Illinois en Chicago\, Esta
 dos Unidos (2014). Magister en Urbanismo (2006) y Arquitecto (2004) por la
  Universidad de Chile.&nbsp\;Profesor del Instituto de Estudios Urbanos y 
 Territoriales de la Pontificia Universidad Cat&oacute\;lica de Chile.&nbsp
 \;\nElke Schlack |&nbsp\;Arquitecta titulada de la Pontificia Universidad 
 Cat&oacute\;lica de Chile\, PUC\, y Doctora en Arquitectura (Dr.-Ing.) por
  la Universidad Tecnol&oacute\;gica de Berl&iacute\;n\, Alemania. Es acad&
 eacute\;mica e investigadora de la Escuela de Arquitectura de la Pontifici
 a Universidad Cat&oacute\;lica de Chile y docente de la Universidad Andr&e
 acute\;s Bello.\nRodrigo Tapia |&nbsp\;Arquitecto y Mag&iacute\;ster en De
 sarrollo Urbano de la Pontificia Universidad Cat&oacute\;lica de Chile\, p
 rofesor Asociado de la Escuela de Arquitectura UC. Su principal l&iacute\;
 nea de inter&eacute\;s y especializaci&oacute\;n\, tanto en su desarrollo 
 profesional como docente\, se refiere a la Habitabilidad en Territorios Vu
 lnerables.\nConsuelo Araos |&nbsp\;Doctora en Ciencias de la Sociedad\, &E
 acute\;cole Normale Sup&eacute\;rieure de Paris. Mag&iacute\;ster en Socio
 log&iacute\;a de la Pontificia Universidad Cat&oacute\;lica de Chile. Soci
 &oacute\;loga de la Pontificia Universidad Cat&oacute\;lica de Chile. Prof
 esora asistente del Instituto de Sociolog&iacute\;a de la Universidad Cat&
 oacute\;lica. Sus &aacute\;reas de Investigaci&oacute\;n: Familia y Parent
 esco\, Pol&iacute\;ticas Habitacionales\, Residencia\, Teor&iacute\;a Soci
 ol&oacute\;gica y Antropol&oacute\;gica\, Vida Dom&eacute\;stica.\nFrancis
 ca Marquez |&nbsp\;Doctora en Sociolog&iacute\;a\, Universidad Cat&oacute\
 ;lica de Lovaina\, B&eacute\;lgica. Mag&iacute\;ster en Developement Unive
 rsit&eacute\; Catholique de Louvain\, B&eacute\;lgica. Antrop&oacute\;loga
 \, Soci&oacute\;loga\, Licenciada en Antropolog&iacute\;a\, Universidad de
  Chile. Antropolog&iacute\;a Urbana\, Identidades\, Memoria y Representaci
 ones Sociales son sus temas de inter&eacute\;s.\nCooperativa de Vivienda Y
 ungay |&nbsp\;Una de las primeras cooperativas&nbsp\;en su modelo bajo la 
 modalidad de propiedad colectiva constituida en los &uacute\;ltimos 30 a&n
 tilde\;os. Est&aacute\; formada por un equipo interdisciplinario de profes
 ionales que\, adem&aacute\;s de trabajar por su proyecto habitavcional\, r
 ealiza asesor&iacute\;as en modelo cooperativo de vivienda a trav&eacute\;
 s de la experiencia profesional\, personal y colectiva.&nbsp\;Adem&aacute\
 ;s\, es parte de la Red H&aacute\;bitat Popular Santiago de Chile y de la 
 Secretar&iacute\;a Latinoamericana de Vivienda y H&aacute\;bitat Popular (
 SELVIHP).\nJoan Mc Donald |&nbsp\;Arquitecta\, especializado en pol&iacute
 \;ticas y programas de asentamientos humanos. Es Presidenta del Servicio L
 atinoamericano\, Africano y Asi&aacute\;tico de Vivienda Popular SELAVIP\,
  entidad que apoya proyectos de vivienda en las regiones m&aacute\;s pobre
 s del mundo. Fue Subsecretaria de Vivienda y Urbanismo de Chile entre 1990
  y 1994\, impulsando especialmente la puesta en marcha de programas habita
 cionales y urbanos participativos.\nPrograma_Bloque I: &iquest\;Qu&eacute\
 ; entendemos por vivienda colaborativa?8.30-9.00 h | Acreditaci&oacute\;n9
 .00-9.10 h | Saludos de BienvenidaLuis Eduardo Brescianni |&nbsp\;Director
  de la Escuela de Arquitectura UC09.10-09.20 h | Presentaci&oacute\;n del 
 seminarioCristi&aacute\;n Robertson |&nbsp\;Profesor de la Escuela de Arqu
 itectura de la Pontificia Universidad Cat&oacute\;lica de Chile9.20-9.35 h
  | Reflexi&oacute\;n sobre el modelo de vivienda social europeo y oportuni
 dades para cooperativas de vivienda a trav&eacute\;s del caso holand&eacut
 e\;sDarinka Czischke |&nbsp\;Profesora asistente de la Facultad de Arquite
 ctura y el Entorno Construido de la Universidad TU Delft9.35-09.50 h | Coo
 perativas en ChileJavier Ruiz-Tagle |&nbsp\;Profesor del Instituto de Estu
 dios Urbanos y Territoriales de la Pontificia Universidad Cat&oacute\;lica
  de Chile09.50-10.05 h | El espacio p&uacute\;blico y el espacio colectivo
  en barrios 9x18. Aproximaci&oacute\;n a la vivienda colaborativa desde lo
 s espacios p&uacute\;blico y espacios colectivosElke Schlack |&nbsp\;Profe
 sora de la Escuela de Arquitectura de la Pontificia Universidad Cat&oacute
 \;lica de Chile10.05-11.00 h | Mesa de Conversaci&oacute\;n11.00-11.20 h |
  Coffee Break\nBloque II: Experiencias de Vivienda Colaborativa en Chile\n
 11.20-11.30 h | Presentaci&oacute\;n del Bloque II\n11.30-11.45 h | Barrio
 s 9x18. Vivienda colaborativa informalRodrigo Tapia |&nbsp\;Profesor de la
  Escuela de Arquitectura de la Pontificia Universidad Cat&oacute\;lica de 
 ChileConsuelo Araos |&nbsp\;Profesora del Instituto de Sociolog&iacute\;a 
 de la Pontificia Universidad Cat&oacute\;lica de Chile\n11.45-12.00 h | Co
 munidades Castillo VelascoFrancisca Marquez |&nbsp\;Doctora en Sociolog&ia
 cute\;a\, Universidad Cat&oacute\;lica de Lovaina\, B&eacute\;lgica\, y Ma
 g&iacute\;ster en Developement Universit&eacute\; Catholique de Louvain\, 
 B&eacute\;lgica\n12.00-12.15 h | Condominios tuteladosConstanza Daniels |&
 nbsp\;Gerente General Fundaci&oacute\;n Oportunidad Mayor\n12.15-12.30 h |
  Cooperativa de Vivienda YungayMiembro de la Cooperativa de Vivienda Yunga
 y\n12.30-13.00 h | Cierre: Proyectos Colaborativos de Vivienda. El habitan
 te al centro del proyectoJoan Mc Donald |&nbsp\;Presidenta del Servicio La
 tinoamericano\, Africano y Asi&aacute\;tico de Vivienda Popular SELAVIPFec
 ha_Mi&eacute\;rcoles 23 de octubre de 2019\, 8.30 a 13.00 hLugar_Teatro Hu
 emulLos Algarrobos 2167\, Santiago CentroOrganiza_Escuela de Arquitectura 
 UC&nbsp\;Laboratorio 9x18Colabora_Universidad TU DelftXXI Bienal de Arquit
 ectura y Urbanismo de Chile\nNoticiasContacto:&nbsp\;redesarq@uc.cl&nbsp\;
 | +56 2 2354 7747www.arquitectura.uc.cl\n\n\n&nbsp\; https://fadeu-old.ura
 ntiacos.cl/agenda/evento/1997-seminario-regeneracion-urbana-miradas-cruzad
 as-hacia-la-vivienda-colaborativa
DTSTART:20191023T113000Z
DTEND:20191023T160000Z
LOCATION:Teatro Huemul (Los algarrobos 2167)
SUMMARY:Seminario 'Regeneración Urbana: Miradas Cruzadas hacia la vivienda 
 colaborativa'
URL:https://fadeu-old.urantiacos.cl/agenda/evento/1997-seminario-regeneraci
 on-urbana-miradas-cruzadas-hacia-la-vivienda-colaborativa
END:VEVENT
END:VCALENDAR
