BEGIN:VCALENDAR
VERSION:2.0
PRODID:-//https://fadeu-old.urantiacos.cl///NONSGML kigkonsult.se iCalcreator 2.10.15//
METHOD:PUBLISH
BEGIN:VEVENT
UID:20260419T174902UTC-5592xnui4x@https://fadeu-old.urantiacos.cl/
DTSTAMP:20260419T174902Z
DESCRIPTION:\nSesi&oacute\;n&nbsp\;Pulmones y otros dispositivos verdes&nbs
 p\;del&nbsp\;ciclo&nbsp\;Proyecciones desde el paisaje&nbsp\;desarrollado 
 en el marco del curso de pregrado&nbsp\;Ciudad y Paisaje III\,&nbsp\;dicta
 do&nbsp\;por las profesoras Romy Hecht y Tatiana Carbonell\,&nbsp\;ocasi&o
 acute\;n en la que se proyectar&aacute\;&nbsp\;Blow Up&nbsp\;de Michelange
 lo Antonioni (MGM\, 1966).\n\n\n\nEl paisaje es absolutamente inseparable 
 de la idea de su representaci&oacute\;n\, donde aquello que se formula se 
 proyecta desde una cultura\, idea e historia. El ciclo de cine&nbsp\;Proye
 cciones desde el paisaje\,&nbsp\;exhibe una serie de filmes que proponen p
 untos de vista particulares para construir el paisaje\, que ilustran los c
 onceptos o voluntades tanto de quienes los gestan como de quienes observan
  dicha proyecci&oacute\;n.&nbsp\;Podr&iacute\;amos pensar entonces que\, e
 n rigor\, en una pel&iacute\;cula lo que vemos no es sino la decisi&oacute
 \;n de un encuadre.\nProyecciones desde el paisaje&nbsp\;es una invitaci&o
 acute\;n abierta a dialogar en un contrapunto desde la mirada del paisaje 
 a la c&aacute\;mara del director.&nbsp\;\nLas proyecciones del segundo sem
 estre de 2019 son:\nAgosto 14&nbsp\; Paisaje y Ecolog&iacute\;aSurire&nbsp
 \;&middot\; Bettina Perut\, Iv&aacute\;n Osnovikoff (Taskovski Films\, Dir
 k Manthey Film\, 2015)Agosto 21&nbsp\;Paisaje e InfraestructuraDeliverance
 &nbsp\;&middot\; John Boorman (Warner Bros\,1972)Agosto 28&nbsp\;Paisaje y
  MemoriaFlores&nbsp\;&middot\; Jorge J&aacute\;come (2017)\, fragmentosOct
 ubre 02&nbsp\;El Jard&iacute\;n RealLast Year at Marienbad&nbsp\;&middot\;
  Alain Resnais (Cineriz\, 1961)Octubre 23&nbsp\;&iquest\;Naturaleza o Pais
 aje?Gerry&nbsp\;&middot\; Gus Van Sant (THINKFilm\, 2002)Octubre 30&nbsp\;
 Pulmones y Otros Dispositivos VerdesBlow Up&nbsp\;&middot\; Michelangelo A
 ntonioni (MGM\, 1966)Fechas_2&ordm\; semestre 2019 | Mi&eacute\;rcoles 13.
 20 a 15.20 hLugar_Sal&oacute\;n Sergio Larra&iacute\;n Garc&iacute\;a More
 noCampus Lo ContadorEl Comendador 1936\, ProvidenciaOrganiza_Escuela de Ar
 quitectura UC&nbsp\;NoticiasContacto:&nbsp\;redesarq@uc.cl&nbsp\;| +56 2 2
 354 7747www.arquitectura.uc.cl\n\n&nbsp\; https://fadeu-old.urantiacos.cl/
 agenda/evento/2017-ciclo-proyecciones-desde-el-paisaje-pulmones-y-otros-di
 spositivos-verdes
DTSTART:20191030T162000Z
DTEND:20191030T182000Z
LOCATION:Salón Sergio Larraín\, Campus Lo Contador ()
SUMMARY:Ciclo Proyecciones desde el paisaje | Pulmones y otros dispositivos
  verdes
URL:https://fadeu-old.urantiacos.cl/agenda/evento/2017-ciclo-proyecciones-d
 esde-el-paisaje-pulmones-y-otros-dispositivos-verdes
END:VEVENT
BEGIN:VEVENT
UID:20260419T174902UTC-5615tR9txu@https://fadeu-old.urantiacos.cl/
DTSTAMP:20260419T174902Z
DESCRIPTION:Conversatorio: Di&aacute\;logos para&nbsp\; la equidad urbana\,
  en el cual tendremos como invitada a&nbsp\;Claudia Hern&aacute\;ndez\,&nb
 sp\;Presidenta de la Junta de Vecinos Villa Marta Brunet (Bajos de Mena\, 
 Puente Alto).\nLa actividad se realizar&aacute\; el d&iacute\;a&nbsp\;mi&e
 acute\;rcoles 30 de octubre&nbsp\;a las 11:30&nbsp\;en el&nbsp\;Auditorio 
 Fernando Castillo Velasco\, Campus Lo Contador UC\,&nbsp\;El Comendador 19
 16\, Providencia.\nLas inscripciones se realizan al siguiente&nbsp\;link\n
  https://fadeu-old.urantiacos.cl/agenda/evento/2031-conversatorio-dialogos
 -para-la-equidad-urbana
DTSTART:20191030T143000Z
DTEND:20191030T153000Z
LOCATION:Auditorio Fernando Castillo Velasco. Edificio ARQ (El Comendador 1
 936\, Providencia\, Región Metropolitana\, Chile)
SUMMARY:Conversatorio: Diálogos para  la equidad urbana
URL:https://fadeu-old.urantiacos.cl/agenda/evento/2031-conversatorio-dialog
 os-para-la-equidad-urbana
END:VEVENT
END:VCALENDAR
