BEGIN:VCALENDAR
VERSION:2.0
PRODID:-//https://fadeu-old.urantiacos.cl///NONSGML kigkonsult.se iCalcreator 2.10.15//
METHOD:PUBLISH
BEGIN:VEVENT
UID:20260419T174903UTC-0513gbHKSh@https://fadeu-old.urantiacos.cl/
DTSTAMP:20260419T174903Z
DESCRIPTION:Les invitamos a la charla abierta de nuestra invitada internaci
 onal Shanti Sumartojo\, titulada &laquo\;Dise&ntilde\;ando Atm&oacute\;sfe
 ras: Entre normalidad y subversi&oacute\;n&raquo\;. Esta se realizar&aacut
 e\; el pr&oacute\;ximo jueves 14 de noviembre de 2019\, 11AM en el Sal&oac
 ute\;n Sergio Larra&iacute\;n del Campus Lo Contador\, Pontificia Universi
 dad Cat&oacute\;lica de Chile.\nResumen de la charla: Dentro de la actual 
 atm&oacute\;sfera de malestar y descontento social\, se vuelve urgente des
 de el dise&ntilde\;o abordar c&oacute\;mo estamos experimentando nuestro m
 undo. Las atm&oacute\;sferas\, o el c&oacute\;mo sentimos y percibimos los
  espacios\, ha sido una preocupaci&oacute\;n constante para dise&ntilde\;a
 dores\, arquitectos y cientistas sociales. Estando siempre presentes\, per
 cibimos las atm&oacute\;sferas como el resultado de una serie de configura
 ciones &uacute\;nicas de aspectos materiales\, sensoriales\, afectivos e i
 maginarios de nuestro entorno. En esta charla\, Shanti Sumartojo propondr&
 aacute\; &ldquo\;pensar atmosf&eacute\;ricamente&rdquo\; para abrir nuevas
  posibilidades de comprensi&oacute\;n\, imaginaci&oacute\;n e intervenci&o
 acute\;n mediante el dise&ntilde\;o\, desde una aproximaci&oacute\;n inter
 disciplinaria e informada por etnograf&iacute\;as del dise&ntilde\;o.\nSha
 nti Sumartojo&nbsp\;es profesora asociada en investigaci&oacute\;n en Dise
 &ntilde\;o de la Facultad de Arte\, Dise&ntilde\;o y Arquitectura en Monas
 h University\, Australia\; y miembro de The Emerging Technologies Research
  Lab\, donde dirige el &aacute\;rea de investigaci&oacute\;n &lsquo\;Futur
 e Shared Environments&rsquo\;. A trav&eacute\;s del uso de metodolog&iacut
 e\;as etnogr&aacute\;ficas\, investiga c&oacute\;mo experimentamos los ent
 ornos espaciales\, incluyendo aspectos materiales e inmateriales\, con un 
 enfoque en el entorno construido\, el dise&ntilde\;o y la tecnolog&iacute\
 ;a. Sus publicaciones m&aacute\;s recientes son The Exchange at Knowledge 
 Market: An Urban Living Lab (2019) y Atmospheres and the Experiential Worl
 d: Theory and Methods (2018).\n https://fadeu-old.urantiacos.cl/agenda/eve
 nto/2035-charla-abierta-disenando-atmosferas-entre-normalidad-y-subversion
 -de-shanti-sumartojo
DTSTART:20191114T143000Z
DTEND:20191114T160000Z
LOCATION:Salón Sergio Larraín\, Campus Lo Contador ()
SUMMARY:Charla abierta «Diseñando Atmósferas: Entre normalidad y subversión
 » de Shanti Sumartojo
URL:https://fadeu-old.urantiacos.cl/agenda/evento/2035-charla-abierta-disen
 ando-atmosferas-entre-normalidad-y-subversion-de-shanti-sumartojo
END:VEVENT
BEGIN:VEVENT
UID:20260419T174903UTC-0534uhc6cK@https://fadeu-old.urantiacos.cl/
DTSTAMP:20260419T174903Z
DESCRIPTION:SHANTI SUMARTOJO\, Profesora asociada en investigaci&oacute\;n 
 en Dise&ntilde\;o\, en Monash University Art Design &amp\; Architecture\, 
 Australia\; y miembro de The Emerging Technologies Research Lab\, propondr
 &aacute\; &ldquo\;pensar atmosf&eacute\;ricamente&rdquo\; para abrir nueva
 s posibilidades de comprensi&oacute\;n\, imaginaci&oacute\;n e intervenci&
 oacute\;n mediante el dise&ntilde\;o\, desde una aproximaci&oacute\;n inte
 rdisciplinaria e informada por etnograf&iacute\;as del dise&ntilde\;o.\n\n
 PanelValeria Radrig&aacute\;nDirectora creativa proyecto Translab. Doctora
  en Filosof&iacute\;a menci&oacute\;n Est&eacute\;tica y teor&iacute\;a de
 l arte\, Universidad de Chile. Master en Teor&iacute\;a del Arte Contempor
 &aacute\;neo\, U. Complutense de Madrid\, Espa&ntilde\;a.\nSebasti&aacute\
 ;n ValenzuelaProfesor de la Facultad de Comunicaciones UC. Doctor en Comun
 icaciones de la Universidad de Texas\, Estados Unidos. Investigador del Ce
 ntro de Investigaci&oacute\;n para la Gesti&oacute\;n Integrada del Riesgo
  de DesastresCIGIDEN y del Instituto Milenio para los Fundamentos de los D
 atos (IMFD).\nPatricia Pe&ntilde\;aProfesora y coordinadora del Diplomado 
 en Comunicaci&oacute\;n Digital del Instituto de Comunicaci&oacute\;n e Im
 agen de la Universidad de Chile. Periodista y Mag&iacute\;ster en Comunica
 ci&oacute\;n de la Universidad Diego Portales y Mag&iacute\;ster en Comuni
 caci&oacute\;n\, Nuevos Medios y Sociedad de The London School of Economic
 s and Political Science\, Inglaterra. Directora de la Fundaci&oacute\;n Da
 tos Protegidos.\nOrganizanFondecyt N&ordm\; 1180062Plataforma SDTDise&ntil
 de\;o UC\nInscr&iacute\;bete aqu&iacute\;&nbsp\;https://static.xx.fbcdn.ne
 t/images/emoji.php/v9/t9e/1/16/27a1.png')\;'&gt\;➡️&nbsp\;https://forms.gl
 e/zfbZHkkKNduAo1nZA\n https://fadeu-old.urantiacos.cl/agenda/evento/2033-c
 onferencia-lo-social-y-lo-digital-en-tiempos-de-crisis-desigualdades-polit
 ica-y-materialidades
DTSTART:20191112T163000Z
DTEND:20191112T173000Z
LOCATION:Sala Mada\, Lo Contador (Los Navegantes 1919\, Providencia\, Regió
 n Metropolitana\, Chile)
SUMMARY:Conferencia: Lo Social y lo Digital en tiempos de Crisis: desiguald
 ades\, política y materialidades
URL:https://fadeu-old.urantiacos.cl/agenda/evento/2033-conferencia-lo-socia
 l-y-lo-digital-en-tiempos-de-crisis-desigualdades-politica-y-materialidade
 s
END:VEVENT
END:VCALENDAR
