BEGIN:VCALENDAR
VERSION:2.0
PRODID:-//https://fadeu-old.urantiacos.cl///NONSGML kigkonsult.se iCalcreator 2.10.15//
METHOD:PUBLISH
BEGIN:VEVENT
UID:20260420T124123UTC-6131nzVzze@https://fadeu-old.urantiacos.cl/
DTSTAMP:20260420T124123Z
DESCRIPTION:Serie de Discusi&oacute\;n y Cr&iacute\;tica de Edificios22 | U
 NIVERSIDADES\nLa s&eacute\;ptima y &uacute\;ltima versi&oacute\;n 2018 del
  ciclo 'Discusi&oacute\;n y Cr&iacute\;tica de Edificios'\, organizado por
  el Mag&iacute\;ster en Arquitectura UC\, se titula &lsquo\;UNIVERSIDADES&
 rsquo\;. En esta ocasi&oacute\;n la invitada a exponer ser&aacute\; Gabrie
 la Garc&iacute\;a de Cortazar qui&eacute\;n presentar&aacute\; el Campus C
 reativo UNAB -de Schmidt Arquitectos Asociados- y Duoc Puente Alto&nbsp\; 
 -de Sabbagh Arquitectos-. El panel de discusi&oacute\;n posterior estar&aa
 cute\; compuesto por Max N&uacute\;&ntilde\;ez\, Cristi&aacute\;n Izquierd
 o\, Pedro Correa y Nicol&aacute\;s Stutzin.\n* En esta ocasi&oacute\;n la 
 discusi&oacute\;n se realizar&aacute\; en el sal&oacute\;n Sergio Larra&ia
 cute\;n Garc&iacute\;a Moreno.\nFecha_Viernes 16 de octubre de 2018\, 18.3
 0 h.\nLugar_Sal&oacute\;n Sergio Larra&iacute\;n Garc&iacute\;a Moreno\, C
 ampus Lo Contador. El Comendador 1936\, Providencia\nInvitan_MARQ UCArquit
 ectura UC&nbsp\;\n\nNoticiasContacto:&nbsp\;arq@uc.cl&nbsp\;| +56 2 2354 7
 747www.arquitectura.uc.cl https://fadeu-old.urantiacos.cl/agenda/evento/17
 44-discusion-y-critica-de-edificios-22-gabriela-garcia-de-cortazar
DTSTART:20181116T213000Z
DTEND:20181116T223000Z
LOCATION:Salón Sergio Larraín\, Campus Lo Contador ()
SUMMARY:Discusión y Crítica de edificios #22: Gabriela García de Cortázar
URL:https://fadeu-old.urantiacos.cl/agenda/evento/1744-discusion-y-critica-
 de-edificios-22-gabriela-garcia-de-cortazar
END:VEVENT
BEGIN:VEVENT
UID:20260420T124123UTC-61399EjNPs@https://fadeu-old.urantiacos.cl/
DTSTAMP:20260420T124123Z
DESCRIPTION:Para la primera edici&oacute\;n de este ciclo de discusiones\, 
 la Escuela de Arquitectura UC (EARQ-UC)&nbsp\;invita a representantes de l
 a Fundaci&oacute\;n Gente de la Calle (FGC) a exponer los desaf&iacute\;os
  a&nbsp\;enfrentar en la erradicaci&oacute\;n de la 'situaci&oacute\;n cal
 le'\, desde una mirada institucional como&nbsp\;tambi&eacute\;n desde la A
 rquitectura y Urbanismo.\n&nbsp\;\nEste evento se enmarca en el convenio d
 e colaboraci&oacute\;n entre EARQ-UC y FGC\, firmado este&nbsp\;a&ntilde\;
 o con el objetivo de instalar el Centro de Innovaci&oacute\;n Social de la
  Fundaci&oacute\;n en pleno Barrio&nbsp\;Franklin\, junto con el desarroll
 o conjunto de investigaciones y proyectos asociados a la&nbsp\;problem&aac
 ute\;tica de la situaci&oacute\;n calle.\nFundaci&oacute\;n Gente de la Ca
 lle&nbsp\;\nLa Fundaci&oacute\;n Gente de la Calle aporta con su experienc
 ia y profesionalismo a la sensibilizaci&oacute\;n&nbsp\;social y al desarr
 ollo de pol&iacute\;ticas p&uacute\;blicas para la prevenci&oacute\;n y er
 radicaci&oacute\;n de la situaci&oacute\;n de&nbsp\;calle: una instituci&o
 acute\;n solidaria\, formada por profesionales y voluntarios\, que se ocup
 a de las&nbsp\;personas en situaci&oacute\;n de calle en todas sus dimensi
 ones\, favoreciendo su dignidad e&nbsp\;integraci&oacute\;n a la sociedad.
  Para ello\, participan de alianzas con entes p&uacute\;blicos y privados\
 ,&nbsp\;generando espacios de formaci&oacute\;n y reflexi&oacute\;n de su 
 experiencia institucional.\n&nbsp\;\n&nbsp\;\n&nbsp\;\nFecha_\nViernes 16 
 de noviembre de 2018\, 14.00 - 17.00 h.\n&nbsp\;\n&nbsp\;\nLugar_\nSal&oac
 ute\;n Sergio Larrain Garc&iacute\;a Moreno\nEscuela de Arquitectura UC &n
 dash\; Campus Lo Contador\nEl Comendador 1936\, Providencia\nOrganizadores
 _Escuela de Arquitectura UCIncubadora de Proyectos P&uacute\;blicos EARQ-U
 CFundaci&oacute\;n Gente de la Calle\n\nArquitectura UCContacto:&nbsp\;red
 esarq@uc.cl&nbsp\;| +56 2 2354 7747www.arquitectura.uc.cl https://fadeu-ol
 d.urantiacos.cl/agenda/evento/1739-seminario-ciudad-arquitectura-y-situaci
 on-calle-erradicar-la-situacion-calle-en-chile
DTSTART:20181116T170000Z
DTEND:20181116T200000Z
LOCATION:Salón Sergio Larraín\, Campus Lo Contador ()
SUMMARY:Seminario “Ciudad\, arquitectura y situación calle: ¿Erradicar la s
 ituación calle en Chile?”
URL:https://fadeu-old.urantiacos.cl/agenda/evento/1739-seminario-ciudad-arq
 uitectura-y-situacion-calle-erradicar-la-situacion-calle-en-chile
END:VEVENT
BEGIN:VEVENT
UID:20260420T124123UTC-61467j0GKg@https://fadeu-old.urantiacos.cl/
DTSTAMP:20260420T124123Z
DESCRIPTION:En el marco del&nbsp\;Seminario Sociedad\, Dise&ntilde\;o y Tec
 nolog&iacute\;a\, el jueves 15 de noviembre Mar&iacute\;a Carolina Pino di
 ctar&aacute\; la charla&nbsp\;&ldquo\;Interfaces emergentes para la innova
 ci&oacute\;n tecnol&oacute\;gica a trav&eacute\;s de metodolog&iacute\;a C
 PA&rdquo\;.\nEn esta presentaci&oacute\;n se abordar&aacute\;n proyectos d
 e dise&ntilde\;o basados en la metodolog&iacute\;a educativa CPA o C&eacut
 e\;lula de Proyecto Aut&oacute\;nomo\, la cual se desarrollan la interior 
 del Centro de Interfaces Emergentes. Esta aproximaci&oacute\;n toma elemen
 tos pr&aacute\;cticos de la ense&ntilde\;anza del Arte y la Ingenier&iacut
 e\;a y otros te&oacute\;ricos de los principios de la educaci&oacute\;n co
 nstructivista y del Busdismo Zen. Se argumentar&aacute\;n cruces disciplin
 ares entre arte\, arquitectura\, ingenier&iacute\;a y dise&ntilde\;o\, lo 
 cual permite propiciar espacios de innovaci&oacute\;n radical\, generando 
 una indivisibilidad del coraz&oacute\;n\, la mano y la cabeza como herrami
 entas fundamentales para el desarrollo de proyectos creativos con tecnolog
 &iacute\;a digital f&iacute\;sica.\n\nMar&iacute\;a Carolina Pino AhumadaL
 icenciada en Artes Visuales de la Universidad de Chile\, Master del Intera
 ctive Telecommunications Program\, Tisch School of the Arts &ndash\; New Y
 ork University\, estudios de postgrado en la Pontificia Universidad Cat&oa
 cute\;lica de Chile y en la Facultad de Arte y Arquitectura de la Universi
 dad de Columbia &ndash\; NY. Su trabajo como artista y educadora aborda la
  tecnolog&iacute\;a digital desde una perspectiva cr&iacute\;tica a trav&e
 acute\;s del uso de materiales reciclados y la combinaci&oacute\;n con Phy
 sical Computing &ndash\; redes\, movilidad\, m&aacute\;quinas- en los &aac
 ute\;mbitos de intervenciones p&uacute\;blicas\, usables\, educaci&oacute\
 ;n y tecnolog&iacute\;a asistiva. Su campo de acci&oacute\;n re&uacute\;ne
  elementos tanto de Arte y Ciencia para proyectos que operen en la ciudad 
 y la relaci&oacute\;n de esta con sus habitantes. Actualmente es directora
  del Centro de Interfaces Emergentes de la Facultad de Dise&ntilde\;o de l
 a Universidad Adolfo Ib&aacute\;&ntilde\;ez.\n\n\nComenta:&nbsp\;Dr. Claud
 ia N&uacute\;&ntilde\;ez-Pacheco\, Acad&eacute\;mica Escuela de Dise&ntild
 e\;o Universidad Austral de Chile. PhD Interaction Design\, M.IDEA\, Unive
 rsity of SydneyFecha: 15 de noviembre a las 5.30Lugar: Auditorio Fernando 
 Castillo Velasco &ndash\; Campus Lo Contador\nProyecto Fondecyt N&ordm\; 1
 180062.&nbsp\;\n&nbsp\;\n\n&nbsp\;\n\n\n https://fadeu-old.urantiacos.cl/a
 genda/evento/1743-seminario-sdt-charla-centro-de-interfaces-emergentes-met
 odologia-para-proyectos-de-innovacion-tecnologica
DTSTART:20181115T203000Z
DTEND:20181115T213000Z
LOCATION:Auditorio Fernando Castillo Velasco. Edificio ARQ (El Comendador 1
 936\, Providencia\, Región Metropolitana\, Chile)
SUMMARY: Seminario SDT: Charla 'Centro de interfaces emergentes. Metodologí
 a para proyectos de innovación tecnológica'
URL:https://fadeu-old.urantiacos.cl/agenda/evento/1743-seminario-sdt-charla
 -centro-de-interfaces-emergentes-metodologia-para-proyectos-de-innovacion-
 tecnologica
END:VEVENT
BEGIN:VEVENT
UID:20260420T124123UTC-6157BL4M7N@https://fadeu-old.urantiacos.cl/
DTSTAMP:20260420T124123Z
DESCRIPTION:\nEl seminario busca presentar y discutir propuestas de regener
 aci&oacute\;n urbana y habitacional generadas desde la Escuela de Arquitec
 tura UC\, dialogando con la pol&iacute\;tica p&uacute\;blica y la forma en
  que esta opera actualmente. Las propuestas ser&aacute\;n comentadas y dis
 cutidas por acad&eacute\;micos y tomadores de decisiones del &aacute\;mbit
 o de las pol&iacute\;ticas p&uacute\;blicas:\n\n\n&bull\; Fredreric Druot&
 nbsp\;\, arquitecto fundador de PLUS&bull\; Luis Eduardo Bresciani\,&nbsp\
 ;Director EARQ UC&bull\; Claudio Castro\,&nbsp\;Alcalde de Renca&bull\; Gu
 illermo Rolando\,&nbsp\;subsecretario MINVU&nbsp\;Proyecto CuetoResponsabl
 e: Equipo Re-SantiagoEl proyecto CUETO consiste en un programa de co-resid
 encia transitoria y de habilitaci&oacute\;n social para personas vulnerabl
 es a trav&eacute\;s de subsidio al arriendo en un inmueble de tenencia mun
 icipal. El proyecto busca integrar la regeneraci&oacute\;n urbana con la s
 uperaci&oacute\;n del d&eacute\;ficit habitacional. Esto\, a trav&eacute\;
 s de un programa de arriendo protegido que aborde la crisis de accesibilid
 ad a la vivienda en &aacute\;reas urbanas centrales y detone procesos de r
 egeneraci&oacute\;n urbana en entornos deteriorados. Se trata de un progra
 ma concebido a partir de un modelo de gesti&oacute\;n que incluye un progr
 ama de acompa&ntilde\;amiento y habilitaci&oacute\;n social capaz de deton
 ar movilidad socioecon&oacute\;mica de personas altamente vulnerables y ma
 ntener el inmueble con altos est&aacute\;ndares constructivos y criterios 
 de implementaci&oacute\;n a largo plazo.Piloto regeneraci&oacute\;n urbana
  para barrios 9x18Responsable: Equipo Laboratorio 9x18El piloto de regener
 aci&oacute\;n urbana para barrios 9x18 plantea el desaf&iacute\;o de dise&
 ntilde\;ar una nueva tipolog&iacute\;a de vivienda de inter&eacute\;s soci
 al con altos est&aacute\;ndares de dise&ntilde\;o que contribuya a dinamiz
 ar la pol&iacute\;tica p&uacute\;blica asociada a nuevos formatos de micro
 -densificaci&oacute\;n\, micro-radicaci&oacute\;n y mejoramiento barrial a
  escala humana. Para tales prop&oacute\;sitos se busca a la vez\, generar 
 un modelo de gesti&oacute\;n y un dise&ntilde\;o replicable que evite la e
 xpulsi&oacute\;n de las familias a la periferia\, cuidando y fortaleciendo
  sus redes sociales.Rehabilitaci&oacute\;n de vivienda colectiva en altura
 Responsable: Equipo PLUS Chile+ SALURBALPlus Chile es una iniciativa de tr
 abajo interdisciplinaria\, formada al alero del grupo de regeneraci&oacute
 \;n urbana de la Escuela de Arquitectura de la Pontificia Universidad Cat&
 oacute\;lica de Chile\, centrado en promover la rehabilitaci&oacute\;n\, a
 mpliaci&oacute\;n y localizaci&oacute\;n de nuevas viviendas en condominio
 s sociales en altura.Actualmente\, en Chile hay m&aacute\;s de 1.500 conju
 ntos de vivienda colectiva de inter&eacute\;s social\, contabilizando m&aa
 cute\;s de 340.000 familias en su interior. Y pr&aacute\;cticamente en tod
 os los casos\, dichas viviendas no cumplen con los est&aacute\;ndares m&ia
 cute\;nimos de habitabilidad\, en cuanto a superficie\, espacio p&uacute\;
 blico y/o acondicionamiento t&eacute\;rmico. Siendo necesario intervenir\,
  actualizar y mejorar el parque de viviendas localizadas al interior de es
 tos condominios sociales en altura.El trabajo del grupo PLUS -CHILE se div
 ide en tres ejes complementarios: a) Desarrollo de metodolog&iacute\;a de 
 intervenci&oacute\;n para proyectos de rehabilitaci&oacute\;n en condomini
 os sociales en altura\, b) Desarrollo de proyectos de arquitectura\, con f
 uerte acento en la innovaci&oacute\;n tecnol&oacute\;gica y constructiva\,
  permitiendo el desarrollo de soluciones parametrizadas susceptibles de se
 r replicadas\, incorporando las adaptaciones que cada zona clim&aacute\;ti
 ca\, cada barrio o cada contexto social requieran\, y c) Posicionamiento y
  difusi&oacute\;n del tema de la rehabilitaci&oacute\;n de edificios de vi
 vienda colectiva en altura en la agenda p&uacute\;blica.Link de Inscripci&
 oacute\;n_https://docs.google.com/forms/d/e/1FAIpQLScfR1L7x-LD0BSGKgQywN0U
 lx7POHV-mCTJTO6xGQZDOkcn-A/viewform?usp=sf_link&nbsp\;Fecha_Mi&eacute\;rco
 les 14 de noviembre de 2018\,&nbsp\;9.30 a 12.00 h.Lugar_Auditorio Fernand
 o Castillo Velasco\, 4&ordm\; piso Edificio de Arquitectura\, campus Lo Co
 ntador.El Comendador 1936\, ProvidenciaOrganizan_Laboratorio 9x18 + PLUS C
 hile (ambos EARQ)Financia_Consejo de la cultura y las ArtesParticipan_Muni
 cipalidad de Pe&ntilde\;alolenFundaci&oacute\;n ViviendaConsolidaFotograf&
 iacute\;as &copy\;Laboratorio 9 x 18&nbsp\;Imagen &copy\;Re-SantiagoArquit
 ectura UCContacto:&nbsp\;redesarq@uc.cl&nbsp\;| +56 2 2354 7747www.arquite
 ctura.uc.cl\n\n&nbsp\; https://fadeu-old.urantiacos.cl/agenda/evento/1740-
 seminario-regeneracion-urbano-habitacional-hacer-ciudad-desde-las-oportuni
 dades
DTSTART:20181114T123000Z
DTEND:20181114T150000Z
LOCATION:Auditorio Fernando Castillo Velasco. Edificio ARQ (El Comendador 1
 936\, Providencia\, Región Metropolitana\, Chile)
SUMMARY:Seminario 'Regeneración Urbano Habitacional: hacer ciudad desde las
  oportunidades'
URL:https://fadeu-old.urantiacos.cl/agenda/evento/1740-seminario-regeneraci
 on-urbano-habitacional-hacer-ciudad-desde-las-oportunidades
END:VEVENT
BEGIN:VEVENT
UID:20260420T124123UTC-61730d8kmK@https://fadeu-old.urantiacos.cl/
DTSTAMP:20260420T124123Z
DESCRIPTION:Sesi&oacute\;n #2 del ciclo&nbsp\;Densidad Media 2018\, la que 
 contar&aacute\; con las presentaciones de los arquitectos Cecilia Puga y F
 rancisco Izquierdo sobre proyectos de vivienda colectiva. Comenta:&nbsp\;A
 ntonio Lipthay\, jefe del&nbsp\;Magister en Proyecto Urbano UC.\n&nbsp\;\n
 Siguiendo el formato de paneles de presentaci&oacute\;n y discusi&oacute\;
 n de casos\, esta iniciativa busca establecer un puente entre el mundo inm
 obiliario y las escuelas de arquitectura. Al acercar a los arquitectos en 
 formaci&oacute\;n una selecci&oacute\;n de edificios de vivienda colectiva
  bajo la &oacute\;ptica inmobiliaria\, el ciclo propone los proyectos de d
 ensidad media como una oportunidad para la intervenci&oacute\;n y desarrol
 lo creativo de los arquitectos aun estando bajo las l&oacute\;gicas del me
 rcado.\n&nbsp\;\nLa realizaci&oacute\;n de este ciclo y la publicaci&oacut
 e\;n que lo acompa&ntilde\;a han sido posible gracias a la colaboraci&oacu
 te\;n entre la Escuela de Arquitectura UC e iALTURA.\n&nbsp\;\nSesi&oacute
 \;n #1\n25 de octubre\nLuis Izquierdo [Batlle Ordo&ntilde\;ez 4502\, iALTU
 RA]\nEmilio Mar&iacute\;n [LF35\, Surmonte]\nComenta:&nbsp\;Max N&uacute\;
 &ntilde\;ez\, jefe MARQ UC\n&nbsp\;\nSesi&oacute\;n #2\n13 de noviembre\nC
 ecilia Puga [Edificio Plaza Pedro Montt\, PyL Inmobiliaria]\nFrancisco Izq
 uierdo [HA 1648\, iALTURA]\nComenta:&nbsp\;Antonio Lipthay\, jefe MPUR UC
 \n&nbsp\;\nCecilia Puga&nbsp\;\nEs arquitecta de la Pontificia Universidad
  Cat&oacute\;lica de Chile (1990) con estudios en Historia y Restauraci&oa
 cute\;n de Monumentos Arquitect&oacute\;nicos de la Sapienza Universit&agr
 ave\; de Roma\, becada por el Ministerio de Asuntos Externos de Italia (19
 871989). En el &aacute\;mbito acad&eacute\;mico\, ha sido profesora visita
 nte en la Universidad de Texas\, Austin (2007-2015)\, en el GSD de Harvard
  (2009) y en el BIAarch de Barcelona (2011)\, entre otros. Actualmente es 
 profesora en la ETH Z&uuml\;rich y en la Escuela de Arquitectura UC\, dond
 e dirige el taller de segundo a&ntilde\;o. En 2014 gan&oacute\; el concurs
 o internacional para el Palacio Pereira\, hoy en construcci&oacute\;n\, y 
 entre sus &uacute\;ltimos proyectos est&aacute\;n el Terminal Internaciona
 l de Pasajeros de Magallanes y el dise&ntilde\;o de infraestructura para u
 so p&uacute\;blico en el Parque Nacional Queulat en la Patagonia.\n&nbsp\;
 \nFrancisco Izquierdo\nEs arquitecto de la Pontificia Universidad Cat&oacu
 te\;lica de Chile (2006) y Master in Architecture II del GSD de Harvard (2
 012)\, donde fue profesor asistente e investigador asociado del Research A
 dvanced Initiative. Luego de trabajar en la oficina Rick Joy Architects\, 
 funda Francisco Izquierdo Arquitectos con obras como la bodega de vinos Ve
 ntolera\, el Colegio San Lucas y el Conjunto Urbano Gabriel Palma. Publica
 do en revistas como&nbsp\;Casabella\, Architectural Review y Summa\, adem&
 aacute\;s de libros como&nbsp\;Cantine del Secolo XXI(Mondadori\, 2011)\, 
 su trabajo ha sido expuesto en diferentes ediciones de la Bienal de Arquit
 ectura y Urbanismo de Chile (2010\, 2012 y 2017) y sus galardones incluyen
  el premio SUR-SUR y el Premio Aporte Urbano de 2017.\n&nbsp\;\nFecha_\nMa
 rtes 13 de octubre de 2018\, 19.00 h.\n&nbsp\;\nLugar_Auditorio FCV\, camp
 us Lo Contador. El Comendador 1936\, Providencia\n&nbsp\;\nOrganizan_Escue
 la de Arquitectura UCMagister en Arquitectura UC\nMagister en Proyecto Urb
 ano UC\niALTURA\n&nbsp\;\n\n&nbsp\;\nArquitectura UCContacto:&nbsp\;redesa
 rq@uc.cl&nbsp\;| +56 2 2354 7747www.arquitectura.uc.cl https://fadeu-old.u
 rantiacos.cl/agenda/evento/1741-ciclo-densidad-media-2-cecilia-puga-franci
 sco-izquierdo
DTSTART:20181113T220000Z
DTEND:20181113T230000Z
LOCATION:Auditorio Fernando Castillo Velasco. Edificio ARQ (El Comendador 1
 936\, Providencia\, Región Metropolitana\, Chile)
SUMMARY:Ciclo Densidad Media #2:  Cecilia Puga + Francisco Izquierdo
URL:https://fadeu-old.urantiacos.cl/agenda/evento/1741-ciclo-densidad-media
 -2-cecilia-puga-francisco-izquierdo
END:VEVENT
BEGIN:VEVENT
UID:20260420T124123UTC-61851ezvVt@https://fadeu-old.urantiacos.cl/
DTSTAMP:20260420T124123Z
DESCRIPTION:Conferencia 'Teaching and practicing architecture in Zagreb\, C
 roatia' a cargo de Petar Miskovic\, arquitecto croata con oficina en Zagre
 b y profesor asociado en la Facultad de Arquitectura de la Universidad de 
 Zagreb.&nbsp\;\n&nbsp\;\nLa charla consistir&aacute\; en una introducci&oa
 cute\;n a la Facultad de Arquitectura de la Universidad de Zagreb y sus cu
 rsos b&aacute\;sicos de dise&ntilde\;o arquitect&oacute\;nico\, seguida de
  la presentaci&oacute\;n de obras de Petar Miskovic.\n&nbsp\;\n&nbsp\;\nPe
 tar Miskovic\n&nbsp\;\nPetar Miskovic es arquitecto croata residente en Za
 greb y profesor en la Facultad de Arquitectura de la Universidad de Zagreb
 .Imparte cursos b&aacute\;sicos de dise&ntilde\;o arquitect&oacute\;nico y
  es mentor en estudios de licenciatura\, posgrado y tesis de maestr&iacute
 \;a.\nSu trabajo incluye proyectos experimentales a peque&ntilde\;a escala
 \, viviendas individuales y colectivas y edificios comunitarios. Petar Mis
 kovic es coautor del pabell&oacute\;n croata para la Bienal de Venecia de 
 2004 y el pabell&oacute\;n croata flotante de la Bienal de Venecia de 2010
 .\n&nbsp\;\n*La charla se dictar&aacute\; en ingl&eacute\;s\n&nbsp\;\nFech
 a_\nMartes 13 de noviembre de 2018\, 13.30 h.\n&nbsp\;\nLugar_\nAuditorio 
 FCV\, campus Lo Contador. El Comendador 1936\, Providencia&nbsp\;\n&nbsp\;
 \n&nbsp\;\nOrganiza_\nEscuela de Arquitectura UC&nbsp\;\n&nbsp\;\n\n&nbsp\
 ;\nNoticias\nContacto:&nbsp\;redesarq@uc.cl&nbsp\;| +56 2 2354 7747www.arq
 uitectura.uc.cl https://fadeu-old.urantiacos.cl/agenda/evento/1742-confere
 ncia-petar-miskovic
DTSTART:20181113T163000Z
DTEND:20181113T173000Z
LOCATION:Auditorio Fernando Castillo Velasco. Edificio ARQ (El Comendador 1
 936\, Providencia\, Región Metropolitana\, Chile)
SUMMARY:Conferencia Petar Miskovic
URL:https://fadeu-old.urantiacos.cl/agenda/evento/1742-conferencia-petar-mi
 skovic
END:VEVENT
END:VCALENDAR
